Workbook
Name _ftn1: 'Annex 4 QR '!#REF!
Name _ftn1: 'Annex 4 QR ofertes presenta (2'!#REF!
Name _ftn1: 'Annex 4 QR ofertes presentades'!#REF!
Name _ftnref1: 'Annex 4 QR '!#REF!
Name _ftnref1: 'Annex 4 QR ofertes presenta (2'!#REF!
Name _ftnref1: 'Annex 4 QR ofertes presentades'!#REF!

Sheet Annex 4 QR  
A6: ANNEX 4
A8: B. MODEL D’OFERTA ECONÒMICA PER LOTS
A10: En/na | L10: , amb NIF | O10: , en qualitat de
A12: i en nom i representació de la societat
A14: amb CIF | C14: i domiciliada a | K14: , segons escriptura pública autoritzada davant Notari/a
A16: en data | C16: i amb número de protocol | J16: , assabentat de l’anunci publicat en data | P16: en el perfil del contractant de
A17: l’Ajuntament de Sabadell i de les condicions i requisits que s’exigeixen per a l’adjudicació del contracte de serveis relatiu al Contracte "Contracte de Serveis de bugaderia per a la neteja i desinfecció de mantes i diferents peces de roba d’uniformitat de la Policia Municipal", concorre a aquest procediment i es compromet, en cas de ser seleccionada la seva oferta, a l’execució del contracte amb estricta subjecció al plec de clàusules administratives particulars, al plec de condicions tècniques particulars i la resta de documentació que forma part de la licitació.
A19: En relació als criteris d’avaluació objectiva que preveu el Plec de clàusules administratives particulars i el Quadre Resum (Annex 1) fa constar que l’oferta que licita és pels següents lots:
I21: Presenta Oferta[1]
C22: =+A26 -> LOT 1: Servei de bugaderia de mantes
C23: =+A52 -> LOT 2: Servei de bugaderia de peces de roba d’uniformitat
C24: [1] S’ha de marcar amb una “X” aquells lots als quals es presenti oferta.
A26: LOT 1: Servei de bugaderia de mantes
A27: Criteri d'adjudicació 1: Baixa econòmica
B29: Tipus | C29: Unitats estimades Totals (A) | D29: Preu unitari màxim de licitació sense IVA | E29: IVA 21% | F29: Preu unitari màxim de licitació amb IVA | G29: Import total sense IVA | H29: 21% IVA | I29: Import total amb IVA | K29: Preu unitari ofert € (sense IVA) (B) [2] | L29: Import Total € (sense IVA) (A) x (B) | M29: IVA (21%) | N29: Import Previst € (IVA inclòs)
B30: Mantes (70 punts) | C30: =450+450+450+450+250 -> 2050 | D30: 12 | E30: =+D30*0.21 -> 2.52 | F30: =+D30+E30 -> 14.52 | G30: =+D30*C30 -> 24600 | H30: =+G30*0.21 -> 5166 | I30: =+G30+H30 -> 29766 | L30: =C30*K30 -> 0 | M30: =L30*0.21 -> 0 | N30: =L30+M30 -> 0
B31: Import total | G31: =SUM(G30:G30) -> 24600 | H31: =SUM(H30:H30) -> 5166 | I31: =SUM(I30:I30) -> 29766 | K31: Import total oferta: | L31: =SUM(L30:L30) -> 0 | M31: =SUM(M30:M30) -> 0 | N31: =SUM(N30:N30) -> 0
K32: [2] A complimentar per part de l’empresa només a les cel·les marcades en groc.
A34: Criteri d'adjudicació 2: Reducció termini de lliurament (des de la petició del servei):
I36: Millora [3]
B37: Lliurament en menys de 7 dies (15 punts)
B38: Lliurament entre 7 dies i 10 dies (10 punts)
B39: Sense millora en el termini de lliurament (0 punts)
B40: [3] S’ha de marcar amb una “X” la reducció en termini del lliurament.
A43: Criteri d'adjudicació 3: Compromís de caràcter mediambiental
I45: Aporta [4]
B46: Compromís de que tots els vehicles aportats al servei tinguin el distintiu ambiental de la DGT Zero emissions (etiqueta blava o equivalent) (15 punts) La NO aportació de les fitxes tècniques acreditatives comporta la no valoració del Criteri 3, i la valoració serà de 0 punts.
B47: [4] S’ha de marcar amb una “X” si es compromet.
A52: LOT 2: Servei de bugaderia de peces de roba d’uniformitat
A53: =+A27 -> Criteri d'adjudicació 1: Baixa econòmica
B55: Tipus | C55: Unitats estimades Totals (A) | D55: Preu unitari màxim de licitació sense IVA | E55: IVA 21% | F55: Preu unitari màxim de licitació amb IVA | G55: Import total sense IVA | H55: 21% IVA | I55: Import total amb IVA | K55: Preu unitari ofert € (sense IVA) (B) | L55: Import Total € (sense IVA) (A) x (B) | M55: IVA (21%) | N55: Import Previst € (IVA inclòs)
B56: Anorac / caçadora tallavent (20 punts) | C56: =30+30+30+30+15 -> 135 | D56: 15 | E56: =+D56*0.21 -> 3.15 | F56: =+D56+E56 -> 18.15 | G56: =+D56*C56 -> 2025 | H56: =+G56*0.21 -> 425.25 | I56: =+G56+H56 -> 2450.25 | L56: =C56*K56 -> 0 | M56: =L56*0.21 -> 0 | N56: =L56+M56 -> 0
B57: Levites / jaqueta (30 punts) | C57: =30+30+30+30+15 -> 135 | D57: 30 | E57: =+D57*0.21 -> 6.3 | F57: =+D57+E57 -> 36.3 | G57: =+D57*C57 -> 4050 | H57: =+G57*0.21 -> 850.5 | I57: =+G57+H57 -> 4900.5 | L57: =C57*K57 -> 0 | M57: =L57*0.21 -> 0 | N57: =L57+M57 -> 0
B58: Pantaló de representació (20 punts) | C58: =30+30+30+30+15 -> 135 | D58: 15 | E58: =+D58*0.21 -> 3.15 | F58: =+D58+E58 -> 18.15 | G58: =+D58*C58 -> 2025 | H58: =+G58*0.21 -> 425.25 | I58: =+G58+H58 -> 2450.25 | L58: =C58*K58 -> 0 | M58: =L58*0.21 -> 0 | N58: =L58+M58 -> 0
B59: Import total | G59: =SUM(G56:G58) -> 8100 | H59: =SUM(H56:H58) -> 1701 | I59: =SUM(I56:I58) -> 9801 | K59: Import total oferta: | L59: =SUM(L56:L58) -> 0 | M59: =SUM(M56:M58) -> 0 | N59: =SUM(N56:N58) -> 0
K60: [2] A complimentar per part de l’empresa només a les cel·les marcades en groc.
A62: Criteri d'adjudicació 2: Reducció termini de lliurament (des de la petició del servei):
I64: Millora [3]
B65: Lliurament en menys de 7 dies (15 punts)
B66: Lliurament entre 7 dies i 10 dies (10 punts)
...

Sheet Annex 4 QR ofertes presentades
K3: En aquest full d'excel es complimentaran les dades que han presentat les diferents empreses a l'annex 4
A6: ANNEX 4
N8: EMPRESA A | S8: EMPRESA b | X8: EMPRESA c | AC8: EMPRESA d | AH8: EMPRESA e
N10: Presenta Oferta[1] | S10: Presenta Oferta[1] | X10: Presenta Oferta[1] | AC10: Presenta Oferta[1] | AH10: Presenta Oferta[1]
K11: =+$A$16 -> LOT 1: Servei de bugaderia de mantes | P11: =+$A$16 -> LOT 1: Servei de bugaderia de mantes | U11: =+$A$16 -> LOT 1: Servei de bugaderia de mantes | Z11: =+$A$16 -> LOT 1: Servei de bugaderia de mantes | AE11: =+$A$16 -> LOT 1: Servei de bugaderia de mantes
K12: =+$A$26 -> LOT 2: Servei de bugaderia de peces de roba d’uniformitat | P12: =+$A$26 -> LOT 2: Servei de bugaderia de peces de roba d’uniformitat | U12: =+$A$26 -> LOT 2: Servei de bugaderia de peces de roba d’uniformitat | Z12: =+$A$26 -> LOT 2: Servei de bugaderia de peces de roba d’uniformitat | AE12: =+$A$26 -> LOT 2: Servei de bugaderia de peces de roba d’uniformitat
K13: =+$A$34 -> #REF! | P13: =+$A$34 -> #REF! | U13: =+$A$34 -> #REF! | Z13: =+$A$34 -> #REF! | AE13: =+$A$34 -> #REF!
H14: [1] S’ha de marcar amb una “X” aquells lots als quals es presenti oferta.
A16: =+'Annex 4 QR '!A26 -> LOT 1: Servei de bugaderia de mantes
A17: =+'Annex 4 QR '!A27 -> Criteri d'adjudicació 1: Baixa econòmica
B19: =+'Annex 4 QR '!B29 -> Tipus | C19: =+'Annex 4 QR '!C29 -> Unitats estimades Totals (A) | D19: =+'Annex 4 QR '!D29 -> Preu unitari màxim de licitació sense IVA | E19: =+'Annex 4 QR '!E29 -> IVA 21% | F19: =+'Annex 4 QR '!F29 -> Preu unitari màxim de licitació amb IVA | G19: =+'Annex 4 QR '!G29 -> Import total sense IVA | H19: =+'Annex 4 QR '!H29 -> 21% IVA | I19: =+'Annex 4 QR '!I29 -> Import total amb IVA | K19: Preu unitari ofert € (sense IVA) (B) | L19: Import Total € (sense IVA) (A) x (B) | M19: IVA (21%) | N19: Import Previst € (IVA inclòs) | P19: Preu unitari ofert € (sense IVA) (B) | Q19: Import Total € (sense IVA) (A) x (B) | R19: IVA (21%) | S19: Import Previst € (IVA inclòs) | U19: Preu unitari ofert € (sense IVA) (B) | V19: Import Total € (sense IVA) (A) x (B) | W19: IVA (21%) | X19: Import Previst € (IVA inclòs) | Z19: Preu unitari ofert € (sense IVA) (B) | AA19: Import Total € (sense IVA) (A) x (B) | AB19: IVA (21%) | AC19: Import Previst € (IVA inclòs) | AE19: Preu unitari ofert € (sense IVA) (B) | AF19: Import Total € (sense IVA) (A) x (B) | AG19: IVA (21%) | AH19: Import Previst € (IVA inclòs)
B20: =+'Annex 4 QR '!B30 -> Mantes (70 punts) | C20: =+'Annex 4 QR '!C30 -> 2050 | D20: =+'Annex 4 QR '!D30 -> 12 | E20: =+'Annex 4 QR '!E30 -> 2.52 | F20: =+'Annex 4 QR '!F30 -> 14.52 | G20: =+'Annex 4 QR '!G30 -> 24600 | H20: =+'Annex 4 QR '!H30 -> 5166 | I20: =+'Annex 4 QR '!I30 -> 29766 | L20: =$C20*K20 -> 0 | M20: =L20*0.21 -> 0 | N20: =L20+M20 -> 0 | Q20: =$C20*P20 -> 0 | R20: =Q20*0.21 -> 0 | S20: =Q20+R20 -> 0 | V20: =$C20*U20 -> 0 | W20: =V20*0.21 -> 0 | X20: =V20+W20 -> 0 | AA20: =$C20*Z20 -> 0 | AB20: =AA20*0.21 -> 0 | AC20: =AA20+AB20 -> 0 | AF20: =$C20*AE20 -> 0 | AG20: =AF20*0.21 -> 0 | AH20: =AF20+AG20 -> 0
B21: =+'Annex 4 QR '!#REF! -> #REF! | C21: =+'Annex 4 QR '!#REF! -> #REF! | D21: =+'Annex 4 QR '!#REF! -> #REF! | E21: =+'Annex 4 QR '!#REF! -> #REF! | F21: =+'Annex 4 QR '!#REF! -> #REF! | G21: =+'Annex 4 QR '!#REF! -> #REF! | H21: =+'Annex 4 QR '!#REF! -> #REF! | I21: =+'Annex 4 QR '!#REF! -> #REF! | L21: =$C21*K21 -> #REF! | M21: =L21*0.21 -> #REF! | N21: =L21+M21 -> #REF! | Q21: =$C21*P21 -> #REF! | R21: =Q21*0.21 -> #REF! | S21: =Q21+R21 -> #REF! | V21: =$C21*U21 -> #REF! | W21: =V21*0.21 -> #REF! | X21: =V21+W21 -> #REF! | AA21: =$C21*Z21 -> #REF! | AB21: =AA21*0.21 -> #REF! | AC21: =AA21+AB21 -> #REF! | AF21: =$C21*AE21 -> #REF! | AG21: =AF21*0.21 -> #REF! | AH21: =AF21+AG21 -> #REF!
B22: =+'Annex 4 QR '!#REF! -> #REF! | C22: =+'Annex 4 QR '!#REF! -> #REF! | D22: =+'Annex 4 QR '!#REF! -> #REF! | E22: =+'Annex 4 QR '!#REF! -> #REF! | F22: =+'Annex 4 QR '!#REF! -> #REF! | G22: =+'Annex 4 QR '!#REF! -> #REF! | H22: =+'Annex 4 QR '!#REF! -> #REF! | I22: =+'Annex 4 QR '!#REF! -> #REF! | L22: =$C22*K22 -> #REF! | M22: =L22*0.21 -> #REF! | N22: =L22+M22 -> #REF! | Q22: =$C22*P22 -> #REF! | R22: =Q22*0.21 -> #REF! | S22: =Q22+R22 -> #REF! | V22: =$C22*U22 -> #REF! | W22: =V22*0.21 -> #REF! | X22: =V22+W22 -> #REF! | AA22: =$C22*Z22 -> #REF! | AB22: =AA22*0.21 -> #REF! | AC22: =AA22+AB22 -> #REF! | AF22: =$C22*AE22 -> #REF! | AG22: =AF22*0.21 -> #REF! | AH22: =AF22+AG22 -> #REF!
B23: =+'Annex 4 QR '!B31 -> Import total | C23: =+'Annex 4 QR '!C31 -> 0 | D23: =+'Annex 4 QR '!D31 -> 0 | E23: =+'Annex 4 QR '!E31 -> 0 | F23: =+'Annex 4 QR '!F31 -> 0 | G23: =+'Annex 4 QR '!G31 -> 24600 | H23: =+'Annex 4 QR '!H31 -> 5166 | I23: =+'Annex 4 QR '!I31 -> 29766 | K23: Import total oferta: | L23: =SUM(L20:L22) -> #REF! | M23: =SUM(M20:M22) -> #REF! | N23: =SUM(N20:N22) -> #REF! | P23: Import total oferta: | Q23: =SUM(Q20:Q22) -> #REF! | R23: =SUM(R20:R22) -> #REF! | S23: =SUM(S20:S22) -> #REF! | U23: Import total oferta: | V23: =SUM(V20:V22) -> #REF! | W23: =SUM(W20:W22) -> #REF! | X23: =SUM(X20:X22) -> #REF! | Z23: Import total oferta: | AA23: =SUM(AA20:AA22) -> #REF! | AB23: =SUM(AB20:AB22) -> #REF! | AC23: =SUM(AC20:AC22) -> #REF! | AE23: Import total oferta: | AF23: =SUM(AF20:AF22) -> #REF! | AG23: =SUM(AG20:AG22) -> #REF! | AH23: =SUM(AH20:AH22) -> #REF!
A26: =+'Annex 4 QR '!A52 -> LOT 2: Servei de bugaderia de peces de roba d’uniformitat
A27: =+'Annex 4 QR '!A53 -> Criteri d'adjudicació 1: Baixa econòmica
B29: =+'Annex 4 QR '!B55 -> Tipus | C29: =+'Annex 4 QR '!C55 -> Unitats estimades Totals (A) | D29: =+'Annex 4 QR '!D55 -> Preu unitari màxim de licitació sense IVA | E29: =+'Annex 4 QR '!E55 -> IVA 21% | F29: =+'Annex 4 QR '!F55 -> Preu unitari màxim de licitació amb IVA | G29: =+'Annex 4 QR '!G55 -> Import total sense IVA | H29: =+'Annex 4 QR '!H55 -> 21% IVA | I29: =+'Annex 4 QR '!I55 -> Import total amb IVA | K29: Preu unitari ofert € (sense IVA) (B) | L29: Import Total € (sense IVA) (A) x (B) | M29: IVA (21%) | N29: Import Previst € (IVA inclòs) | P29: Preu unitari ofert € (sense IVA) (B) | Q29: Import Total € (sense IVA) (A) x (B) | R29: IVA (21%) | S29: Import Previst € (IVA inclòs) | U29: Preu unitari ofert € (sense IVA) (B) | V29: Import Total € (sense IVA) (A) x (B) | W29: IVA (21%) | X29: Import Previst € (IVA inclòs) | Z29: Preu unitari ofert € (sense IVA) (B) | AA29: Import Total € (sense IVA) (A) x (B) | AB29: IVA (21%) | AC29: Import Previst € (IVA inclòs) | AE29: Preu unitari ofert € (sense IVA) (B) | AF29: Import Total € (sense IVA) (A) x (B) | AG29: IVA (21%) | AH29: Import Previst € (IVA inclòs)
B30: =+'Annex 4 QR '!B58 -> Pantaló de representació (20 punts) | C30: =+'Annex 4 QR '!C58 -> 135 | D30: =+'Annex 4 QR '!D58 -> 15 | E30: =+'Annex 4 QR '!E58 -> 3.15 | F30: =+'Annex 4 QR '!F58 -> 18.15 | G30: =+'Annex 4 QR '!G58 -> 2025 | H30: =+'Annex 4 QR '!H58 -> 425.25 | I30: =+'Annex 4 QR '!I58 -> 2450.25 | L30: =$C30*K30 -> 0 | M30: =L30*0.21 -> 0 | N30: =L30+M30 -> 0 | Q30: =$C30*P30 -> 0 | R30: =Q30*0.21 -> 0 | S30: =Q30+R30 -> 0 | V30: =$C30*U30 -> 0 | W30: =V30*0.21 -> 0 | X30: =V30+W30 -> 0 | AA30: =$C30*Z30 -> 0 | AB30: =AA30*0.21 -> 0 | AC30: =AA30+AB30 -> 0 | AF30: =$C30*AE30 -> 0 | AG30: =AF30*0.21 -> 0 | AH30: =AF30+AG30 -> 0
B31: =+'Annex 4 QR '!B59 -> Import total | C31: =+'Annex 4 QR '!C59 -> 0 | D31: =+'Annex 4 QR '!D59 -> 0 | E31: =+'Annex 4 QR '!E59 -> 0 | F31: =+'Annex 4 QR '!F59 -> 0 | G31: =+'Annex 4 QR '!G59 -> 8100 | H31: =+'Annex 4 QR '!H59 -> 1701 | I31: =+'Annex 4 QR '!I59 -> 9801 | K31: Import total oferta: | L31: =SUM(L30:L30) -> 0 | M31: =SUM(M30:M30) -> 0 | N31: =SUM(N30:N30) -> 0 | P31: Import total oferta: | Q31: =SUM(Q30:Q30) -> 0 | R31: =SUM(R30:R30) -> 0 | S31: =SUM(S30:S30) -> 0 | U31: Import total oferta: | V31: =SUM(V30:V30) -> 0 | W31: =SUM(W30:W30) -> 0 | X31: =SUM(X30:X30) -> 0 | Z31: Import total oferta: | AA31: =SUM(AA30:AA30) -> 0 | AB31: =SUM(AB30:AB30) -> 0 | AC31: =SUM(AC30:AC30) -> 0 | AE31: Import total oferta: | AF31: =SUM(AF30:AF30) -> 0 | AG31: =SUM(AG30:AG30) -> 0 | AH31: =SUM(AH30:AH30) -> 0
A34: =+'Annex 4 QR '!#REF! -> #REF!
A35: =+'Annex 4 QR '!#REF! -> #REF!
B37: =+'Annex 4 QR '!#REF! -> #REF! | C37: =+'Annex 4 QR '!#REF! -> #REF! | D37: =+'Annex 4 QR '!#REF! -> #REF! | E37: =+'Annex 4 QR '!#REF! -> #REF! | F37: =+'Annex 4 QR '!#REF! -> #REF! | G37: =+'Annex 4 QR '!#REF! -> #REF! | H37: =+'Annex 4 QR '!#REF! -> #REF! | I37: =+'Annex 4 QR '!#REF! -> #REF! | K37: Preu unitari ofert € (sense IVA) (B) | L37: Import Total € (sense IVA) (A) x (B) | M37: IVA (21%) | N37: Import Previst € (IVA inclòs) | P37: Preu unitari ofert € (sense IVA) (B) | Q37: Import Total € (sense IVA) (A) x (B) | R37: IVA (21%) | S37: Import Previst € (IVA inclòs) | U37: Preu unitari ofert € (sense IVA) (B) | V37: Import Total € (sense IVA) (A) x (B) | W37: IVA (21%) | X37: Import Previst € (IVA inclòs) | Z37: Preu unitari ofert € (sense IVA) (B) | AA37: Import Total € (sense IVA) (A) x (B) | AB37: IVA (21%) | AC37: Import Previst € (IVA inclòs) | AE37: Preu unitari ofert € (sense IVA) (B) | AF37: Import Total € (sense IVA) (A) x (B) | AG37: IVA (21%) | AH37: Import Previst € (IVA inclòs)
B38: =+'Annex 4 QR '!#REF! -> #REF! | C38: =+'Annex 4 QR '!#REF! -> #REF! | D38: =+'Annex 4 QR '!#REF! -> #REF! | E38: =+'Annex 4 QR '!#REF! -> #REF! | F38: =+'Annex 4 QR '!#REF! -> #REF! | G38: =+'Annex 4 QR '!#REF! -> #REF! | H38: =+'Annex 4 QR '!#REF! -> #REF! | I38: =+'Annex 4 QR '!#REF! -> #REF! | L38: =$C38*K38 -> #REF! | M38: =L38*0.21 -> #REF! | N38: =L38+M38 -> #REF! | Q38: =$C38*P38 -> #REF! | R38: =Q38*0.21 -> #REF! | S38: =Q38+R38 -> #REF! | V38: =$C38*U38 -> #REF! | W38: =V38*0.21 -> #REF! | X38: =V38+W38 -> #REF! | AA38: =$C38*Z38 -> #REF! | AB38: =AA38*0.21 -> #REF! | AC38: =AA38+AB38 -> #REF! | AF38: =$C38*AE38 -> #REF! | AG38: =AF38*0.21 -> #REF! | AH38: =AF38+AG38 -> #REF!
B39: =+'Annex 4 QR '!#REF! -> #REF! | C39: =+'Annex 4 QR '!#REF! -> #REF! | D39: =+'Annex 4 QR '!#REF! -> #REF! | E39: =+'Annex 4 QR '!#REF! -> #REF! | F39: =+'Annex 4 QR '!#REF! -> #REF! | G39: =+'Annex 4 QR '!#REF! -> #REF! | H39: =+'Annex 4 QR '!#REF! -> #REF! | I39: =+'Annex 4 QR '!#REF! -> #REF! | K39: Import total oferta: | L39: =SUM(L38:L38) -> #REF! | M39: =SUM(M38:M38) -> #REF! | N39: =SUM(N38:N38) -> #REF! | P39: Import total oferta: | Q39: =SUM(Q38:Q38) -> #REF! | R39: =SUM(R38:R38) -> #REF! | S39: =SUM(S38:S38) -> #REF! | U39: Import total oferta: | V39: =SUM(V38:V38) -> #REF! | W39: =SUM(W38:W38) -> #REF! | X39: =SUM(X38:X38) -> #REF! | Z39: Import total oferta: | AA39: =SUM(AA38:AA38) -> #REF! | AB39: =SUM(AB38:AB38) -> #REF! | AC39: =SUM(AC38:AC38) -> #REF! | AE39: Import total oferta: | AF39: =SUM(AF38:AF38) -> #REF! | AG39: =SUM(AG38:AG38) -> #REF! | AH39: =SUM(AH38:AH38) -> #REF!

Sheet Annex 4 QR ofertes presenta (2
AF3: En aquest full d'excel es recuperen automàticament les dades de les ofertes presentades per fer el càlcul corresponent. PO = PM x (1- (OL – OMB)/(PML-OMB)) PO: punts obtinguts per a cada preu unitari. PM: puntuació màxima per a cada preu unitari OL: oferta de preu del licitador OMB: oferta de preu més baixa PML: preu unitari màxim de licitació
A6: ANNEX 4
N8: =+'Annex 4 QR ofertes presentades'!N8 -> EMPRESA A | S8: =+'Annex 4 QR ofertes presentades'!S8 -> EMPRESA b | X8: =+'Annex 4 QR ofertes presentades'!X8 -> EMPRESA c | AC8: =+'Annex 4 QR ofertes presentades'!AC8 -> EMPRESA d
N10: Presenta Oferta[1] | S10: Presenta Oferta[1] | X10: Presenta Oferta[1] | AC10: Presenta Oferta[1]
K11: =+$A$16 -> LOT 1: Servei de bugaderia de mantes | N11: =+'Annex 4 QR ofertes presentades'!N11 -> 0 | P11: =+$A$16 -> LOT 1: Servei de bugaderia de mantes | S11: =+'Annex 4 QR ofertes presentades'!S11 -> 0 | U11: =+$A$16 -> LOT 1: Servei de bugaderia de mantes | X11: =+'Annex 4 QR ofertes presentades'!X11 -> 0 | Z11: =+$A$16 -> LOT 1: Servei de bugaderia de mantes | AC11: =+'Annex 4 QR ofertes presentades'!AC11 -> 0
K12: =+$A$26 -> LOT 2: Servei de bugaderia de peces de roba d’uniformitat | N12: =+'Annex 4 QR ofertes presentades'!N12 -> 0 | P12: =+$A$26 -> LOT 2: Servei de bugaderia de peces de roba d’uniformitat | S12: =+'Annex 4 QR ofertes presentades'!S12 -> 0 | U12: =+$A$26 -> LOT 2: Servei de bugaderia de peces de roba d’uniformitat | X12: =+'Annex 4 QR ofertes presentades'!X12 -> 0 | Z12: =+$A$26 -> LOT 2: Servei de bugaderia de peces de roba d’uniformitat | AC12: =+'Annex 4 QR ofertes presentades'!AC12 -> 0
K13: =+$A$34 | N13: =+'Annex 4 QR ofertes presentades'!N13 -> 0 | P13: =+$A$34 | S13: =+'Annex 4 QR ofertes presentades'!S13 -> 0 | U13: =+$A$34 | X13: =+'Annex 4 QR ofertes presentades'!X13 -> 0 | Z13: =+$A$34 | AC13: =+'Annex 4 QR ofertes presentades'!AC13 -> 0
A16: =IFERROR(+'Annex 4 QR ofertes presentades'!A16,"") -> LOT 1: Servei de bugaderia de mantes | AF16: =+A16 -> LOT 1: Servei de bugaderia de mantes
A17: =IFERROR(+'Annex 4 QR ofertes presentades'!A17,"") -> Criteri d'adjudicació 1: Baixa econòmica | AF17: =+A17 -> Criteri d'adjudicació 1: Baixa econòmica
AJ18: =+$N$8 -> EMPRESA A | AL18: =+$S$8 -> EMPRESA b | AN18: =+$X$8 -> EMPRESA c | AP18: =+$AC$8 -> EMPRESA d
A19: =IFERROR(+'Annex 4 QR ofertes presentades'!A19,"") -> 0 | B19: =IFERROR(+'Annex 4 QR ofertes presentades'!B19,"") -> Tipus | C19: =IFERROR(+'Annex 4 QR ofertes presentades'!C19,"") -> Unitats estimades Totals (A) | D19: =IFERROR(+'Annex 4 QR ofertes presentades'!D19,"") -> Preu unitari màxim de licitació sense IVA | E19: =IFERROR(+'Annex 4 QR ofertes presentades'!E19,"") -> IVA 21% | F19: =IFERROR(+'Annex 4 QR ofertes presentades'!F19,"") -> Preu unitari màxim de licitació amb IVA | G19: =IFERROR(+'Annex 4 QR ofertes presentades'!G19,"") -> Import total sense IVA | H19: =IFERROR(+'Annex 4 QR ofertes presentades'!H19,"") -> 21% IVA | I19: =IFERROR(+'Annex 4 QR ofertes presentades'!I19,"") -> Import total amb IVA | K19: Preu unitari ofert € (sense IVA) (B) | L19: Import Total € (sense IVA) (A) x (B) | M19: IVA (21%) | N19: Import Previst € (IVA inclòs) | P19: Preu unitari ofert € (sense IVA) (B) | Q19: Import Total € (sense IVA) (A) x (B) | R19: IVA (21%) | S19: Import Previst € (IVA inclòs) | U19: Preu unitari ofert € (sense IVA) (B) | V19: Import Total € (sense IVA) (A) x (B) | W19: IVA (21%) | X19: Import Previst € (IVA inclòs) | Z19: Preu unitari ofert € (sense IVA) (B) | AA19: Import Total € (sense IVA) (A) x (B) | AB19: IVA (21%) | AC19: Import Previst € (IVA inclòs) | AF19: =+B19 -> Tipus | AG19: =+C19 -> Unitats estimades Totals (A) | AH19: =+D19 -> Preu unitari màxim de licitació sense IVA | AI19: PM | AJ19: preu unitari OL | AK19: puntuació PO | AL19: preu unitari OL | AM19: puntuació PO | AN19: preu unitari OL | AO19: puntuació PO | AP19: preu unitari OL | AQ19: puntuació PO | AR19: OMB
A20: =IFERROR(+'Annex 4 QR ofertes presentades'!A20,"") -> 0 | B20: =IFERROR(+'Annex 4 QR ofertes presentades'!B20,"") -> Mantes (70 punts) | C20: =IFERROR(+'Annex 4 QR ofertes presentades'!C20,"") -> 2050 | D20: =IFERROR(+'Annex 4 QR ofertes presentades'!D20,"") -> 12 | E20: =IFERROR(+'Annex 4 QR ofertes presentades'!E20,"") -> 2.52 | F20: =IFERROR(+'Annex 4 QR ofertes presentades'!F20,"") -> 14.52 | G20: =IFERROR(+'Annex 4 QR ofertes presentades'!G20,"") -> 24600 | H20: =IFERROR(+'Annex 4 QR ofertes presentades'!H20,"") -> 5166 | I20: =IFERROR(+'Annex 4 QR ofertes presentades'!I20,"") -> 29766 | K20: =+'Annex 4 QR ofertes presentades'!K20 -> 0 | L20: =$C20*K20 -> 0 | M20: =L20*0.21 -> 0 | N20: =L20+M20 -> 0 | P20: =+'Annex 4 QR ofertes presentades'!P20 -> 0 | Q20: =$C20*P20 -> 0 | R20: =Q20*0.21 -> 0 | S20: =Q20+R20 -> 0 | U20: =+'Annex 4 QR ofertes presentades'!U20 -> 0 | V20: =$C20*U20 -> 0 | W20: =V20*0.21 -> 0 | X20: =V20+W20 -> 0 | Z20: =+'Annex 4 QR ofertes presentades'!Z20 -> 0 | AA20: =$C20*Z20 -> 0 | AB20: =AA20*0.21 -> 0 | AC20: =AA20+AB20 -> 0 | AF20: =+B20 -> Mantes (70 punts) | AG20: =+C20 -> 2050 | AH20: =+D20 -> 12 | AI20: 51 | AJ20: =+K20 -> 0 | AK20: =+$AI20*(1-(AJ20-$AR20)/($AH20-$AR20)) -> 51 | AL20: =+P20 -> 0 | AM20: =+$AI20*(1-(AL20-$AR20)/($AH20-$AR20)) -> 51 | AN20: =+U20 -> 0 | AO20: =+$AI20*(1-(AN20-$AR20)/($AH20-$AR20)) -> 51 | AP20: =+Z20 -> 0 | AQ20: =+$AI20*(1-(AP20-$AR20)/($AH20-$AR20)) -> 51 | AR20: =+MIN(AJ20,AL20,AN20,AP20) -> 0
A21: =IFERROR(+'Annex 4 QR ofertes presentades'!A21,"") -> 0 | B21: =IFERROR(+'Annex 4 QR ofertes presentades'!B21,"") | C21: =IFERROR(+'Annex 4 QR ofertes presentades'!C21,"") | D21: =IFERROR(+'Annex 4 QR ofertes presentades'!D21,"") | E21: =IFERROR(+'Annex 4 QR ofertes presentades'!E21,"") | F21: =IFERROR(+'Annex 4 QR ofertes presentades'!F21,"") | G21: =IFERROR(+'Annex 4 QR ofertes presentades'!G21,"") | H21: =IFERROR(+'Annex 4 QR ofertes presentades'!H21,"") | I21: =IFERROR(+'Annex 4 QR ofertes presentades'!I21,"") | K21: =+'Annex 4 QR ofertes presentades'!K21 -> 0 | L21: =$C21*K21 -> #VALUE! | M21: =L21*0.21 -> #VALUE! | N21: =L21+M21 -> #VALUE! | P21: =+'Annex 4 QR ofertes presentades'!P21 -> 0 | Q21: =$C21*P21 -> #VALUE! | R21: =Q21*0.21 -> #VALUE! | S21: =Q21+R21 -> #VALUE! | U21: =+'Annex 4 QR ofertes presentades'!U21 -> 0 | V21: =$C21*U21 -> #VALUE! | W21: =V21*0.21 -> #VALUE! | X21: =V21+W21 -> #VALUE! | Z21: =+'Annex 4 QR ofertes presentades'!Z21 -> 0 | AA21: =$C21*Z21 -> #VALUE! | AB21: =AA21*0.21 -> #VALUE! | AC21: =AA21+AB21 -> #VALUE! | AF21: Polos M/C | AG21: 805 | AH21: 61 | AI21: 24 | AJ21: =+K21 -> 0 | AK21: =+$AI21*(1-(AJ21-$AR21)/($AH21-$AR21)) -> 24 | AL21: =+P21 -> 0 | AM21: =+$AI21*(1-(AL21-$AR21)/($AH21-$AR21)) -> 24 | AN21: =+U21 -> 0 | AO21: =+$AI21*(1-(AN21-$AR21)/($AH21-$AR21)) -> 24 | AP21: =+Z21 -> 0 | AQ21: =+$AI21*(1-(AP21-$AR21)/($AH21-$AR21)) -> 24 | AR21: =+MIN(AJ21,AL21,AN21,AP21) -> 0
A22: =IFERROR(+'Annex 4 QR ofertes presentades'!A22,"") -> 0 | B22: =IFERROR(+'Annex 4 QR ofertes presentades'!B22,"") | C22: =IFERROR(+'Annex 4 QR ofertes presentades'!C22,"") | D22: =IFERROR(+'Annex 4 QR ofertes presentades'!D22,"") | E22: =IFERROR(+'Annex 4 QR ofertes presentades'!E22,"") | F22: =IFERROR(+'Annex 4 QR ofertes presentades'!F22,"") | G22: =IFERROR(+'Annex 4 QR ofertes presentades'!G22,"") | H22: =IFERROR(+'Annex 4 QR ofertes presentades'!H22,"") | I22: =IFERROR(+'Annex 4 QR ofertes presentades'!I22,"") | K22: =+'Annex 4 QR ofertes presentades'!K22 -> 0 | L22: =$C22*K22 -> #VALUE! | M22: =L22*0.21 -> #VALUE! | N22: =L22+M22 -> #VALUE! | P22: =+'Annex 4 QR ofertes presentades'!P22 -> 0 | Q22: =$C22*P22 -> #VALUE! | R22: =Q22*0.21 -> #VALUE! | S22: =Q22+R22 -> #VALUE! | U22: =+'Annex 4 QR ofertes presentades'!U22 -> 0 | V22: =$C22*U22 -> #VALUE! | W22: =V22*0.21 -> #VALUE! | X22: =V22+W22 -> #VALUE! | Z22: =+'Annex 4 QR ofertes presentades'!Z22 -> 0 | AA22: =$C22*Z22 -> #VALUE! | AB22: =AA22*0.21 -> #VALUE! | AC22: =AA22+AB22 -> #VALUE! | AF22: Polos MLL | AG22: 775 | AH22: 66 | AI22: 25 | AJ22: =+K22 -> 0 | AK22: =+$AI22*(1-(AJ22-$AR22)/($AH22-$AR22)) -> 25 | AL22: =+P22 -> 0 | AM22: =+$AI22*(1-(AL22-$AR22)/($AH22-$AR22)) -> 25 | AN22: =+U22 -> 0 | AO22: =+$AI22*(1-(AN22-$AR22)/($AH22-$AR22)) -> 25 | AP22: =+Z22 -> 0 | AQ22: =+$AI22*(1-(AP22-$AR22)/($AH22-$AR22)) -> 25 | AR22: =+MIN(AJ22,AL22,AN22,AP22) -> 0
A23: =IFERROR(+'Annex 4 QR ofertes presentades'!A23,"") -> 0 | B23: =IFERROR(+'Annex 4 QR ofertes presentades'!B23,"") -> Import total | C23: =IFERROR(+'Annex 4 QR ofertes presentades'!C23,"") -> 0 | D23: =IFERROR(+'Annex 4 QR ofertes presentades'!D23,"") -> 0 | E23: =IFERROR(+'Annex 4 QR ofertes presentades'!E23,"") -> 0 | F23: =IFERROR(+'Annex 4 QR ofertes presentades'!F23,"") -> 0 | G23: =IFERROR(+'Annex 4 QR ofertes presentades'!G23,"") -> 24600 | H23: =IFERROR(+'Annex 4 QR ofertes presentades'!H23,"") -> 5166 | I23: =IFERROR(+'Annex 4 QR ofertes presentades'!I23,"") -> 29766 | K23: Import total oferta: | L23: =SUM(L20:L22) -> #VALUE! | M23: =SUM(M20:M22) -> #VALUE! | N23: =SUM(N20:N22) -> #VALUE! | P23: Import total oferta: | Q23: =SUM(Q20:Q22) -> #VALUE! | R23: =SUM(R20:R22) -> #VALUE! | S23: =SUM(S20:S22) -> #VALUE! | U23: Import total oferta: | V23: =SUM(V20:V22) -> #VALUE! | W23: =SUM(W20:W22) -> #VALUE! | X23: =SUM(X20:X22) -> #VALUE! | Z23: Import total oferta: | AA23: =SUM(AA20:AA22) -> #VALUE! | AB23: =SUM(AB20:AB22) -> #VALUE! | AC23: =SUM(AC20:AC22) -> #VALUE! | AF23: Puntuació | AI23: 15 | AK23: =SUM(AK20:AK22) -> 100 | AM23: =SUM(AM20:AM22) -> 100 | AO23: =SUM(AO20:AO22) -> 100 | AQ23: =SUM(AQ20:AQ22) -> 100 | AR23: =+MIN(AJ23,AL23,AN23,AP23) -> 0
A26: =IFERROR(+'Annex 4 QR ofertes presentades'!A26,"") -> LOT 2: Servei de bugaderia de peces de roba d’uniformitat | AF26: =+A26 -> LOT 2: Servei de bugaderia de peces de roba d’uniformitat
A27: =IFERROR(+'Annex 4 QR ofertes presentades'!A27,"") -> Criteri d'adjudicació 1: Baixa econòmica | AF27: =+A27 -> Criteri d'adjudicació 1: Baixa econòmica
A29: =IFERROR(+'Annex 4 QR ofertes presentades'!A29,"") -> 0 | B29: =IFERROR(+'Annex 4 QR ofertes presentades'!B29,"") -> Tipus | C29: =IFERROR(+'Annex 4 QR ofertes presentades'!C29,"") -> Unitats estimades Totals (A) | D29: =IFERROR(+'Annex 4 QR ofertes presentades'!D29,"") -> Preu unitari màxim de licitació sense IVA | E29: =IFERROR(+'Annex 4 QR ofertes presentades'!E29,"") -> IVA 21% | F29: =IFERROR(+'Annex 4 QR ofertes presentades'!F29,"") -> Preu unitari màxim de licitació amb IVA | G29: =IFERROR(+'Annex 4 QR ofertes presentades'!G29,"") -> Import total sense IVA | H29: =IFERROR(+'Annex 4 QR ofertes presentades'!H29,"") -> 21% IVA | I29: =IFERROR(+'Annex 4 QR ofertes presentades'!I29,"") -> Import total amb IVA | K29: Preu unitari ofert € (sense IVA) (B) | L29: Import Total € (sense IVA) (A) x (B) | M29: IVA (21%) | N29: Import Previst € (IVA inclòs) | P29: Preu unitari ofert € (sense IVA) (B) | Q29: Import Total € (sense IVA) (A) x (B) | R29: IVA (21%) | S29: Import Previst € (IVA inclòs) | U29: Preu unitari ofert € (sense IVA) (B) | V29: Import Total € (sense IVA) (A) x (B) | W29: IVA (21%) | X29: Import Previst € (IVA inclòs) | Z29: Preu unitari ofert € (sense IVA) (B) | AA29: Import Total € (sense IVA) (A) x (B) | AB29: IVA (21%) | AC29: Import Previst € (IVA inclòs) | AF29: =+B29 -> Tipus | AG29: =+C29 -> Unitats estimades Totals (A) | AH29: =+D29 -> Preu unitari màxim de licitació sense IVA | AI29: PM | AJ29: preu unitari OL | AK29: puntuació PO | AL29: preu unitari OL | AM29: puntuació PO | AN29: preu unitari OL | AO29: puntuació PO | AP29: preu unitari OL | AQ29: puntuació PO | AR29: OMB
A30: =IFERROR(+'Annex 4 QR ofertes presentades'!A30,"") -> 0 | B30: =IFERROR(+'Annex 4 QR ofertes presentades'!B30,"") -> Pantaló de representació (20 punts) | C30: =IFERROR(+'Annex 4 QR ofertes presentades'!C30,"") -> 135 | D30: =IFERROR(+'Annex 4 QR ofertes presentades'!D30,"") -> 15 | E30: =IFERROR(+'Annex 4 QR ofertes presentades'!E30,"") -> 3.15 | F30: =IFERROR(+'Annex 4 QR ofertes presentades'!F30,"") -> 18.15 | G30: =IFERROR(+'Annex 4 QR ofertes presentades'!G30,"") -> 2025 | H30: =IFERROR(+'Annex 4 QR ofertes presentades'!H30,"") -> 425.25 | I30: =IFERROR(+'Annex 4 QR ofertes presentades'!I30,"") -> 2450.25 | K30: =+'Annex 4 QR ofertes presentades'!K30 -> 0 | L30: =$C30*K30 -> 0 | M30: =L30*0.21 -> 0 | N30: =L30+M30 -> 0 | P30: =+'Annex 4 QR ofertes presentades'!P30 -> 0 | Q30: =$C30*P30 -> 0 | R30: =Q30*0.21 -> 0 | S30: =Q30+R30 -> 0 | U30: =+'Annex 4 QR ofertes presentades'!U30 -> 0 | V30: =$C30*U30 -> 0 | W30: =V30*0.21 -> 0 | X30: =V30+W30 -> 0 | Z30: =+'Annex 4 QR ofertes presentades'!Z30 -> 0 | AA30: =$C30*Z30 -> 0 | AB30: =AA30*0.21 -> 0 | AC30: =AA30+AB30 -> 0 | AF30: =+B30 -> Pantaló de representació (20 punts) | AG30: =+C30 -> 135 | AH30: =+D30 -> 15 | AI30: 100 | AJ30: =+K30 -> 0 | AK30: =+$AI30*(1-(AJ30-$AR30)/($AH30-$AR30)) -> 100 | AL30: =+P30 -> 0 | AM30: =+$AI30*(1-(AL30-$AR30)/($AH30-$AR30)) -> 100 | AN30: =+U30 -> 0 | AO30: =+$AI30*(1-(AN30-$AR30)/($AH30-$AR30)) -> 100 | AP30: =+Z30 -> 0 | AQ30: =+$AI30*(1-(AP30-$AR30)/($AH30-$AR30)) -> 100 | AR30: =+MIN(AJ30,AL30,AN30,AP30) -> 0
A31: =IFERROR(+'Annex 4 QR ofertes presentades'!A31,"") -> 0 | B31: =IFERROR(+'Annex 4 QR ofertes presentades'!B31,"") -> Import total | C31: =IFERROR(+'Annex 4 QR ofertes presentades'!C31,"") -> 0 | D31: =IFERROR(+'Annex 4 QR ofertes presentades'!D31,"") -> 0 | E31: =IFERROR(+'Annex 4 QR ofertes presentades'!E31,"") -> 0 | F31: =IFERROR(+'Annex 4 QR ofertes presentades'!F31,"") -> 0 | G31: =IFERROR(+'Annex 4 QR ofertes presentades'!G31,"") -> 8100 | H31: =IFERROR(+'Annex 4 QR ofertes presentades'!H31,"") -> 1701 | I31: =IFERROR(+'Annex 4 QR ofertes presentades'!I31,"") -> 9801 | K31: Import total oferta: | L31: =SUM(L30:L30) -> 0 | M31: =SUM(M30:M30) -> 0 | N31: =SUM(N30:N30) -> 0 | P31: Import total oferta: | Q31: =SUM(Q30:Q30) -> 0 | R31: =SUM(R30:R30) -> 0 | S31: =SUM(S30:S30) -> 0 | U31: Import total oferta: | V31: =SUM(V30:V30) -> 0 | W31: =SUM(W30:W30) -> 0 | X31: =SUM(X30:X30) -> 0 | Z31: Import total oferta: | AA31: =SUM(AA30:AA30) -> 0 | AB31: =SUM(AB30:AB30) -> 0 | AC31: =SUM(AC30:AC30) -> 0 | AF31: Puntuació | AI31: 15 | AK31: =SUM(AK28:AK30) -> 100 | AM31: =SUM(AM28:AM30) -> 100 | AO31: =SUM(AO28:AO30) -> 100 | AQ31: =SUM(AQ28:AQ30) -> 100 | AR31: =+MIN(AJ31,AL31,AN31,AP31) -> 0
A34: =IFERROR(+'Annex 4 QR ofertes presentades'!A34,"") | AF34: =+A34
A35: =IFERROR(+'Annex 4 QR ofertes presentades'!A35,"") | AF35: =+A35
A37: =IFERROR(+'Annex 4 QR ofertes presentades'!A37,"") -> 0 | B37: =IFERROR(+'Annex 4 QR ofertes presentades'!B37,"") | C37: =IFERROR(+'Annex 4 QR ofertes presentades'!C37,"") | D37: =IFERROR(+'Annex 4 QR ofertes presentades'!D37,"") | E37: =IFERROR(+'Annex 4 QR ofertes presentades'!E37,"") | F37: =IFERROR(+'Annex 4 QR ofertes presentades'!F37,"") | G37: =IFERROR(+'Annex 4 QR ofertes presentades'!G37,"") | H37: =IFERROR(+'Annex 4 QR ofertes presentades'!H37,"") | I37: =IFERROR(+'Annex 4 QR ofertes presentades'!I37,"") | K37: Preu unitari ofert € (sense IVA) (B) | L37: Import Total € (sense IVA) (A) x (B) | M37: IVA (21%) | N37: Import Previst € (IVA inclòs) | P37: Preu unitari ofert € (sense IVA) (B) | Q37: Import Total € (sense IVA) (A) x (B) | R37: IVA (21%) | S37: Import Previst € (IVA inclòs) | U37: Preu unitari ofert € (sense IVA) (B) | V37: Import Total € (sense IVA) (A) x (B) | W37: IVA (21%) | X37: Import Previst € (IVA inclòs) | Z37: Preu unitari ofert € (sense IVA) (B) | AA37: Import Total € (sense IVA) (A) x (B) | AB37: IVA (21%) | AC37: Import Previst € (IVA inclòs) | AF37: =+B37 | AG37: =+C37 | AH37: =+D37 | AI37: PM | AJ37: preu unitari OL | AK37: puntuació PO | AL37: preu unitari OL | AM37: puntuació PO | AN37: preu unitari OL | AO37: puntuació PO | AP37: preu unitari OL | AQ37: puntuació PO | AR37: OMB
A38: =IFERROR(+'Annex 4 QR ofertes presentades'!A38,"") -> 0 | B38: =IFERROR(+'Annex 4 QR ofertes presentades'!B38,"") | C38: =IFERROR(+'Annex 4 QR ofertes presentades'!C38,"") | D38: =IFERROR(+'Annex 4 QR ofertes presentades'!D38,"") | E38: =IFERROR(+'Annex 4 QR ofertes presentades'!E38,"") | F38: =IFERROR(+'Annex 4 QR ofertes presentades'!F38,"") | G38: =IFERROR(+'Annex 4 QR ofertes presentades'!G38,"") | H38: =IFERROR(+'Annex 4 QR ofertes presentades'!H38,"") | I38: =IFERROR(+'Annex 4 QR ofertes presentades'!I38,"") | K38: =+'Annex 4 QR ofertes presentades'!K38 -> 0 | L38: =$C38*K38 -> #VALUE! | M38: =L38*0.21 -> #VALUE! | N38: =L38+M38 -> #VALUE! | P38: =+'Annex 4 QR ofertes presentades'!P38 -> 0 | Q38: =$C38*P38 -> #VALUE! | R38: =Q38*0.21 -> #VALUE! | S38: =Q38+R38 -> #VALUE! | U38: =+'Annex 4 QR ofertes presentades'!U38 -> 0 | V38: =$C38*U38 -> #VALUE! | W38: =V38*0.21 -> #VALUE! | X38: =V38+W38 -> #VALUE! | Z38: =+'Annex 4 QR ofertes presentades'!Z38 -> 0 | AA38: =$C38*Z38 -> #VALUE! | AB38: =AA38*0.21 -> #VALUE! | AC38: =AA38+AB38 -> #VALUE! | AF38: =+B38 | AG38: =+C38 | AH38: =+D38 | AI38: 100 | AJ38: =+K38 -> 0 | AK38: =+$AI38*(1-(AJ38-$AR38)/($AH38-$AR38)) -> #VALUE! | AL38: =+P38 -> 0 | AM38: =+$AI38*(1-(AL38-$AR38)/($AH38-$AR38)) -> #VALUE! | AN38: =+U38 -> 0 | AO38: =+$AI38*(1-(AN38-$AR38)/($AH38-$AR38)) -> #VALUE! | AP38: =+Z38 -> 0 | AQ38: =+$AI38*(1-(AP38-$AR38)/($AH38-$AR38)) -> #VALUE! | AR38: =+MIN(AJ38,AL38,AN38,AP38) -> 0
A39: =IFERROR(+'Annex 4 QR ofertes presentades'!A39,"") -> 0 | B39: =IFERROR(+'Annex 4 QR ofertes presentades'!B39,"") | C39: =IFERROR(+'Annex 4 QR ofertes presentades'!C39,"") | D39: =IFERROR(+'Annex 4 QR ofertes presentades'!D39,"") | E39: =IFERROR(+'Annex 4 QR ofertes presentades'!E39,"") | F39: =IFERROR(+'Annex 4 QR ofertes presentades'!F39,"") | G39: =IFERROR(+'Annex 4 QR ofertes presentades'!G39,"") | H39: =IFERROR(+'Annex 4 QR ofertes presentades'!H39,"") | I39: =IFERROR(+'Annex 4 QR ofertes presentades'!I39,"") | K39: Import total oferta: | L39: =SUM(L38:L38) -> #VALUE! | M39: =SUM(M38:M38) -> #VALUE! | N39: =SUM(N38:N38) -> #VALUE! | P39: Import total oferta: | Q39: =SUM(Q38:Q38) -> #VALUE! | R39: =SUM(R38:R38) -> #VALUE! | S39: =SUM(S38:S38) -> #VALUE! | U39: Import total oferta: | V39: =SUM(V38:V38) -> #VALUE! | W39: =SUM(W38:W38) -> #VALUE! | X39: =SUM(X38:X38) -> #VALUE! | Z39: Import total oferta: | AA39: =SUM(AA38:AA38) -> #VALUE! | AB39: =SUM(AB38:AB38) -> #VALUE! | AC39: =SUM(AC38:AC38) -> #VALUE! | AF39: Puntuació | AI39: 15 | AK39: =SUM(AK36:AK38) -> #VALUE! | AM39: =SUM(AM36:AM38) -> #VALUE! | AO39: =SUM(AO36:AO38) -> #VALUE! | AQ39: =SUM(AQ36:AQ38) -> #VALUE! | AR39: =+MIN(AJ39,AL39,AN39,AP39) -> 0
