Workbook
Name DESPLEGABLE: [1]Anexes!$B$4:$B$5

Sheet Amidaments
B1: Codi | C1: Codi | D1: Ut | E1: Descripció | F1: Nº | G1: Conjunts | H1: Total
A2: 1 | B2: EQ | C2: EQ | E2: Equipament
A3: 1.1 | B3: AC | C3: =B$2&B$3 -> EQAC | E3: Armaris de control
A4: 1.1.1 | B4: G | C4: =B$2&B$3&B$4 -> EQACG | D4: u | E4: Armari general de control
A5: 1.1.1.1 | B5: 1 | C5: =B$2&B$3&B$4&"0"&B5 -> EQACG01 | D5: u | E5: Armari mural ABB 500x700x250mm
E6: Caixa mural de dimensions 500x700x250mm amb porta realitzada en xapa d'acer d'espessor 1,5mm. Placa de muntatge realitzada en xapa d'hacer galvanitzat d'espessor 2,5mm. Grau de protecció IP66 segons la norma IEC EN62208; EN60529
F7: 1 | G7: 1 | H7: =G$7*F7 -> 1
A8: 1.1.1.2 | B8: 2 | C8: =B$2&B$3&B$4&"0"&B8 -> EQACG02 | D8: u | E8: Loxone Miniserver o equivalent
E9: 8x entrades digitals 8 VDC – 24 Vdc 4x entrades analògiques 0-10 V 4x sortides analògiques 0-10 V (max. 20 mA) 8x sortides digitals 250 V/5 A Ranura per a targtes SD Port LAN Port KNX/EIB Loxone Link Alimentació a 24 Vdc (font a part)
F10: 1 | G10: 1 | H10: =G$7*F10 -> 1
A11: 1.1.1.3 | B11: 3 | C11: =B$2&B$3&B$4&"0"&B11 -> EQACG03 | D11: u | E11: Passarel·la 9Hnet o equivalent
E12: Servidor intermig per a la comunicació externa de Loxone (o equivalent) amb altres protocols
F13: 1 | G13: 1 | H13: =G$7*F13 -> 1
A14: 1.1.1.4 | B14: 4 | C14: =B$2&B$3&B$4&"0"&B14 -> EQACG04 | D14: u | E14: Loxone 1-Wire Extension o equivalent
E15: Extensio amb tecnologia 1-Wire Alimentació externa: 24 Vdc Consum: aproximadament 30 mA Temperatura ambient: 0..50 °C Interfície 1-Wire: 16,3 kbit/s (S'hi poden connectar fins a 20 sensors)
F16: 1 | G16: 1 | H16: =G$7*F16 -> 1
A17: 1.1.1.5 | B17: 5 | C17: =B$2&B$3&B$4&"0"&B17 -> EQACG05 | D17: u | E17: Loxone Modbus Extension o equivaelnt
E18: Extensió per al protocol Modbus Alimentació externa: 24 Vdc Consum: aproximadament 30 mA Comunicació: Loxone Link, Modbus RTU Velocitat de comunicació ajustable Disseny per a muntatge en carril DIN Dimensions 35,5×88x57 mm Protecció IP20 Temperatura ambient 0… 50 ºC Paritat Ajustable Bits de Stop Ajustable (1 a 2) Rang de direcciones Extès (0 a 65535) Màxim número de dispositius: 32 dispositius Modbus RTU esclaus Màxim número de registres de lectura: 253 registres Modbus (16 bits)
F19: 1 | G19: 1 | H19: =G$7*F19 -> 1
A20: 1.1.1.6 | B20: 6 | C20: =B$2&B$3&B$4&"0"&B20 -> EQACG06 | D20: u | E20: Font d'alimentació conmutada CA/CC
E21: Potència: 1 Adc Tensió d'entrada: 100-240 Vac Tensió de sortida: 24 Vdc Freqüència: 47 - 63 Hz Protecció: IP20 Temperatura ambient: 50 °C Fixació: Carril DIN Normes: EN5550011, EN55022, EN61000, EN60950, UL 508 Pes: 0,15 kg Dimensions: 45x74x97 mm
F22: 1 | G22: 1 | H22: =G$7*F22 -> 1
A23: 1.1.1.7 | B23: 7 | C23: =B$2&B$3&B$4&"0"&B23 -> EQACG07 | D23: u | E23: Bornes de doble pis seccionables
E24: Borna interrumpible per ganiveta Phoenix Contact 3044775, tipus de connexió: conexió per cargol, secció: 0,14 mm2 - 6 mm2, AWG:26-10, amplada: 6,2 mm, color gris, classe de muntatge: NS 35/7,5 NS 35/17
F25: 30 | G25: 1 | H25: =G$7*F25 -> 30
A26: 1.1.1.8 | B26: 8 | C26: =B$2&B$3&B$4&"0"&B26 -> EQACG08 | D26: u | E26: Interruptor diferencial 1P+N, 10 A, amb sensibilitat de 30 mA
F27: 1 | G27: 1 | H27: =G$7*F27 -> 1
A28: 1.1.1.9 | B28: 9 | C28: =B$2&B$3&B$4&"0"&B28 -> EQACG09 | D28: u | E28: Magnetotèrmic de dos pols SH202C 10A ABB
F29: 1 | G29: 1 | H29: =G$7*F29 -> 1
A30: 1.1.1.10 | B30: 10 | C30: =B$2&B$3&B$4&"0"&B30 -> EQACG010 | D30: u | E30: Presa schuko
E31: Presa de corrent modular, estàndard de 16 A i 250 Vac
F32: 1 | G32: 1 | H32: =G$7*F32 -> 1
A33: 1.1.1.11 | B33: 11 | C33: =B$2&B$3&B$4&"0"&B33 -> EQACG011 | D33: u | E33: Borna terra
F34: 1 | G34: 1 | H34: =G$7*F34 -> 1
A35: 1.1.1.12 | B35: 12 | C35: =B$2&B$3&B$4&"0"&B35 -> EQACG012 | D35: u | E35: Selectors manual/remot per a cada sortida digital
E36: Compostos per: Cap de selector maneta curta ZB4BD3 de 22 mm de diàmetre i 3 posicions fixes. Cos Complet ZB4BZ101 Bloc de contacte 1NA ZBE101 per a cap de 22 mm de diàmetre
F37: 8 | G37: 1 | H37: =G$7*F37 -> 8
A38: 1.1.1.13 | B38: 13 | C38: =B$2&B$3&B$4&"0"&B38 -> EQACG013 | D38: u | E38: 2 m.l.Safata canal UNEX de 40x60x77
F39: 1 | G39: 1 | H39: =G$7*F39 -> 1
A40: 1.1.1.14 | B40: 14 | C40: =B$2&B$3&B$4&"0"&B40 -> EQACG014 | D40: u | E40: 1 m.l de carril DIN en U de 35 x 7,5 mm
...

Sheet JustificacióPreusFinal
B1: Equipament | E1: 30% lox | G1: 25%lox
B2: Codi | C2: Unitat | D2: Descripció | E2: Preu | G2: Preu
B3: EQACG01 | C3: u | D3: Armari mural 500x700x250mm | E3: 139.3 | G3: 139.3
B4: EQACG02 | C4: u | D4: Loxone Miniserver o equivalent | E4: 317.744 | F4: =E4/(1-30%) -> 453.92 | G4: =F4-(F4*25%) -> 340.44
B5: EQACG03 | C5: u | D5: Passarel·la 9Hnet o equivalent | E5: 315 | F5: =E5/(1-30%) -> 450 | G5: 450
B6: EQACST103 | C6: u | D6: Loxone Air Base Extension o equivalent | E6: 63.17 | F6: =E6/(1-30%) -> 90.242857 | G6: =F6-(F6*25%) -> 67.682143
B7: EQACST202
B8: EQACG04 | C8: u | D8: Loxone 1-Wire Extension o equivalent | E8: 107.835 | F8: =E8/(1-30%) -> 154.05 | G8: =F8-(F8*25%) -> 115.5375
B9: EQACG05 | C9: u | D9: Loxone Modbus Extension o equivalent | E9: 145.467 | F9: =E9/(1-30%) -> 207.81 | G9: =F9-(F9*25%) -> 155.8575
B10: EQACG06 | C10: u | D10: Font d'alimentació conmutada CA/CC | E10: 14 | G10: 14
B11: EQACST104
B12: EQACST203
B13: EQACFV02
B14: EQCCE02
B15: EQACG07 | C15: u | D15: Bornes de doble pis seccionables Phoenix Contact 3044775 | E15: 4.1145 | G15: 4.1145
B16: EQACG08 | C16: u | D16: Interruptor diferencial 1P+N | E16: 132.22 | G16: 132.22
B17: EQACG09 | C17: u | D17: Magnetotèrmic de dos pols SH202C 10A ABB | E17: 10.924 | G17: 10.924
B18: EQACG10 | C18: u | D18: Presa schuko | E18: 8.385 | G18: 8.385
B19: EQACG11 | C19: u | D19: Presa terra | E19: 2.4759 | G19: 2.4759
B20: EQACG12 | C20: u | D20: Selectors manual/remot per a cada sortida digital | E20: 27.68 | G20: 27.68
B21: EQACG13 | C21: u | D21: 2 m.l.Safata canal UNEX de 40x60x77 | E21: 3.8545 | G21: 3.8545
B22: EQACG14 | C22: u | D22: 1 m.l de carril DIN en U de 35 x 7,5 mm | E22: 2.98 | G22: 2.98
B23: EQACG15 | C23: u | D23: Material fungible | E23: 150 | G23: 150
B24: EQACST101 | C24: u | D24: Armari de 12 mòduls | E24: 14.425 | G24: 14.425
B26: EQACST102 | C26: u | D26: Loxone Tree Base Extension o equivalent | E26: 63.168 | F26: =E26/(1-30%) -> 90.24 | G26: =F26-(F26*25%) -> 67.68
B27: EQCCE03
B28: EQACST105 | C28: u | D28: Interruptor de comandament | E28: 8.755 | G28: 8.755
B29: EQACST204
B30: EQACST106 | C30: u | D30: Relé 2 Circuits 220 V,5A | E30: 7.742 | G30: 7.742
B31: EQACST205
B32: EQCCR03
B33: EQACST107 | C33: u | D33: Sòcol de relé per a carril DIN de 8 pins | E33: 5.65 | G33: 5.65
B34: EQACST206
B35: EQCCR04
B36: EQACST201 | C36: u | D36: Armari de 8 mòduls | E36: 13.96 | G36: 13.96
B37: EQACFV01 | C37: u | D37: Armari de 18 mòduls | E37: 17.57 | G37: 17.57
B38: EQACFV03 | C38: u | D38: Loxone Extension o equivalent | E38: 253.946 | F38: =E38/(1-30%) -> 362.78 | G38: =F38-(F38*25%) -> 272.085
B39: EQACFV04 | C39: u | D39: Loxone 1-Wire Extension o equivalent | E39: 107.835 | F39: =E39/(1-30%) -> 154.05 | G39: =F39-(F39*25%) -> 115.5375
B40: EQCLOX01 | C40: u | D40: Contacte de porta i finestra Loxone Air o equivalent | E40: 41.349 | F40: =E40/(1-30%) -> 59.07 | G40: =F40-(F40*25%) -> 44.3025
B41: EQCLOX02 | C41: u | D41: Actuador de vàlvula de radiador Loxone Air o equivalent | E41: 59.717 | F41: =E41/(1-30%) -> 85.31 | G41: =F41-(F41*25%) -> 63.9825
...

Sheet PressupostFinalV2
A1: Codi | B1: UA | C1: Descripció | D1: Amidam. | E1: Preu | F1: Import
A2: EQ | C2: Equipament | F2: =F45+F69+F89+F103+F139+F162+F176+F184+F207+F189+F218 -> 22169.748
A3: EQAC | C3: Armaris de control
A4: EQACG | B4: u | C4: Armari general de control
A5: EQACG01 | B5: u | C5: Armari mural ABB 500x700x250mm
C6: Caixa mural de dimensions 500x700x250mm amb porta realitzada en xapa d'acer d'espessor 1,5mm. Placa de muntatge realitzada en xapa d'hacer galvanitzat d'espessor 2,5mm. Grau de protecció IP66 segons la norma IEC EN62208; EN60529
D7: =Amidaments!H7 -> 1 | E7: 139.3 | F7: =D7*E7 -> 139.3
A8: EQACG02 | B8: u | C8: Loxone Miniserver o equivalent
C9: 8x entrades digitals 8 VDC – 24 Vdc 4x entrades analògiques 0-10 V 4x sortides analògiques 0-10 V (max. 20 mA) 8x sortides digitals 250 V/5 A Ranura per a targtes SD Port LAN Port KNX/EIB Loxone Link Alimentació a 24 Vdc (font a part)
D10: =Amidaments!H10 -> 1 | E10: =JustificacióPreusFinal!G4 -> 340.44 | F10: =D10*E10 -> 340.44
A11: EQACG03 | B11: u | C11: Passarel·la 9Hnet o equivalent
C12: Servidor intermig per a la comunicació externa de Loxone (o equivalent) amb altres protocols
D13: =Amidaments!H13 -> 1 | E13: =JustificacióPreusFinal!G5 -> 450 | F13: =D13*E13 -> 450
A14: EQACG04 | B14: u | C14: Loxone 1-Wire Extension o equivalent
C15: Extensió amb tecnologia 1-Wire Alimentació externa: 24 Vdc Consum: aproximadament 30 mA Temperatura ambient: 0..50 °C Interfície 1-Wire: 16,3 kbit/s (S'hi poden connectar fins a 20 sensors)
D16: =Amidaments!H16 -> 1 | E16: =JustificacióPreusFinal!G8 -> 115.5375 | F16: =D16*E16 -> 115.5375
A17: EQACG05 | B17: u | C17: Loxone Modbus Extension (o equivalent)
C18: Extensió per al protocol Modbus Alimentació externa: 24 Vdc Consum: aproximadament 30 mA Comunicació: Loxone Link, Modbus RTU Velocitat de comunicació ajustable Disseny per a muntatge en carril DIN Dimensions 35,5×88x57 mm Protecció IP20 Temperatura ambient 0… 50 ºC Paritat Ajustable Bits de Stop Ajustable (1 a 2) Rang de direcciones Extès (0 a 65535) Màxim número de dispositius: 32 dispositius Modbus RTU esclaus Màxim número de registres de lectura: 253 registres Modbus (16 bits)
D19: =Amidaments!H19 -> 1 | E19: =JustificacióPreusFinal!G9 -> 155.8575 | F19: =D19*E19 -> 155.8575
A20: EQACG06 | B20: u | C20: Font d'alimentació conmutada CA/CC
C21: Potència: 1 Adc Tensió d'entrada: 100-240 Vac Tensió de sortida: 24 Vdc Freqüència: 47 - 63 Hz Protecció: IP20 Temperatura ambient: 50 °C Fixació: Carril DIN Normes: EN5550011, EN55022, EN61000, EN60950, UL 508 Pes: 0,15 kg Dimensions: 45x74x97 mm
D22: =Amidaments!H22 -> 1 | E22: 14 | F22: =D22*E22 -> 14
A23: EQACG07 | B23: u | C23: Bornes de doble pis seccionables Phoenix Contact 3044775
C24: Borna interrumpible per ganiveta, tipus de connexió: conexió per cargol, secció: 0,14 mm2 - 6 mm2, AWG:26-10, amplada: 6,2 mm, color gris, classe de muntatge: NS 35/7,5 NS 35/17
D25: =Amidaments!H25 -> 30 | E25: 4.1145 | F25: =D25*E25 -> 123.435
A26: EQACG08 | B26: u | C26: Interruptor diferencial 1P+N, 10 A, amb sensibilitat de 30 mA
D27: =Amidaments!H27 -> 1 | E27: 132.22 | F27: =D27*E27 -> 132.22
A28: EQACG09 | B28: u | C28: Magnetotèrmic de dos pols SH202C 10A ABB
D29: =Amidaments!H29 -> 1 | E29: 10.924 | F29: =D29*E29 -> 10.924
A30: EQACG010 | B30: u | C30: Presa schuko
C31: Presa de corrent modular, estàndard de 16 A i 250 Vac
D32: =Amidaments!H32 -> 1 | E32: 8.385 | F32: =D32*E32 -> 8.385
A33: EQACG011 | B33: u | C33: =Amidaments!E33 -> Borna terra
D34: =Amidaments!H34 -> 1 | E34: 2.4759 | F34: =D34*E34 -> 2.4759
A35: EQACG012 | B35: u | C35: Selectors manual/remot per a cada sortida digital
C36: Compostos per: Cap de selector maneta curta ZB4BD3 de 22 mm de diàmetre i 3 posicions fixes. Cos Complet ZB4BZ101 Bloc de contacte 1NA ZBE101 per a cap de 22 mm de diàmetre
D37: =Amidaments!H37 -> 8 | E37: 27.68 | F37: =D37*E37 -> 221.44
A38: EQACG013 | B38: u | C38: 2 m.l.Safata canal UNEX de 40x60x77
D39: =Amidaments!H39 -> 1 | E39: 3.8545 | F39: =D39*E39 -> 3.8545
A40: EQACG014 | B40: u | C40: 1 m.l de carril DIN en U de 35 x 7,5 mm
...
