Workbook
Name DESPLEGABLE: [1]Anexes!$B$4:$B$5

Sheet Amidaments
B1: Codi | C1: Codi | D1: Ut | E1: Descripció | F1: Nº | G1: Conjunts | H1: Total
A2: 1 | B2: EQ | C2: EQ | E2: Equipament
A3: 1.1 | B3: AC | C3: =B$2&B$3 -> EQAC | E3: Armaris de control
A4: 1.1.1 | B4: G | C4: =B$2&B$3&B$4 -> EQACG | D4: u | E4: Armari general de control
A5: 1.1.1.1 | B5: 1 | C5: =B$2&B$3&B$4&"0"&B5 -> EQACG01 | D5: u | E5: Armari mural ABB 500x700x250mm
E6: Caixa mural de dimensions 500x700x250mm amb porta realitzada en xapa d'acer d'espessor 1,5mm. Placa de muntatge realitzada en xapa d'hacer galvanitzat d'espessor 2,5mm. Grau de protecció IP66 segons la norma IEC EN62208; EN60529
F7: 1 | G7: 1 | H7: =G$7*F7 -> 1
A8: 1.1.1.2 | B8: 2 | C8: =B$2&B$3&B$4&"0"&B8 -> EQACG02 | D8: u | E8: Loxone Miniserver o equivalent
E9: 8x entrades digitals 8 VDC – 24 Vdc 4x entrades analògiques 0-10 V 4x sortides analògiques 0-10 V (max. 20 mA) 8x sortides digitals 250 V/5 A Ranura per a targtes SD Port LAN Port KNX/EIB Loxone Link Alimentació a 24 Vdc (font a part)
F10: 1 | G10: 1 | H10: =G$7*F10 -> 1
A11: 1.1.1.3 | B11: 3 | C11: =B$2&B$3&B$4&"0"&B11 -> EQACG03 | D11: u | E11: Passarel·la 9Hnet o equivalent
E12: Servidor intermig per a la comunicació externa de Loxone (o equivalent) amb altres protocols
F13: 1 | G13: 1 | H13: =G$7*F13 -> 1
A14: 1.1.1.4 | B14: 4 | C14: =B$2&B$3&B$4&"0"&B14 -> EQACG04 | D14: u | E14: Loxone 1-Wire Extension o equivalent
E15: Extensio amb tecnologia 1-Wire Alimentació externa: 24 Vdc Consum: aproximadament 30 mA Temperatura ambient: 0..50 °C Interfície 1-Wire: 16,3 kbit/s (S'hi poden connectar fins a 20 sensors)
F16: 1 | G16: 1 | H16: =G$7*F16 -> 1
A17: 1.1.1.5 | B17: 5 | C17: =B$2&B$3&B$4&"0"&B17 -> EQACG05 | D17: u | E17: Loxone Modbus Extension o equivaelnt
E18: Extensió per al protocol Modbus Alimentació externa: 24 Vdc Consum: aproximadament 30 mA Comunicació: Loxone Link, Modbus RTU Velocitat de comunicació ajustable Disseny per a muntatge en carril DIN Dimensions 35,5×88x57 mm Protecció IP20 Temperatura ambient 0… 50 ºC Paritat Ajustable Bits de Stop Ajustable (1 a 2) Rang de direcciones Extès (0 a 65535) Màxim número de dispositius: 32 dispositius Modbus RTU esclaus Màxim número de registres de lectura: 253 registres Modbus (16 bits)
F19: 1 | G19: 1 | H19: =G$7*F19 -> 1
A20: 1.1.1.6 | B20: 6 | C20: =B$2&B$3&B$4&"0"&B20 -> EQACG06 | D20: u | E20: Font d'alimentació conmutada CA/CC
E21: Potència: 1 Adc Tensió d'entrada: 100-240 Vac Tensió de sortida: 24 Vdc Freqüència: 47 - 63 Hz Protecció: IP20 Temperatura ambient: 50 °C Fixació: Carril DIN Normes: EN5550011, EN55022, EN61000, EN60950, UL 508 Pes: 0,15 kg Dimensions: 45x74x97 mm
F22: 1 | G22: 1 | H22: =G$7*F22 -> 1
A23: 1.1.1.7 | B23: 7 | C23: =B$2&B$3&B$4&"0"&B23 -> EQACG07 | D23: u | E23: Bornes de doble pis seccionables
E24: Borna interrumpible per ganiveta Phoenix Contact 3044775, tipus de connexió: conexió per cargol, secció: 0,14 mm2 - 6 mm2, AWG:26-10, amplada: 6,2 mm, color gris, classe de muntatge: NS 35/7,5 NS 35/17
F25: 30 | G25: 1 | H25: =G$7*F25 -> 30
A26: 1.1.1.8 | B26: 8 | C26: =B$2&B$3&B$4&"0"&B26 -> EQACG08 | D26: u | E26: Interruptor diferencial 1P+N, 10 A, amb sensibilitat de 30 mA
F27: 1 | G27: 1 | H27: =G$7*F27 -> 1
A28: 1.1.1.9 | B28: 9 | C28: =B$2&B$3&B$4&"0"&B28 -> EQACG09 | D28: u | E28: Magnetotèrmic de dos pols SH202C 10A ABB
F29: 1 | G29: 1 | H29: =G$7*F29 -> 1
A30: 1.1.1.10 | B30: 10 | C30: =B$2&B$3&B$4&"0"&B30 -> EQACG010 | D30: u | E30: Presa schuko
E31: Presa de corrent modular, estàndard de 16 A i 250 Vac
F32: 1 | G32: 1 | H32: =G$7*F32 -> 1
A33: 1.1.1.11 | B33: 11 | C33: =B$2&B$3&B$4&"0"&B33 -> EQACG011 | D33: u | E33: Borna terra
F34: 1 | G34: 1 | H34: =G$7*F34 -> 1
A35: 1.1.1.12 | B35: 12 | C35: =B$2&B$3&B$4&"0"&B35 -> EQACG012 | D35: u | E35: Selectors manual/remot per a cada sortida digital
E36: Compostos per: Cap de selector maneta curta ZB4BD3 de 22 mm de diàmetre i 3 posicions fixes. Cos Complet ZB4BZ101 Bloc de contacte 1NA ZBE101 per a cap de 22 mm de diàmetre
F37: 8 | G37: 1 | H37: =G$7*F37 -> 8
A38: 1.1.1.13 | B38: 13 | C38: =B$2&B$3&B$4&"0"&B38 -> EQACG013 | D38: u | E38: 2 m.l.Safata canal UNEX de 40x60x77
F39: 1 | G39: 1 | H39: =G$7*F39 -> 1
A40: 1.1.1.14 | B40: 14 | C40: =B$2&B$3&B$4&"0"&B40 -> EQACG014 | D40: u | E40: 1 m.l de carril DIN en U de 35 x 7,5 mm
F41: 1 | G41: 1 | H41: =G$7*F41 -> 1
A42: 1.1.1.15 | B42: 15 | C42: =B$2&B$3&B$4&"0"&B42 -> EQACG015 | D42: u | E42: Material fungible
E43: Inclou tot el cablejat d'interior d'armari: Cablejat d'alimentació Vdc de 1,5 mm de secció de colors vermell i negre, manguera lliure d'halògens de 3 x 2,5 mm de secció, loxone link per a comunicació amb les extensions de dins l'armari. Inclou també tots els marcadors de cablejat. Inclou punteres, brides, etc.
F44: 1 | G44: 1 | H44: =G$7*F44 -> 1
A45: 1.1.2 | B45: S | C45: =B$2&B$3&B$45 -> EQACS | E45: Armaris satèl·lits
A46: 1.1.2.1 | B46: T1 | C46: =B$2&B$3&B$45&B$46 -> EQACST1 | E46: Armari satèl·lit tipus 1 (tecnologia Air i Tree)
A47: 1.1.2.1.1 | B47: 1 | C47: =B$2&B$3&B$45&B$46&"0"&B47 -> EQACST101 | D47: u | E47: Armari de 12 mòduls
E48: Caixa de termoplàstic de muntatge en superfície de 12 Mòduls amb grau de protecció IP41 lliure d'halògens de dimensions 297x262x114 mm
F49: 1 | G49: 6 | H49: =G49*F49 -> 6
A50: 1.1.2.1.2 | B50: 2 | C50: =B$2&B$3&B$45&B$46&"0"&B50 -> EQACST102 | D50: u | E50: Loxone Tree Base Extension o equivalent
E51: Extensió base de la tecnologia Loxone Tree o equivalent Connexió a través de Loxone Link o equivalent Dimensions: 35,5 x 88 x 57 mm (2 TE) 2 LEDs d'estat (de 2 colors) Alimentació 24 VDC Consum 115 mW Protecció IP20 Temperatura de treball: 0 … +55 °C Sección del cablejat: 0,25-0,8 mm² Longitud del cable sense coberta: 5 mm
F52: 1 | G52: 6 | H52: =G52*F52 -> 6
A53: 1.1.2.1.3 | B53: 3 | C53: =B$2&B$3&B$45&B$46&"0"&B53 -> EQACST103 | D53: u | E53: Loxone Air Base Extension o equivalent
E54: Extensió base de la tecnologia Loxone Connexió amb Loxone Link Dimensions: 35,5 x 88 x 57 mm (2 TE) S'alimenta amb una font externa de 24 Vdc Consum d'energia màxim: 6 mA Protecció IP20 Temperatura ambient: 0 … +55 °C Freqüència: 868 MHz (EU)
F55: 1 | G55: 6 | H55: =G55*F55 -> 6
A56: 1.1.2.1.4 | B56: 4 | C56: =B$2&B$3&B$45&B$46&"0"&B56 -> EQACST104 | D56: u | E56: Font d'alimentació conmutada CA/CC
E57: Potència: 1 Adc Tensió d'entrada: 100-240 Vac Tensió de sortida: 24 Vdc Freqüència: 47 - 63 Hz Protecció: IP20 Temperatura ambient: 50 °C Fixació: Carril DIN Normes: EN5550011, EN55022, EN61000, EN60950, UL 508 Pes: 0,15 kg Dimensions: 45x74x97 mm
F58: 1 | G58: 6 | H58: =G58*F58 -> 6
A59: 1.1.2.1.5 | B59: 5 | C59: =B$2&B$3&B$45&B$46&"0"&B59 -> EQACST105 | D59: u | E59: Interruptor Manual/Remot
E60: Interruptor de comandament E211-16-10 16A 1 NA. Tensió nominal: 250/415 V Nombre de contactes principals NO: 1 Pèrdua de potència: 0,82 W Normes: EN60669-1, EN60669-2-4
F61: 1 | G61: 6 | H61: =G61*F61 -> 6
A62: 1.1.2.1.6 | B62: 6 | C62: =B$2&B$3&B$45&B$46&"0"&B62 -> EQACST106 | D62: u | E62: Relé 2 Circuits 220 V,5A
E63: Relé Finder de 2 circuits de 220 V i 5 A. Protecció: IP40
F64: 1 | G64: 6 | H64: =G64*F64 -> 6
A65: 1.1.2.1.7 | B65: 7 | C65: =B$2&B$3&B$45&B$46&"0"&B65 -> EQACST107 | D65: u | E65: Sòcol de relé per a carril DIN de 8 pins
E66: Sòcol per a muntatge de relés de potència en carril DIN de 35 mm amb terminals a prova de contacte amb protecció IP20, 10 A, 250 V
F67: 1 | G67: 6 | H67: =G67*F67 -> 6
A68: 1.1.2.2 | B68: T2 | C68: =B$2&B$3&B$45&B$68 -> EQACST2 | D68: u | E68: Armari satèl·lit tipus 2 (tecnologia Air)
B69: 1 | C69: =B$2&B$3&B$45&B$68&"0"&B69 -> EQACST201 | D69: u | E69: Armari ABB Mistral 41 W, 8 M de 206,5 x 262 x 118 mm
E70: Caixa de termoplàstic de muntatge en superfície de 12 Mòduls amb grau de protecció IP41 lliure d'halògens de dimensions 297x262x114 mm
F71: 1 | G71: 7 | H71: =G71*F71 -> 7
B72: 2 | C72: =B$2&B$3&B$45&B$68&"0"&B72 -> EQACST202 | D72: u | E72: Loxone Air Base Extension o equivalent
E73: Extensió base de la tecnologia Loxone Air Connexió amb Loxone Link Dimensions: 35,5 x 88 x 57 mm (2 TE) S'alimenta amb una font externa de 24 Vdc Consum d'energia màxim: 6 mA Protecció IP20 Temperatura ambient: 0 … +55 °C Freqüència: 868 MHz (EU)
F74: 1 | G74: 7 | H74: =G74*F74 -> 7
B75: 3 | C75: =B$2&B$3&B$45&B$68&"0"&B75 -> EQACST203 | D75: u | E75: Font d'alimentació conmutada CA/CC
E76: Potència: 1 Adc Tensió d'entrada: 100-240 Vac Tensió de sortida: 24 Vdc Freqüència: 47 - 63 Hz Protecció: IP20 Temperatura ambient: 50 °C Fixació: Carril DIN Normes: EN5550011, EN55022, EN61000, EN60950, UL 508 Pes: 0,15 kg Dimensions: 45x74x97 mm
F77: 1 | G77: 7 | H77: =G77*F77 -> 7
B78: 4 | C78: =B$2&B$3&B$45&B$68&"0"&B78 -> EQACST204 | D78: u | E78: Interruptor Manual/Remot
E79: Interruptor de comandament E211-16-10 16A 1 NA. Tensió nominal: 250/415 V Nombre de contactes principals NO: 1 Pèrdua de potència: 0,82 W Normes: EN60669-1, EN60669-2-4
F80: 1 | G80: 7 | H80: =G80*F80 -> 7
B81: 5 | C81: =B$2&B$3&B$45&B$68&"0"&B81 -> EQACST205 | D81: u | E81: Relé 2 Circuits 220 V, 5A
E82: Relé Finder de 2 circuits de 220 V i 5 A. Protecció: IP40
F83: 1 | G83: 7 | H83: =G83*F83 -> 7
B84: 6 | C84: =B$2&B$3&B$45&B$68&"0"&B84 -> EQACST206 | D84: u | E84: Sòcol de Relé per a carril DIN de 8 pins
E85: Sòcol per a muntatge de relés de potència en carril DIN de 35 mm amb terminals a prova de contacte amb protecció IP20, 10 A, 250 V
F86: 1 | G86: 7 | H86: =G86*F86 -> 7
A87: 1.1.2.3 | B87: FV | C87: =B$2&B$3&B$87 -> EQACFV | E87: Armari Sala Fotovoltaica
B88: 1 | C88: =B$2&B$3&B$87&"0"&B88 -> EQACFV01 | D88: u | E88: Armari de 18 mòduls
E89: Caixa de termoplàstic de muntatge en superfície de 18 Mòduls amb grau de protecció IP41 lliure d'halògens de dimensions 382x257x120 mm
F90: 1 | G90: 1 | H90: =F90*G90 -> 1
B91: 2 | C91: =B$2&B$3&B$87&"0"&B91 -> EQACFV02 | D91: u | E91: Font d'alimentació conmutada CA/CC
E92: Potència: 1 Adc Tensió d'entrada: 100-240 Vac Tensió de sortida: 24 Vdc Freqüència: 47 - 63 Hz Protecció: IP20 Temperatura ambient: 50 °C Fixació: Carril DIN Normes: EN5550011, EN55022, EN61000, EN60950, UL 508 Pes: 0,15 kg Dimensions: 45x74x97 mm
F93: 1 | G93: 1 | H93: =F93*G93 -> 1
B94: 3 | C94: =B$2&B$3&B$87&"0"&B94 -> EQACFV03 | D94: u | E94: Loxone Extension o equivalent
E95: Extensio amb entrades i sortides addicionals Alimentació externa: 24 Vdc Potència de dissipació màxima: 7,8 W Sortides digitals: 8 sortides digitals (relés) 250 Vac 5 A Entrades digitals: 12 entrades digitals 24 Vdc (SELV) Sortides analògiques: 4 Sortides analògiques 0..10 Vdc Entrades analògiques: 4 entrades analògiques 0..10 Vdc o 4 entrades digitals 24 Vdc Connexió amb Loxone Link Dimensions: 156x88x57 Protecció IP20 Temperatura de treball: 0..50 °C
F96: 1 | G96: 1 | H96: =F96*G96 -> 1
B97: 4 | C97: =B$2&B$3&B$87&"0"&B97 -> EQACFV04 | D97: u | E97: Loxone 1-Wire Extension o equivalent
E98: Extensio amb tecnologia 1-Wire Alimentació externa: 24 Vdc Consum: aproximadament 30 mA Temperatura ambient: 0..50 °C Interfície 1-Wire: 16,3 kbit/s (S'hi poden connectar fins a 20 sensors)
F99: 1 | G99: 1 | H99: =F99*G99 -> 1
A100: 1.2 | B100: C | C100: =B$2&B$100 -> EQC | E100: Equipament de camp
...

Sheet JustificacióPreusFinal
B1: Equipament | E1: 30% lox | G1: 25%lox
B2: Codi | C2: Unitat | D2: Descripció | E2: Preu | G2: Preu
B3: EQACG01 | C3: u | D3: Armari mural 500x700x250mm | E3: 139.3 | G3: 139.3
B4: EQACG02 | C4: u | D4: Loxone Miniserver o equivalent | E4: 317.744 | F4: =E4/(1-30%) -> 453.92 | G4: =F4-(F4*25%) -> 340.44
B5: EQACG03 | C5: u | D5: Passarel·la 9Hnet o equivalent | E5: 315 | F5: =E5/(1-30%) -> 450 | G5: 450
B6: EQACST103 | C6: u | D6: Loxone Air Base Extension o equivalent | E6: 63.17 | F6: =E6/(1-30%) -> 90.242857 | G6: =F6-(F6*25%) -> 67.682143
B7: EQACST202
B8: EQACG04 | C8: u | D8: Loxone 1-Wire Extension o equivalent | E8: 107.835 | F8: =E8/(1-30%) -> 154.05 | G8: =F8-(F8*25%) -> 115.5375
B9: EQACG05 | C9: u | D9: Loxone Modbus Extension o equivalent | E9: 145.467 | F9: =E9/(1-30%) -> 207.81 | G9: =F9-(F9*25%) -> 155.8575
B10: EQACG06 | C10: u | D10: Font d'alimentació conmutada CA/CC | E10: 14 | G10: 14
B11: EQACST104
B12: EQACST203
B13: EQACFV02
B14: EQCCE02
B15: EQACG07 | C15: u | D15: Bornes de doble pis seccionables Phoenix Contact 3044775 | E15: 4.1145 | G15: 4.1145
B16: EQACG08 | C16: u | D16: Interruptor diferencial 1P+N | E16: 132.22 | G16: 132.22
B17: EQACG09 | C17: u | D17: Magnetotèrmic de dos pols SH202C 10A ABB | E17: 10.924 | G17: 10.924
B18: EQACG10 | C18: u | D18: Presa schuko | E18: 8.385 | G18: 8.385
B19: EQACG11 | C19: u | D19: Presa terra | E19: 2.4759 | G19: 2.4759
B20: EQACG12 | C20: u | D20: Selectors manual/remot per a cada sortida digital | E20: 27.68 | G20: 27.68
B21: EQACG13 | C21: u | D21: 2 m.l.Safata canal UNEX de 40x60x77 | E21: 3.8545 | G21: 3.8545
B22: EQACG14 | C22: u | D22: 1 m.l de carril DIN en U de 35 x 7,5 mm | E22: 2.98 | G22: 2.98
B23: EQACG15 | C23: u | D23: Material fungible | E23: 150 | G23: 150
B24: EQACST101 | C24: u | D24: Armari de 12 mòduls | E24: 14.425 | G24: 14.425
B26: EQACST102 | C26: u | D26: Loxone Tree Base Extension o equivalent | E26: 63.168 | F26: =E26/(1-30%) -> 90.24 | G26: =F26-(F26*25%) -> 67.68
B27: EQCCE03
B28: EQACST105 | C28: u | D28: Interruptor de comandament | E28: 8.755 | G28: 8.755
B29: EQACST204
B30: EQACST106 | C30: u | D30: Relé 2 Circuits 220 V,5A | E30: 7.742 | G30: 7.742
B31: EQACST205
B32: EQCCR03
B33: EQACST107 | C33: u | D33: Sòcol de relé per a carril DIN de 8 pins | E33: 5.65 | G33: 5.65
B34: EQACST206
B35: EQCCR04
B36: EQACST201 | C36: u | D36: Armari de 8 mòduls | E36: 13.96 | G36: 13.96
B37: EQACFV01 | C37: u | D37: Armari de 18 mòduls | E37: 17.57 | G37: 17.57
B38: EQACFV03 | C38: u | D38: Loxone Extension o equivalent | E38: 253.946 | F38: =E38/(1-30%) -> 362.78 | G38: =F38-(F38*25%) -> 272.085
B39: EQACFV04 | C39: u | D39: Loxone 1-Wire Extension o equivalent | E39: 107.835 | F39: =E39/(1-30%) -> 154.05 | G39: =F39-(F39*25%) -> 115.5375
B40: EQCLOX01 | C40: u | D40: Contacte de porta i finestra Loxone Air o equivalent | E40: 41.349 | F40: =E40/(1-30%) -> 59.07 | G40: =F40-(F40*25%) -> 44.3025
B41: EQCLOX02 | C41: u | D41: Actuador de vàlvula de radiador Loxone Air o equivalent | E41: 59.717 | F41: =E41/(1-30%) -> 85.31 | G41: =F41-(F41*25%) -> 63.9825
B42: EQCLOX03 | C42: u | D42: Adaptador de vàlvula VA78 | E42: 0.91 | F42: =E42/(1-30%) -> 1.3 | G42: =F42-(F42*25%) -> 0.975
B43: EQCLOX04 | C43: u | D43: Estació meteorològica Loxone Tree o equivalent | E43: 297.829 | F43: =E43/(1-30%) -> 425.47 | G43: =F43-(F43*25%) -> 319.1025
B44: EQCLOX05 | C44: u | D44: Sensor Loxone Confort Air o equivalent | E44: 52.829 | F44: =E44/(1-30%) -> 75.47 | G44: =F44-(F44*25%) -> 56.6025
B45: EQCLOX06 | C45: u | D45: Sensor Loxone Confort Tree o equivalent | E45: 143.479 | F45: =E45/(1-30%) -> 204.97 | G45: =F45-(F45*25%) -> 153.7275
B46: EQCLOX07 | C46: u | D46: Comptador d'energia Modbus trifàsic | E46: 190.638 | F46: =E46/(1-30%) -> 272.34 | G46: =F46-(F46*25%) -> 204.255
B47: EQCLOX08 | C47: u | D47: Sensor de temperatura 1-Wire | E47: 8.729 | F47: =E47/(1-30%) -> 12.47 | G47: =F47-(F47*25%) -> 9.3525
B48: EQCLOX09 | C48: u | D48: Detector de moviment/Luxometria Loxone Air o equivalent | E48: 63.742 | F48: =E48/(1-30%) -> 91.06 | G48: =F48-(F48*25%) -> 68.295
B49: EQCLOX010 | C49: u | D49: Sensor d'inundació Loxone Air o equivalent | E49: 41.349 | F49: =E49/(1-30%) -> 59.07 | G49: =F49-(F49*25%) -> 44.3025
B50: EQCLOX011 | C50: u | D50: Loxone Smart Socket Air o equivalent | E50: 44.597 | F50: =E50/(1-30%) -> 63.71 | G50: =F50-(F50*25%) -> 47.7825
B51: EQCCR01 | C51: u | D51: Caixa de connexions de 86x140x180 | E51: 25.77 | G51: 25.77
B52: EQCCR02 | C52: u | D52: Loxone Nano IO Air o equivalent | E52: 70.434 | F52: =E52/(1-30%) -> 100.62 | G52: =F52-(F52*25%) -> 75.465
B53: EQCCR05 | C53: u | D53: Carril DIN | E53: 2.98 | G53: 2.98
B54: EQCCR06 | C54: u | D54: Connector de borna de 3 vies de muntatge en cable, 32 A | E54: 0.34 | G54: 0.34
B55: EQCCE04
B56: EQCCE01 | C56: u | D56: Caixa de connexions de 100 x 100 x 80 mm | E56: 3.45 | G56: =E56 -> 3.45
B57: EQCCR07 | C57: u | D57: Connector de borna de 5 vies de muntatge en cable, 32 A | E57: 0.546 | G57: 0.546
B58: EQLVT01 | C58: u | D58: Vàlvula termostàtica Danfoss RA-FN | E58: 17.59 | G58: 17.59
B59: EQLCAL01 | C59: u | D59: Comptador tèrmic Kamstrup Modbus RTU Model Multical 603 | E59: 1069.5 | G59: 1069.5
B60: EQLVP01 | C60: u | D60: Subministrament i muntatge de vàlvula de pressió diferencial Caleffi DN40 | E60: 460.6 | G60: 460.6
B61: EQLVP02 | C61: u | D61: Brocs de connexió a conduccions existents, mitjançant soldadura elèctrica | E61: 122.12 | G61: 122.12
B62: EQLVP03 | C62: u | D62: m.l de tub inoxidable DN40 premsat i accessoris de muntatge | E62: 60.21 | G62: 60.21
B63: EQLVP04 | C63: u | D63: m.l. d'aïllament tèrmic mitjançant coquilla Armaflex o similar més accessoris de muntatge. | E63: 12.84 | G63: 12.84
B64: EQEL01 | C64: u | D64: Bornes portafusibles (pack de 25 unitats) | E64: =131.25-(131.25*0.3) -> 91.875 | F64: =E64/(1-30%) -> 131.25 | G64: =F64-(F64*25%) -> 98.4375
B65: EQEL02 | C65: u | D65: Fusible tipus C de 2 A | G65: =9.84-(9.84*25%) -> 7.38
B66: EQEL03 | C66: m | D66: Canal de distribució de PVC UNEX U23X de 40 x 60 "blanco nieve", inclou un pont per a cada 0,5 m. | E66: 2.3 | G66: 2.3
B67: CABC01 | C67: m | D67: Cable Loxone Link (o equivalent) + Modbus RTU | E67: 0.685 | F67: =E67/(1-30%) -> 0.97857143 | G67: =F67-(F67*25%) -> 0.73392857
B68: CABC02 | C68: m | D68: Cable Loxone Tree (o equivalent) | E68: 0.685 | F68: =E68/(1-30%) -> 0.97857143 | G68: =F68-(F68*25%) -> 0.73392857
B69: CABC03 | C69: m | D69: Cable 1-Wire | E69: 0.64 | G69: 0.64
B70: CABC04 | C70: m | D70: Tub rígid lliure d'halògens de 16 mm de secció | E70: 1.07 | G70: 1.07
B71: CABC05 | C71: m | D71: Cablejat AC | G71: 0.61
B72: EQCAD01 | C72: u | D72: Tablet PC de 7" | E72: 53.56 | G72: 53.56
B73: EQCAD02 | C73: u | D73: Suport de paret per a tablet | G73: 33.89
B74: EACOM01 | C74: U | D74: Router DLINK DSR-250 8-Port Gigabit VPN Router | G74: 174.34
B76: Mà d'obra
B77: Codi | C77: Unitat | D77: Descripció | G77: Preu
B78: MOEL01 | C78: h | D78: Oficial 1a electricista | G78: 19.1
B79: MOEL02 | C79: h | D79: Ajudant d'electricista | G79: 17.2
B80: MOAJM | C80: h | D80: Ajudant muntador | G80: 16.5
B81: MOMES | C81: h | D81: Manobre especialista | G81: 20.2
B82: MOENGD | C82: h | D82: Enginyer desenvolupament | G82: 50
B83: MOENGV | C83: h | D83: Enginyer verificació | G83: 35
B85: Material | G85: Preu
B86: MAT01 | C86: u | D86: Material fungible de instal·lació elèctrica | G86: 5
B87: MAT02 | C87: u | D87: Llistó de fusta per a augmentar l'espai de la gàbia de la paret | G87: 5
B90: Partides d'obra
B91: Codi | C91: Unitat | D91: Descripció | F91: Preu/U | G91: Preu
D93: Mecanització i muntatge d'armaris
B94: =Amidaments!C225 -> MEC01 | C94: u | D94: Mecanitzat i muntatge de l'armari principal de control
D95: El mecanitzat d'aquest armari consisteix en el muntatge de tot el hardware de l'armari en el carril DIN, mecanitzat dels canals de cablejat, el propi cablejat i etiquetat del mateix.
B96: Mà d'obra
B97: MOAJM | C97: h | D97: Ajudant muntador | E97: 16 | F97: 16.5 | G97: =E97*F97 -> 264
D98: Cost d'execució | G98: =SUM(G97) -> 264
B99: =Amidaments!C228 -> MEC02 | C99: u | D99: Muntatge dels armaris satèl·lits (inclou el de la sala de fotovoltaica)
D100: El mecanitzat d'aquests armaris consisteix en el muntatge en carril DIN i cablejat de tot el hardware.
B101: Mà d'obra
B102: MOAJM | C102: h | D102: Ajudant muntador | E102: 0.17 | F102: 16.5 | G102: =E102*F102 -> 2.805
D103: Cost d'execució | G103: =SUM(G102) -> 2.805
B104: =Amidaments!C231 -> MEC03 | C104: u | D104: Mecanitzat i muntatge de les caixes de registre (inclou la caixa exterior)
D105: El mecanitzat inclou la instal·lació del carril DIN, el muntatge dels diferents elements de hardware en aquest, l'adhesió del Nano IO i cablejat entre els elements.
B106: Material
...

Sheet PressupostFinalV2
A1: Codi | B1: UA | C1: Descripció | D1: Amidam. | E1: Preu | F1: Import
A2: EQ | C2: Equipament | F2: =F45+F69+F89+F103+F139+F162+F176+F184+F207+F189+F218 -> 22169.748
A3: EQAC | C3: Armaris de control
A4: EQACG | B4: u | C4: Armari general de control
A5: EQACG01 | B5: u | C5: Armari mural ABB 500x700x250mm
C6: Caixa mural de dimensions 500x700x250mm amb porta realitzada en xapa d'acer d'espessor 1,5mm. Placa de muntatge realitzada en xapa d'hacer galvanitzat d'espessor 2,5mm. Grau de protecció IP66 segons la norma IEC EN62208; EN60529
D7: =Amidaments!H7 -> 1 | E7: 139.3 | F7: =D7*E7 -> 139.3
A8: EQACG02 | B8: u | C8: Loxone Miniserver o equivalent
C9: 8x entrades digitals 8 VDC – 24 Vdc 4x entrades analògiques 0-10 V 4x sortides analògiques 0-10 V (max. 20 mA) 8x sortides digitals 250 V/5 A Ranura per a targtes SD Port LAN Port KNX/EIB Loxone Link Alimentació a 24 Vdc (font a part)
D10: =Amidaments!H10 -> 1 | E10: =JustificacióPreusFinal!G4 -> 340.44 | F10: =D10*E10 -> 340.44
A11: EQACG03 | B11: u | C11: Passarel·la 9Hnet o equivalent
C12: Servidor intermig per a la comunicació externa de Loxone (o equivalent) amb altres protocols
D13: =Amidaments!H13 -> 1 | E13: =JustificacióPreusFinal!G5 -> 450 | F13: =D13*E13 -> 450
A14: EQACG04 | B14: u | C14: Loxone 1-Wire Extension o equivalent
C15: Extensió amb tecnologia 1-Wire Alimentació externa: 24 Vdc Consum: aproximadament 30 mA Temperatura ambient: 0..50 °C Interfície 1-Wire: 16,3 kbit/s (S'hi poden connectar fins a 20 sensors)
D16: =Amidaments!H16 -> 1 | E16: =JustificacióPreusFinal!G8 -> 115.5375 | F16: =D16*E16 -> 115.5375
A17: EQACG05 | B17: u | C17: Loxone Modbus Extension (o equivalent)
C18: Extensió per al protocol Modbus Alimentació externa: 24 Vdc Consum: aproximadament 30 mA Comunicació: Loxone Link, Modbus RTU Velocitat de comunicació ajustable Disseny per a muntatge en carril DIN Dimensions 35,5×88x57 mm Protecció IP20 Temperatura ambient 0… 50 ºC Paritat Ajustable Bits de Stop Ajustable (1 a 2) Rang de direcciones Extès (0 a 65535) Màxim número de dispositius: 32 dispositius Modbus RTU esclaus Màxim número de registres de lectura: 253 registres Modbus (16 bits)
D19: =Amidaments!H19 -> 1 | E19: =JustificacióPreusFinal!G9 -> 155.8575 | F19: =D19*E19 -> 155.8575
A20: EQACG06 | B20: u | C20: Font d'alimentació conmutada CA/CC
C21: Potència: 1 Adc Tensió d'entrada: 100-240 Vac Tensió de sortida: 24 Vdc Freqüència: 47 - 63 Hz Protecció: IP20 Temperatura ambient: 50 °C Fixació: Carril DIN Normes: EN5550011, EN55022, EN61000, EN60950, UL 508 Pes: 0,15 kg Dimensions: 45x74x97 mm
D22: =Amidaments!H22 -> 1 | E22: 14 | F22: =D22*E22 -> 14
A23: EQACG07 | B23: u | C23: Bornes de doble pis seccionables Phoenix Contact 3044775
C24: Borna interrumpible per ganiveta, tipus de connexió: conexió per cargol, secció: 0,14 mm2 - 6 mm2, AWG:26-10, amplada: 6,2 mm, color gris, classe de muntatge: NS 35/7,5 NS 35/17
D25: =Amidaments!H25 -> 30 | E25: 4.1145 | F25: =D25*E25 -> 123.435
A26: EQACG08 | B26: u | C26: Interruptor diferencial 1P+N, 10 A, amb sensibilitat de 30 mA
D27: =Amidaments!H27 -> 1 | E27: 132.22 | F27: =D27*E27 -> 132.22
A28: EQACG09 | B28: u | C28: Magnetotèrmic de dos pols SH202C 10A ABB
D29: =Amidaments!H29 -> 1 | E29: 10.924 | F29: =D29*E29 -> 10.924
A30: EQACG010 | B30: u | C30: Presa schuko
C31: Presa de corrent modular, estàndard de 16 A i 250 Vac
D32: =Amidaments!H32 -> 1 | E32: 8.385 | F32: =D32*E32 -> 8.385
A33: EQACG011 | B33: u | C33: =Amidaments!E33 -> Borna terra
D34: =Amidaments!H34 -> 1 | E34: 2.4759 | F34: =D34*E34 -> 2.4759
A35: EQACG012 | B35: u | C35: Selectors manual/remot per a cada sortida digital
C36: Compostos per: Cap de selector maneta curta ZB4BD3 de 22 mm de diàmetre i 3 posicions fixes. Cos Complet ZB4BZ101 Bloc de contacte 1NA ZBE101 per a cap de 22 mm de diàmetre
D37: =Amidaments!H37 -> 8 | E37: 27.68 | F37: =D37*E37 -> 221.44
A38: EQACG013 | B38: u | C38: 2 m.l.Safata canal UNEX de 40x60x77
D39: =Amidaments!H39 -> 1 | E39: 3.8545 | F39: =D39*E39 -> 3.8545
A40: EQACG014 | B40: u | C40: 1 m.l de carril DIN en U de 35 x 7,5 mm
D41: =Amidaments!H41 -> 1 | E41: 2.98 | F41: =D41*E41 -> 2.98
A42: EQACG015 | B42: u | C42: Material fungible
C43: Inclou tot el cablejat d'interior d'armari: Cablejat d'alimentació Vdc de 1,5 mm de secció de colors vermell i negre, manguera lliure d'halògens de 3 x 2,5 mm de secció, loxone link per a comunicació amb les extensions de dins l'armari. Inclou també tots els marcadors de cablejat. Inclou punteres, brides, etc.
D44: =Amidaments!H44 -> 1 | E44: 150 | F44: =D44*E44 -> 150
C45: Cost armari general control | F45: =SUM(F7:F44) -> 1870.8494
A46: EQACS | C46: Armaris satèl·lits
A47: EQACST1 | C47: Armari satèl·lit tipus 1 (tecnologia Air i Tree)
A48: EQACST101 | B48: u | C48: Armari de 12 mòduls
C49: Caixa de termoplàstic de muntatge en superfície de 12 Mòduls amb grau de protecció IP41 lliure d'halògens de dimensions 297x262x114 mm
D50: =Amidaments!H49 -> 6 | E50: 14.425 | F50: =D50*E50 -> 86.55
A51: EQACST102 | B51: u | C51: Loxone Tree Base Extension o equivalent
C52: Extensió base de la tecnologia cablejada Connexió a través de Loxone Link o equivalent Dimensions: 35,5 x 88 x 57 mm (2 TE) 2 LEDs d'estat (de 2 colors) Alimentació 24 VDC Consum 115 mW Protecció IP20 Temperatura de treball: 0 … +55 °C Sección del cablejat: 0,25-0,8 mm² Longitud del cable sense coberta: 5 mm
D53: =Amidaments!H52 -> 6 | E53: =JustificacióPreusFinal!G26 -> 67.68 | F53: =D53*E53 -> 406.08
A54: EQACST103 | B54: u | C54: Loxone Air Base o equivalent
C55: Extensió base de la tecnologia sense fils Connexió amb Loxone Link (o equivalent) Dimensions: 35,5 x 88 x 57 mm (2 TE) S'alimenta amb una font externa de 24 Vdc Consum d'energia màxim: 6 mA Protecció IP20 Temperatura ambient: 0 … +55 °C Freqüència: 868 MHz (EU)
D56: =Amidaments!H55 -> 6 | E56: =JustificacióPreusFinal!G6 -> 67.682143 | F56: =D56*E56 -> 406.09286
A57: EQACST104 | B57: u | C57: Font d'alimentació conmutada CA/CC
C58: Potència: 1 Adc Tensió d'entrada: 100-240 Vac Tensió de sortida: 24 Vdc Freqüència: 47 - 63 Hz Protecció: IP20 Temperatura ambient: 50 °C Fixació: Carril DIN Normes: EN5550011, EN55022, EN61000, EN60950, UL 508 Pes: 0,15 kg Dimensions: 45x74x97 mm
D59: =Amidaments!H58 -> 6 | E59: 14 | F59: =D59*E59 -> 84
A60: EQACST105 | B60: u | C60: Interruptor de comandament
C61: Interruptor de comandament E211-16-10 16A 1 NA. Tensió nominal: 250/415 V Nombre de contactes principals NO: 1 Pèrdua de potència: 0,82 W Normes: EN60669-1, EN60669-2-4
D62: =Amidaments!H61 -> 6 | E62: 8.755 | F62: =D62*E62 -> 52.53
A63: EQACST106 | B63: u | C63: Relé 2 Circuits 220 V,5A
C64: Relé Finder de 2 circuits de 220 V i 5 A. Protecció: IP40
D65: =Amidaments!H64 -> 6 | E65: 7.742 | F65: =D65*E65 -> 46.452
A66: EQACST107 | B66: u | C66: Sòcol de relé per a carril DIN de 8 pins
C67: Sòcol per a muntatge de relés de potència en carril DIN de 35 mm amb terminals a prova de contacte amb protecció IP20, 10 A, 250 V
D68: =Amidaments!H67 -> 6 | E68: 5.65 | F68: =D68*E68 -> 33.9
C69: Cost armaris satèl·lit tipus1 | F69: =SUM(F50:F68) -> 1115.6049
A70: EQACST2 | B70: u | C70: Armari satèl·lit tipus 2 (tecnologia Air)
A71: EQACST201 | B71: u | C71: Armari ABB Mistral 41 W, 8 M de 206,5 x 262 x 118 mm
C72: Caixa de termoplàstic de muntatge en superfície de 12 Mòduls amb grau de protecció IP41 lliure d'halògens de dimensions 297x262x114 mm
D73: =Amidaments!H71 -> 7 | E73: 13.96 | F73: =D73*E73 -> 97.72
A74: EQACST202 | B74: u | C74: Loxone Air Base Extension o equivalent
C75: Extensió base de la tecnologia sense fils Connexió amb Loxone Link o equivalent Dimensions: 35,5 x 88 x 57 mm (2 TE) S'alimenta amb una font externa de 24 Vdc Consum d'energia màxim: 6 mA Protecció IP20 Temperatura ambient: 0 … +55 °C Freqüència: 868 MHz (EU)
D76: =Amidaments!H74 -> 7 | E76: =JustificacióPreusFinal!G6 -> 67.682143 | F76: =D76*E76 -> 473.775
A77: EQACST203 | B77: u | C77: Font d'alimentació conmutada CA/CC
C78: Potència: 1 Adc Tensió d'entrada: 100-240 Vac Tensió de sortida: 24 Vdc Freqüència: 47 - 63 Hz Protecció: IP20 Temperatura ambient: 50 °C Fixació: Carril DIN Normes: EN5550011, EN55022, EN61000, EN60950, UL 508 Pes: 0,15 kg Dimensions: 45x74x97 mm
D79: =Amidaments!H77 -> 7 | E79: 14 | F79: =D79*E79 -> 98
A80: EQACST204 | B80: u | C80: Interruptor Manual/Remot
C81: Interruptor de comandament E211-16-10 16A 1 NA. Tensió nominal: 250/415 V Nombre de contactes principals NO: 1 Pèrdua de potència: 0,82 W Normes: EN60669-1, EN60669-2-4
D82: =Amidaments!H80 -> 7 | E82: 8.755 | F82: =D82*E82 -> 61.285
A83: EQACST205 | B83: u | C83: Relé 2 Circuits 220 V, 5A
C84: Relé Finder de 2 circuits de 220 V i 5 A. Protecció: IP40
D85: =Amidaments!H83 -> 7 | E85: 7.742 | F85: =D85*E85 -> 54.194
A86: EQACST206 | B86: u | C86: Sòcol de Relé per a carril DIN de 8 pins
C87: Sòcol per a muntatge de relés de potència en carril DIN de 35 mm amb terminals a prova de contacte amb protecció IP20, 10 A, 250 V
D88: =Amidaments!H86 -> 7 | E88: 5.65 | F88: =D88*E88 -> 39.55
C89: Cost armaris satèl·lit tipus 2 | F89: =SUM(F73:F88) -> 824.524
A90: EQACFV | C90: Armari Sala Fotovoltaica
A91: EQACFV01 | B91: u | C91: Armari de 18 mòduls
C92: Caixa de termoplàstic de muntatge en superfície de 18 Mòduls amb grau de protecció IP41 lliure d'halògens de dimensions 382x257x120 mm
D93: =Amidaments!H90 -> 1 | E93: =JustificacióPreusFinal!G37 -> 17.57 | F93: =D93*E93 -> 17.57
A94: EQACFV02 | B94: u | C94: Font d'alimentació conmutada CA/CC
C95: Potència: 1 Adc Tensió d'entrada: 100-240 Vac Tensió de sortida: 24 Vdc Freqüència: 47 - 63 Hz Protecció: IP20 Temperatura ambient: 50 °C Fixació: Carril DIN Normes: EN5550011, EN55022, EN61000, EN60950, UL 508 Pes: 0,15 kg Dimensions: 45x74x97 mm
D96: =Amidaments!H93 -> 1 | E96: 14 | F96: =D96*E96 -> 14
A97: EQACFV03 | B97: u | C97: Loxone Extension o equivalent
C98: Extensio amb entrades i sortides addicionals Alimentació externa: 24 Vdc Potència de dissipació màxima: 7,8 W Sortides digitals: 8 sortides digitals (relés) 250 Vac 5 A Entrades digitals: 12 entrades digitals 24 Vdc (SELV) Sortides analògiques: 4 Sortides analògiques 0..10 Vdc Entrades analògiques: 4 entrades analògiques 0..10 Vdc o 4 entrades digitals 24 Vdc Connexió amb Loxone Link o equivalent Dimensions: 156x88x57 Protecció IP20 Temperatura de treball: 0..50 °C
D99: =Amidaments!H96 -> 1 | E99: =JustificacióPreusFinal!G38 -> 272.085 | F99: =D99*E99 -> 272.085
A100: EQACFV04 | B100: u | C100: Loxone 1-Wire Extension o equivalent
...
