Workbook
Name DESPLEGABLE: [1]Anexes!$B$4:$B$5

Sheet Amidaments
B1: Codi | C1: Codi | D1: Ut | E1: Descripció | F1: Nº | G1: Conjunts | H1: Total
A2: 1 | B2: EQ | C2: EQ | E2: Equipament
A3: 1.1 | B3: AC | C3: =B$2&B$3 -> EQAC | E3: Armaris de control
A4: 1.1.1 | B4: G | C4: =B$2&B$3&B$4 -> EQACG | D4: u | E4: Armari general de control
A5: 1.1.1.1 | B5: 1 | C5: =B$2&B$3&B$4&"0"&B5 -> EQACG01 | D5: u | E5: Armari mural ABB 500x700x250mm
E6: Caixa mural de dimensions 500x700x250mm amb porta realitzada en xapa d'acer d'espessor 1,5mm. Placa de muntatge realitzada en xapa d'hacer galvanitzat d'espessor 2,5mm. Grau de protecció IP66 segons la norma IEC EN62208; EN60529
F7: 1 | G7: 1 | H7: =G$7*F7 -> 1
A8: 1.1.1.2 | B8: 2 | C8: =B$2&B$3&B$4&"0"&B8 -> EQACG02 | D8: u | E8: Loxone Miniserver o equivalent
E9: 8x entrades digitals 8 VDC – 24 Vdc 4x entrades analògiques 0-10 V 4x sortides analògiques 0-10 V (max. 20 mA) 8x sortides digitals 250 V/5 A Ranura per a targtes SD Port LAN Port KNX/EIB Loxone Link Alimentació a 24 Vdc (font a part)
F10: 1 | G10: 1 | H10: =G$7*F10 -> 1
A11: 1.1.1.3 | B11: 3 | C11: =B$2&B$3&B$4&"0"&B11 -> EQACG03 | D11: u | E11: Passarel·la 9Hnet o equivalent
E12: Servidor intermig per a la comunicació externa de Loxone (o equivalent) amb altres protocols
F13: 1 | G13: 1 | H13: =G$7*F13 -> 1
A14: 1.1.1.4 | B14: 4 | C14: =B$2&B$3&B$4&"0"&B14 -> EQACG04 | D14: u | E14: Loxone 1-Wire Extension o equivalent
E15: Extensio amb tecnologia 1-Wire Alimentació externa: 24 Vdc Consum: aproximadament 30 mA Temperatura ambient: 0..50 °C Interfície 1-Wire: 16,3 kbit/s (S'hi poden connectar fins a 20 sensors)
F16: 1 | G16: 1 | H16: =G$7*F16 -> 1
A17: 1.1.1.5 | B17: 5 | C17: =B$2&B$3&B$4&"0"&B17 -> EQACG05 | D17: u | E17: Loxone Modbus Extension o equivaelnt
E18: Extensió per al protocol Modbus Alimentació externa: 24 Vdc Consum: aproximadament 30 mA Comunicació: Loxone Link, Modbus RTU Velocitat de comunicació ajustable Disseny per a muntatge en carril DIN Dimensions 35,5×88x57 mm Protecció IP20 Temperatura ambient 0… 50 ºC Paritat Ajustable Bits de Stop Ajustable (1 a 2) Rang de direcciones Extès (0 a 65535) Màxim número de dispositius: 32 dispositius Modbus RTU esclaus Màxim número de registres de lectura: 253 registres Modbus (16 bits)
F19: 1 | G19: 1 | H19: =G$7*F19 -> 1
A20: 1.1.1.6 | B20: 6 | C20: =B$2&B$3&B$4&"0"&B20 -> EQACG06 | D20: u | E20: Font d'alimentació conmutada CA/CC
E21: Potència: 1 Adc Tensió d'entrada: 100-240 Vac Tensió de sortida: 24 Vdc Freqüència: 47 - 63 Hz Protecció: IP20 Temperatura ambient: 50 °C Fixació: Carril DIN Normes: EN5550011, EN55022, EN61000, EN60950, UL 508 Pes: 0,15 kg Dimensions: 45x74x97 mm
F22: 1 | G22: 1 | H22: =G$7*F22 -> 1
A23: 1.1.1.7 | B23: 7 | C23: =B$2&B$3&B$4&"0"&B23 -> EQACG07 | D23: u | E23: Bornes de doble pis seccionables
E24: Borna interrumpible per ganiveta Phoenix Contact 3044775, tipus de connexió: conexió per cargol, secció: 0,14 mm2 - 6 mm2, AWG:26-10, amplada: 6,2 mm, color gris, classe de muntatge: NS 35/7,5 NS 35/17
F25: 30 | G25: 1 | H25: =G$7*F25 -> 30
A26: 1.1.1.8 | B26: 8 | C26: =B$2&B$3&B$4&"0"&B26 -> EQACG08 | D26: u | E26: Interruptor diferencial 1P+N, 10 A, amb sensibilitat de 30 mA
F27: 1 | G27: 1 | H27: =G$7*F27 -> 1
A28: 1.1.1.9 | B28: 9 | C28: =B$2&B$3&B$4&"0"&B28 -> EQACG09 | D28: u | E28: Magnetotèrmic de dos pols SH202C 10A ABB
F29: 1 | G29: 1 | H29: =G$7*F29 -> 1
A30: 1.1.1.10 | B30: 10 | C30: =B$2&B$3&B$4&"0"&B30 -> EQACG010 | D30: u | E30: Presa schuko
E31: Presa de corrent modular, estàndard de 16 A i 250 Vac
F32: 1 | G32: 1 | H32: =G$7*F32 -> 1
A33: 1.1.1.11 | B33: 11 | C33: =B$2&B$3&B$4&"0"&B33 -> EQACG011 | D33: u | E33: Borna terra
F34: 1 | G34: 1 | H34: =G$7*F34 -> 1
A35: 1.1.1.12 | B35: 12 | C35: =B$2&B$3&B$4&"0"&B35 -> EQACG012 | D35: u | E35: Selectors manual/remot per a cada sortida digital
E36: Compostos per: Cap de selector maneta curta ZB4BD3 de 22 mm de diàmetre i 3 posicions fixes. Cos Complet ZB4BZ101 Bloc de contacte 1NA ZBE101 per a cap de 22 mm de diàmetre
F37: 8 | G37: 1 | H37: =G$7*F37 -> 8
A38: 1.1.1.13 | B38: 13 | C38: =B$2&B$3&B$4&"0"&B38 -> EQACG013 | D38: u | E38: 2 m.l.Safata canal UNEX de 40x60x77
F39: 1 | G39: 1 | H39: =G$7*F39 -> 1
A40: 1.1.1.14 | B40: 14 | C40: =B$2&B$3&B$4&"0"&B40 -> EQACG014 | D40: u | E40: 1 m.l de carril DIN en U de 35 x 7,5 mm
F41: 1 | G41: 1 | H41: =G$7*F41 -> 1
A42: 1.1.1.15 | B42: 15 | C42: =B$2&B$3&B$4&"0"&B42 -> EQACG015 | D42: u | E42: Material fungible
E43: Inclou tot el cablejat d'interior d'armari: Cablejat d'alimentació Vdc de 1,5 mm de secció de colors vermell i negre, manguera lliure d'halògens de 3 x 2,5 mm de secció, loxone link per a comunicació amb les extensions de dins l'armari. Inclou també tots els marcadors de cablejat. Inclou punteres, brides, etc.
F44: 1 | G44: 1 | H44: =G$7*F44 -> 1
A45: 1.1.2 | B45: S | C45: =B$2&B$3&B$45 -> EQACS | E45: Armaris satèl·lits
A46: 1.1.2.1 | B46: T1 | C46: =B$2&B$3&B$45&B$46 -> EQACST1 | E46: Armari satèl·lit tipus 1 (tecnologia Air i Tree)
A47: 1.1.2.1.1 | B47: 1 | C47: =B$2&B$3&B$45&B$46&"0"&B47 -> EQACST101 | D47: u | E47: Armari de 12 mòduls
E48: Caixa de termoplàstic de muntatge en superfície de 12 Mòduls amb grau de protecció IP41 lliure d'halògens de dimensions 297x262x114 mm
F49: 1 | G49: 9 | H49: =G49*F49 -> 9
A50: 1.1.2.1.2 | B50: 2 | C50: =B$2&B$3&B$45&B$46&"0"&B50 -> EQACST102 | D50: u | E50: Loxone Tree Base Extension o equivalent
E51: Extensió base de la tecnologia Loxone Tree o equivalent Connexió a través de Loxone Link o equivalent Dimensions: 35,5 x 88 x 57 mm (2 TE) 2 LEDs d'estat (de 2 colors) Alimentació 24 VDC Consum 115 mW Protecció IP20 Temperatura de treball: 0 … +55 °C Sección del cablejat: 0,25-0,8 mm² Longitud del cable sense coberta: 5 mm
F52: 1 | G52: 9 | H52: =G52*F52 -> 9
A53: 1.1.2.1.3 | B53: 3 | C53: =B$2&B$3&B$45&B$46&"0"&B53 -> EQACST103 | D53: u | E53: Loxone Air Base Extension o equivalent
E54: Extensió base de la tecnologia Loxone Connexió amb Loxone Link Dimensions: 35,5 x 88 x 57 mm (2 TE) S'alimenta amb una font externa de 24 Vdc Consum d'energia màxim: 6 mA Protecció IP20 Temperatura ambient: 0 … +55 °C Freqüència: 868 MHz (EU)
F55: 1 | G55: 9 | H55: =G55*F55 -> 9
A56: 1.1.2.1.4 | B56: 4 | C56: =B$2&B$3&B$45&B$46&"0"&B56 -> EQACST104 | D56: u | E56: Font d'alimentació conmutada CA/CC
E57: Potència: 1 Adc Tensió d'entrada: 100-240 Vac Tensió de sortida: 24 Vdc Freqüència: 47 - 63 Hz Protecció: IP20 Temperatura ambient: 50 °C Fixació: Carril DIN Normes: EN5550011, EN55022, EN61000, EN60950, UL 508 Pes: 0,15 kg Dimensions: 45x74x97 mm
F58: 1 | G58: 9 | H58: =G58*F58 -> 9
A59: 1.1.2.1.5 | B59: 5 | C59: =B$2&B$3&B$45&B$46&"0"&B59 -> EQACST105 | D59: u | E59: Interruptor Manual/Remot
E60: Interruptor de comandament E211-16-10 16A 1 NA. Tensió nominal: 250/415 V Nombre de contactes principals NO: 1 Pèrdua de potència: 0,82 W Normes: EN60669-1, EN60669-2-4
F61: 1 | G61: 9 | H61: =G61*F61 -> 9
A62: 1.1.2.1.6 | B62: 6 | C62: =B$2&B$3&B$45&B$46&"0"&B62 -> EQACST106 | D62: u | E62: Relé 2 Circuits 220 V,5A
E63: Relé Finder de 2 circuits de 220 V i 5 A. Protecció: IP40
F64: 1 | G64: 9 | H64: =G64*F64 -> 9
A65: 1.1.2.1.7 | B65: 7 | C65: =B$2&B$3&B$45&B$46&"0"&B65 -> EQACST107 | D65: u | E65: Sòcol de relé per a carril DIN de 8 pins
E66: Sòcol per a muntatge de relés de potència en carril DIN de 35 mm amb terminals a prova de contacte amb protecció IP20, 10 A, 250 V
F67: 1 | G67: 9 | H67: =G67*F67 -> 9
A68: 1.1.2.2 | B68: T2 | C68: =B$2&B$3&B$45&B$68 -> EQACST2 | D68: u | E68: Armari satèl·lit tipus 2 (tecnologia Air)
B69: 1 | C69: =B$2&B$3&B$45&B$68&"0"&B69 -> EQACST201 | D69: u | E69: Armari ABB Mistral 41 W, 8 M de 206,5 x 262 x 118 mm
E70: Caixa de termoplàstic de muntatge en superfície de 12 Mòduls amb grau de protecció IP41 lliure d'halògens de dimensions 297x262x114 mm
F71: 1 | G71: 9 | H71: =G71*F71 -> 9
B72: 2 | C72: =B$2&B$3&B$45&B$68&"0"&B72 -> EQACST202 | D72: u | E72: Loxone Air Base Extension o equivalent
E73: Extensió base de la tecnologia Loxone Air Connexió amb Loxone Link Dimensions: 35,5 x 88 x 57 mm (2 TE) S'alimenta amb una font externa de 24 Vdc Consum d'energia màxim: 6 mA Protecció IP20 Temperatura ambient: 0 … +55 °C Freqüència: 868 MHz (EU)
F74: 1 | G74: 9 | H74: =G74*F74 -> 9
B75: 3 | C75: =B$2&B$3&B$45&B$68&"0"&B75 -> EQACST203 | D75: u | E75: Font d'alimentació conmutada CA/CC
E76: Potència: 1 Adc Tensió d'entrada: 100-240 Vac Tensió de sortida: 24 Vdc Freqüència: 47 - 63 Hz Protecció: IP20 Temperatura ambient: 50 °C Fixació: Carril DIN Normes: EN5550011, EN55022, EN61000, EN60950, UL 508 Pes: 0,15 kg Dimensions: 45x74x97 mm
F77: 1 | G77: 9 | H77: =G77*F77 -> 9
B78: 4 | C78: =B$2&B$3&B$45&B$68&"0"&B78 -> EQACST204 | D78: u | E78: Interruptor Manual/Remot
E79: Interruptor de comandament E211-16-10 16A 1 NA. Tensió nominal: 250/415 V Nombre de contactes principals NO: 1 Pèrdua de potència: 0,82 W Normes: EN60669-1, EN60669-2-4
F80: 1 | G80: 9 | H80: =G80*F80 -> 9
B81: 5 | C81: =B$2&B$3&B$45&B$68&"0"&B81 -> EQACST205 | D81: u | E81: Relé 2 Circuits 220 V, 5A
E82: Relé Finder de 2 circuits de 220 V i 5 A. Protecció: IP40
F83: 1 | G83: 9 | H83: =G83*F83 -> 9
B84: 6 | C84: =B$2&B$3&B$45&B$68&"0"&B84 -> EQACST206 | D84: u | E84: Sòcol de Relé per a carril DIN de 8 pins
E85: Sòcol per a muntatge de relés de potència en carril DIN de 35 mm amb terminals a prova de contacte amb protecció IP20, 10 A, 250 V
F86: 1 | G86: 9 | H86: =G86*F86 -> 9
A87: 1.2 | B87: C | C87: =B$2&B$87 -> EQC | E87: Equipament de camp
A88: 1.2.1 | B88: LOX | C88: =B$2&B$87&B$88 -> EQCLOX | E88: Equipament perifèric Loxone
B89: 1 | C89: =B$2&B$87&B$88&"0"&B89 -> EQCLOX01 | D89: u | E89: Contacte de porta i finestra Loxone Air o equivalent
E90: Alimentació amb pila de liti de botó CR2032 Adaptat a la tecnologia Loxone Air Freqüència: 868 MHz (SRD Band Europe), 915 MHz (ISM Band Region 2) LED d'estat Duració aproximada de la batera: 2 anys Temperatura de treball: 0 … +55 °C Protecció IP20 Contacte magnètic autoadhesiu
F91: 70 | G91: 1 | H91: =F91*G91 -> 70
B92: 2 | C92: =B$2&B$87&B$88&"0"&B92 -> EQCLOX02 | D92: u | E92: Actuadors de vàlvula de radiador Loxone Air o equivalent
E93: Alimentació: 2x Piles AA o alimentació externa 24 VDC Consum d'energia: màx. 1,1 W amb piles, màx. 1,2 W a 24 VDC Rang moviment: 5 mm Sensor de temperatura integrat Freqüència: 868MHz (SRD band Europe) / 915MHz (ISM Band Region 2) Duració de la bateria: >2 anys Protecció IP20 Temperatura de treball: 0..55 °C Humitat relativa màxima 95% H.r. Dimensions: 73x46x53 mm
F94: 43 | G94: 1 | H94: =F94*G94 -> 43
B95: 3 | C95: =B$2&B$87&B$88&"0"&B95 -> EQCLOX03 | D95: u | E95: Adaptadors de vàlvula VA78
E96: Adaptador per a vàlvula adequat per a actuadors tèrmics 0-10V i actuadors tèrmics 230 V. Adequat per al fabricant de vàlvules Danfoss RA. De tipus Brida i color blanc pur.
F97: 43 | G97: 1 | H97: =F97*G97 -> 43
B98: 4 | C98: =B$2&B$87&B$88&"0"&B98 -> EQCLOX04 | D98: u | E98: Estació meteorològica Loxone Tree o equivalent
E99: Alimentació: 10..30 Vdc SELV Consum: 0,06 W, màx. 1,1 W (amb l'escalfament de la superfície del sensor de pluja activat). Escalfament de la superfície del sensor de pluja: Si. Protecció: IP44 Temperatura ambient: -30..85 °C Rang de mesura del sensor de vent: 9..145 km/h Rang de mesura del sensor de lluminositat: 0..188 kLux Rang de mesura del sensor de temperatura: -40..125 °C Muntatge: Paret/màstil Dimensions: 90x120x262 mm
F100: 1 | G100: 1 | H100: =F100*G100 -> 1
...

Sheet JustificacióPreusFinal
B1: Equipament | E1: 30% lox | G1: 25%lox
B2: Codi | C2: Unitat | D2: Descripció | E2: Preu | G2: Preu
B3: EQACG01 | C3: u | D3: Armari mural 500x700x250mm | E3: 139.3 | G3: 139.3
B4: EQACG02 | C4: u | D4: Loxone Miniserver o equivalent | E4: 317.744 | F4: =E4/(1-30%) -> 453.92 | G4: =F4-(F4*25%) -> 340.44
B5: EQACG03 | C5: u | D5: Passarel·la 9Hnet o equivalent | E5: 315 | F5: =E5/(1-30%) -> 450 | G5: 450
B6: EQACST103 | C6: u | D6: Loxone Air Base Extension o equivalent | E6: 63.17 | F6: =E6/(1-30%) -> 90.242857 | G6: =F6-(F6*25%) -> 67.682143
B7: EQACST202
B8: EQACG04 | C8: u | D8: Loxone 1-Wire Extension o equivalent | E8: 107.835 | F8: =E8/(1-30%) -> 154.05 | G8: =F8-(F8*25%) -> 115.5375
B9: EQACG05 | C9: u | D9: Loxone Modbus Extension o equivalent | E9: 145.467 | F9: =E9/(1-30%) -> 207.81 | G9: =F9-(F9*25%) -> 155.8575
B10: EQACG06 | C10: u | D10: Font d'alimentació conmutada CA/CC | E10: 14 | G10: 14
B11: EQACST104
B12: EQACST203
B13: EQCCE02
B14: EQACG07 | C14: u | D14: Bornes de doble pis seccionables Phoenix Contact 3044775 | E14: 4.1145 | G14: 4.1145
B15: EQACG08 | C15: u | D15: Interruptor diferencial 1P+N | E15: 132.22 | G15: 132.22
B16: EQACG09 | C16: u | D16: Magnetotèrmic de dos pols SH202C 10A ABB | E16: 10.924 | G16: 10.924
B17: EQACG10 | C17: u | D17: Presa schuko | E17: 8.385 | G17: 8.385
B18: EQACG11 | C18: u | D18: Borna terra | E18: 2.4759 | G18: 2.4759
B19: EQACG12 | C19: u | D19: Selectors manual/remot per a cada sortida digital | E19: 27.68 | G19: 27.68
B20: EQACG13 | C20: u | D20: 2 m.l.Safata canal UNEX de 40x60x77 | E20: 3.8545 | G20: 3.8545
B21: EQACG14 | C21: u | D21: 1 m.l de carril DIN en U de 35 x 7,5 mm | E21: 2.98 | G21: 2.98
B22: EQACG15 | C22: u | D22: Material fungible | E22: 150 | G22: 150
B23: EQACST101 | C23: u | D23: Armari de 12 mòduls | E23: 14.425 | G23: 14.425
B25: EQACST102 | C25: u | D25: Loxone Tree Base Extension o equivalent | E25: 63.168 | F25: =E25/(1-30%) -> 90.24 | G25: =F25-(F25*25%) -> 67.68
B26: EQCCE03
B27: EQACST105 | C27: u | D27: Interruptor de comandament | E27: 8.755 | G27: 8.755
B28: EQACST204
B29: EQACST106 | C29: u | D29: Relé 2 Circuits 220 V,5A | E29: 7.742 | G29: 7.742
B30: EQACST205
B31: EQCCR03
B32: EQACST107 | C32: u | D32: Sòcol de relé per a carril DIN de 8 pins | E32: 5.65 | G32: 5.65
B33: EQACST206
B34: EQCCR04
B35: EQACST201 | C35: u | D35: Armari de 8 mòduls | E35: 13.96 | G35: 13.96
B36: EQCLOX01 | C36: u | D36: Contacte de porta i finestra Loxone Air o equivalent | E36: 41.349 | F36: =E36/(1-30%) -> 59.07 | G36: =F36-(F36*25%) -> 44.3025
B37: EQCLOX02 | C37: u | D37: Actuador de vàlvula de radiador Loxone Air o equivalent | E37: 59.717 | F37: =E37/(1-30%) -> 85.31 | G37: =F37-(F37*25%) -> 63.9825
B38: EQCLOX03 | C38: u | D38: Adaptador de vàlvula VA78 | E38: 0.91 | F38: =E38/(1-30%) -> 1.3 | G38: =F38-(F38*25%) -> 0.975
B39: EQCLOX04 | C39: u | D39: Estació meteorològica Loxone Tree o equivalent | E39: 297.829 | F39: =E39/(1-30%) -> 425.47 | G39: =F39-(F39*25%) -> 319.1025
B40: EQCLOX05 | C40: u | D40: Sensor Loxone Confort Air o equivalent | E40: 52.829 | F40: =E40/(1-30%) -> 75.47 | G40: =F40-(F40*25%) -> 56.6025
B41: EQCLOX06 | C41: u | D41: Sensor Loxone Confort Tree o equivalent | E41: 143.479 | F41: =E41/(1-30%) -> 204.97 | G41: =F41-(F41*25%) -> 153.7275
B42: EQCLOX07 | C42: u | D42: Comptador d'energia Modbus trifàsic | E42: 190.638 | F42: =E42/(1-30%) -> 272.34 | G42: =F42-(F42*25%) -> 204.255
B43: EQCLOX08 | C43: u | D43: Sensor de temperatura 1-Wire | E43: 8.729 | F43: =E43/(1-30%) -> 12.47 | G43: =F43-(F43*25%) -> 9.3525
B44: EQCLOX09 | C44: u | D44: Detector de moviment/Luxometria Loxone Air o equivalent | E44: 63.742 | F44: =E44/(1-30%) -> 91.06 | G44: =F44-(F44*25%) -> 68.295
B45: EQCLOX010 | C45: u | D45: Sensor d'inundació Loxone Air o equivalent | E45: 41.349 | F45: =E45/(1-30%) -> 59.07 | G45: =F45-(F45*25%) -> 44.3025
B46: EQCLOX011 | C46: u | D46: Loxone Smart Socket Air o equivalent | E46: 44.597 | F46: =E46/(1-30%) -> 63.71 | G46: =F46-(F46*25%) -> 47.7825
B47: EQCCR01 | C47: u | D47: Caixa de connexions de 86x140x180 | E47: 25.77 | G47: 25.77
B48: EQCCR02 | C48: u | D48: Loxone Nano IO Air o equivalent | E48: 70.434 | F48: =E48/(1-30%) -> 100.62 | G48: =F48-(F48*25%) -> 75.465
B49: EQCCR05 | C49: u | D49: Carril DIN | E49: 2.98 | G49: 2.98
B50: EQCCR06 | C50: u | D50: Connector de borna de 3 vies de muntatge en cable, 32 A | E50: 0.34 | G50: 0.34
B51: EQCCE04
B52: EQCCE01 | C52: u | D52: Caixa de connexions de 100 x 100 x 80 mm | E52: 3.45 | G52: =E52 -> 3.45
B53: EQCCR07 | C53: u | D53: Connector de borna de 5 vies de muntatge en cable, 32 A | E53: 0.546 | G53: 0.546
B54: EQLVT01 | C54: u | D54: Vàlvula termostàtica Danfoss RA-FN | E54: 17.59 | G54: 17.59
B55: EQLCAL01 | C55: u | D55: Comptador tèrmic Kamstrup Modbus RTU Model Multical 603 | E55: 1069.5 | G55: 1396.5
B56: EQLVP01 | C56: u | D56: Subministrament i muntatge de vàlvula de pressió diferencial Caleffi DN40 | E56: 460.6 | G56: 460.6
B57: EQLVP02 | C57: u | D57: Brocs de connexió a conduccions existents, mitjançant soldadura elèctrica | E57: 122.12 | G57: 122.12
B58: EQLVP03 | C58: u | D58: m.l de tub inoxidable DN40 premsat i accessoris de muntatge | E58: 60.21 | G58: 60.21
B59: EQLVP04 | C59: u | D59: m.l. d'aïllament tèrmic mitjançant coquilla Armaflex o similar més accessoris de muntatge. | E59: 12.84 | G59: 12.84
B60: EQEL01 | C60: u | D60: Bornes portafusibles (pack de 25 unitats) | E60: =131.25-(131.25*0.3) -> 91.875 | F60: =E60/(1-30%) -> 131.25 | G60: =F60-(F60*25%) -> 98.4375
B61: EQEL02 | C61: u | D61: Fusible tipus C de 2 A | G61: =9.84-(9.84*25%) -> 7.38
B62: EQEL03 | C62: m | D62: Canal de distribució de PVC UNEX U23X de 40 x 60 "blanco nieve", inclou un pont per a cada 0,5 m. | E62: 2.3 | G62: 2.3
B63: CABC01 | C63: m | D63: Cable Loxone Link (o equivalent) + Modbus RTU | E63: 0.685 | F63: =E63/(1-30%) -> 0.97857143 | G63: =F63-(F63*25%) -> 0.73392857
B64: CABC02 | C64: m | D64: Cable Loxone Tree (o equivalent) | E64: 0.685 | F64: =E64/(1-30%) -> 0.97857143 | G64: =F64-(F64*25%) -> 0.73392857
B65: CABC03 | C65: m | D65: Cable 1-Wire | E65: 0.64 | G65: 0.64
B66: CABC04 | C66: m | D66: Tub rígid lliure d'halògens de 16 mm de secció | E66: 1.07 | G66: 1.07
B67: CABC05 | C67: m | D67: Cablejat AC | G67: 0.61
B68: EQCAD01 | C68: u | D68: Tablet PC de 7" | E68: 53.56 | G68: 53.56
B69: EQCAD02 | C69: u | D69: Suport de paret per a tablet | G69: 33.89
B70: EACOM01 | C70: U | D70: Router DLINK DSR-250 8-Port Gigabit VPN Router | G70: 174.34
B72: Mà d'obra
B73: Codi | C73: Unitat | D73: Descripció | G73: Preu
B74: MOEL01 | C74: h | D74: Oficial 1a electricista | G74: 19.1
B75: MOEL02 | C75: h | D75: Ajudant d'electricista | G75: 17.2
B76: MOAJM | C76: h | D76: Ajudant muntador | G76: 16.5
B77: MOMES | C77: h | D77: Manobre especialista | G77: 20.2
B78: MOENGD | C78: h | D78: Enginyer desenvolupament | G78: 50
B79: MOENGV | C79: h | D79: Enginyer verificació | G79: 35
B81: Material | G81: Preu
B82: MAT01 | C82: u | D82: Material fungible de instal·lació elèctrica | G82: 5
B83: MAT02 | C83: u | D83: Llistó de fusta per a augmentar l'espai de la gàbia de la paret | G83: 5
B86: Partides d'obra
B87: Codi | C87: Unitat | D87: Descripció | E87: U | F87: Preu/U | G87: Preu
D89: Mecanització i muntatge d'armaris
B90: =Amidaments!C212 -> MEC01 | C90: u | D90: Mecanitzat i muntatge de l'armari principal de control
D91: El mecanitzat d'aquest armari consisteix en el muntatge de tot el hardware de l'armari en el carril DIN, mecanitzat dels canals de cablejat, el propi cablejat i etiquetat del mateix.
B92: Mà d'obra
B93: MOAJM | C93: h | D93: Ajudant muntador | E93: 16 | F93: 16.5 | G93: =E93*F93 -> 264
D94: Cost d'execució | G94: =SUM(G93) -> 264
B95: =Amidaments!C215 -> MEC02 | C95: u | D95: Muntatge dels armaris satèl·lits (inclou el de la sala de fotovoltaica)
D96: El mecanitzat d'aquests armaris consisteix en el muntatge en carril DIN i cablejat de tot el hardware.
B97: Mà d'obra
B98: MOAJM | C98: h | D98: Ajudant muntador | E98: 0.17 | F98: 16.5 | G98: =E98*F98 -> 2.805
D99: Cost d'execució | G99: =SUM(G98) -> 2.805
B100: =Amidaments!C218 -> MEC03 | C100: u | D100: Mecanitzat i muntatge de les caixes de registre (inclou la caixa exterior)
D101: El mecanitzat inclou la instal·lació del carril DIN, el muntatge dels diferents elements de hardware en aquest, l'adhesió del Nano IO i cablejat entre els elements.
B102: Material
B103: MAT01 | C103: u | D103: Material fungible per a la instal·lació elèctrica | E103: 0.5 | F103: =G82 -> 5 | G103: =E103*F103 -> 2.5
B104: Mà d'obra
B105: MOAJM | C105: h | D105: Ajudant muntador | E105: 1 | F105: 16.5 | G105: =E105*F105 -> 16.5
D106: Cost d'execució | G106: =SUM(G103:G105) -> 19
...

Sheet PressupostFinalV2
A1: Codi | B1: UA | C1: Descripció | D1: Amidam. | E1: Preu | F1: Import
A2: =Amidaments!B2 -> EQ | C2: =Amidaments!E2 -> Equipament | F2: =F45+F69+F89+F125+F148+F162+F170+F193+F175+F204 -> 26568.329
A3: =Amidaments!C3 -> EQAC | C3: =Amidaments!E3 -> Armaris de control
A4: EQACG | B4: u | C4: Armari general de control
A5: EQACG01 | B5: u | C5: Armari mural ABB 500x700x250mm
C6: Caixa mural de dimensions 500x700x250mm amb porta realitzada en xapa d'acer d'espessor 1,5mm. Placa de muntatge realitzada en xapa d'hacer galvanitzat d'espessor 2,5mm. Grau de protecció IP66 segons la norma IEC EN62208; EN60529
D7: =Amidaments!H7 -> 1 | E7: 139.3 | F7: =D7*E7 -> 139.3
A8: EQACG02 | B8: u | C8: Loxone Miniserver o equivalent
C9: 8x entrades digitals 8 VDC – 24 Vdc 4x entrades analògiques 0-10 V 4x sortides analògiques 0-10 V (max. 20 mA) 8x sortides digitals 250 V/5 A Ranura per a targtes SD Port LAN Port KNX/EIB Loxone Link Alimentació a 24 Vdc (font a part)
D10: =Amidaments!H10 -> 1 | E10: =JustificacióPreusFinal!G4 -> 340.44 | F10: =D10*E10 -> 340.44
A11: EQACG03 | B11: u | C11: Passarel·la 9Hnet o equivalent
C12: Servidor intermig per a la comunicació externa de Loxone (o equivalent) amb altres protocols
D13: =Amidaments!H13 -> 1 | E13: =JustificacióPreusFinal!G5 -> 450 | F13: =D13*E13 -> 450
A14: EQACG04 | B14: u | C14: Loxone 1-Wire Extension o equivalent
C15: Extensió amb tecnologia 1-Wire Alimentació externa: 24 Vdc Consum: aproximadament 30 mA Temperatura ambient: 0..50 °C Interfície 1-Wire: 16,3 kbit/s (S'hi poden connectar fins a 20 sensors)
D16: =Amidaments!H16 -> 1 | E16: =JustificacióPreusFinal!G8 -> 115.5375 | F16: =D16*E16 -> 115.5375
A17: EQACG05 | B17: u | C17: Loxone Modbus Extension (o equivalent)
C18: Extensió per al protocol Modbus Alimentació externa: 24 Vdc Consum: aproximadament 30 mA Comunicació: Loxone Link, Modbus RTU Velocitat de comunicació ajustable Disseny per a muntatge en carril DIN Dimensions 35,5×88x57 mm Protecció IP20 Temperatura ambient 0… 50 ºC Paritat Ajustable Bits de Stop Ajustable (1 a 2) Rang de direcciones Extès (0 a 65535) Màxim número de dispositius: 32 dispositius Modbus RTU esclaus Màxim número de registres de lectura: 253 registres Modbus (16 bits)
D19: =Amidaments!H19 -> 1 | E19: =JustificacióPreusFinal!G9 -> 155.8575 | F19: =D19*E19 -> 155.8575
A20: EQACG06 | B20: u | C20: Font d'alimentació conmutada CA/CC
C21: Potència: 1 Adc Tensió d'entrada: 100-240 Vac Tensió de sortida: 24 Vdc Freqüència: 47 - 63 Hz Protecció: IP20 Temperatura ambient: 50 °C Fixació: Carril DIN Normes: EN5550011, EN55022, EN61000, EN60950, UL 508 Pes: 0,15 kg Dimensions: 45x74x97 mm
D22: =Amidaments!H22 -> 1 | E22: 14 | F22: =D22*E22 -> 14
A23: EQACG07 | B23: u | C23: Bornes de doble pis seccionables Phoenix Contact 3044775
C24: Borna interrumpible per ganiveta, tipus de connexió: conexió per cargol, secció: 0,14 mm2 - 6 mm2, AWG:26-10, amplada: 6,2 mm, color gris, classe de muntatge: NS 35/7,5 NS 35/17
D25: =Amidaments!H25 -> 30 | E25: 4.1145 | F25: =D25*E25 -> 123.435
A26: EQACG08 | B26: u | C26: Interruptor diferencial 1P+N, 10 A, amb sensibilitat de 30 mA
D27: =Amidaments!H27 -> 1 | E27: 132.22 | F27: =D27*E27 -> 132.22
A28: EQACG09 | B28: u | C28: Magnetotèrmic de dos pols SH202C 10A ABB
D29: =Amidaments!H29 -> 1 | E29: 10.924 | F29: =D29*E29 -> 10.924
A30: EQACG010 | B30: u | C30: Presa schuko
C31: Presa de corrent modular, estàndard de 16 A i 250 Vac
D32: =Amidaments!H32 -> 1 | E32: 8.385 | F32: =D32*E32 -> 8.385
A33: EQACG011 | B33: u | C33: =Amidaments!E33 -> Borna terra
D34: =Amidaments!H34 -> 1 | E34: 2.4759 | F34: =D34*E34 -> 2.4759
A35: EQACG012 | B35: u | C35: Selectors manual/remot per a cada sortida digital
C36: Compostos per: Cap de selector maneta curta ZB4BD3 de 22 mm de diàmetre i 3 posicions fixes. Cos Complet ZB4BZ101 Bloc de contacte 1NA ZBE101 per a cap de 22 mm de diàmetre
D37: =Amidaments!H37 -> 8 | E37: 27.68 | F37: =D37*E37 -> 221.44
A38: EQACG013 | B38: u | C38: 2 m.l.Safata canal UNEX de 40x60x77
D39: =Amidaments!H39 -> 1 | E39: 3.8545 | F39: =D39*E39 -> 3.8545
A40: EQACG014 | B40: u | C40: 1 m.l de carril DIN en U de 35 x 7,5 mm
D41: =Amidaments!H41 -> 1 | E41: 2.98 | F41: =D41*E41 -> 2.98
A42: EQACG015 | B42: u | C42: Material fungible
C43: Inclou tot el cablejat d'interior d'armari: Cablejat d'alimentació Vdc de 1,5 mm de secció de colors vermell i negre, manguera lliure d'halògens de 3 x 2,5 mm de secció, loxone link per a comunicació amb les extensions de dins l'armari. Inclou també tots els marcadors de cablejat. Inclou punteres, brides, etc.
D44: =Amidaments!H44 -> 1 | E44: 150 | F44: =D44*E44 -> 150
C45: Cost armari general control | F45: =SUM(F7:F44) -> 1870.8494
A46: EQACS | C46: Armaris satèl·lits
A47: EQACST1 | C47: Armari satèl·lit tipus 1 (tecnologia Air i Tree)
A48: EQACST101 | B48: u | C48: Armari de 12 mòduls
C49: Caixa de termoplàstic de muntatge en superfície de 12 Mòduls amb grau de protecció IP41 lliure d'halògens de dimensions 297x262x114 mm
D50: =Amidaments!H49 -> 9 | E50: 14.425 | F50: =D50*E50 -> 129.825
A51: EQACST102 | B51: u | C51: Loxone Tree Base Extension o equivalent
C52: Extensió base de la tecnologia cablejada Connexió a través de Loxone Link o equivalent Dimensions: 35,5 x 88 x 57 mm (2 TE) 2 LEDs d'estat (de 2 colors) Alimentació 24 VDC Consum 115 mW Protecció IP20 Temperatura de treball: 0 … +55 °C Sección del cablejat: 0,25-0,8 mm² Longitud del cable sense coberta: 5 mm
D53: =Amidaments!H52 -> 9 | E53: =JustificacióPreusFinal!G25 -> 67.68 | F53: =D53*E53 -> 609.12
A54: EQACST103 | B54: u | C54: Loxone Air Base o equivalent
C55: Extensió base de la tecnologia sense fils Connexió amb Loxone Link (o equivalent) Dimensions: 35,5 x 88 x 57 mm (2 TE) S'alimenta amb una font externa de 24 Vdc Consum d'energia màxim: 6 mA Protecció IP20 Temperatura ambient: 0 … +55 °C Freqüència: 868 MHz (EU)
D56: =Amidaments!H55 -> 9 | E56: =JustificacióPreusFinal!G6 -> 67.682143 | F56: =D56*E56 -> 609.13929
A57: EQACST104 | B57: u | C57: Font d'alimentació conmutada CA/CC
C58: Potència: 1 Adc Tensió d'entrada: 100-240 Vac Tensió de sortida: 24 Vdc Freqüència: 47 - 63 Hz Protecció: IP20 Temperatura ambient: 50 °C Fixació: Carril DIN Normes: EN5550011, EN55022, EN61000, EN60950, UL 508 Pes: 0,15 kg Dimensions: 45x74x97 mm
D59: =Amidaments!H58 -> 9 | E59: 14 | F59: =D59*E59 -> 126
A60: EQACST105 | B60: u | C60: Interruptor de comandament
C61: Interruptor de comandament E211-16-10 16A 1 NA. Tensió nominal: 250/415 V Nombre de contactes principals NO: 1 Pèrdua de potència: 0,82 W Normes: EN60669-1, EN60669-2-4
D62: =Amidaments!H61 -> 9 | E62: 8.755 | F62: =D62*E62 -> 78.795
A63: EQACST106 | B63: u | C63: Relé 2 Circuits 220 V,5A
C64: Relé Finder de 2 circuits de 220 V i 5 A. Protecció: IP40
D65: =Amidaments!H64 -> 9 | E65: 7.742 | F65: =D65*E65 -> 69.678
A66: EQACST107 | B66: u | C66: Sòcol de relé per a carril DIN de 8 pins
C67: Sòcol per a muntatge de relés de potència en carril DIN de 35 mm amb terminals a prova de contacte amb protecció IP20, 10 A, 250 V
D68: =Amidaments!H67 -> 9 | E68: 5.65 | F68: =D68*E68 -> 50.85
C69: Cost armaris satèl·lit tipus1 | F69: =SUM(F50:F68) -> 1673.4073
A70: EQACST2 | B70: u | C70: Armari satèl·lit tipus 2 (tecnologia Air)
A71: EQACST201 | B71: u | C71: Armari ABB Mistral 41 W, 8 M de 206,5 x 262 x 118 mm
C72: Caixa de termoplàstic de muntatge en superfície de 12 Mòduls amb grau de protecció IP41 lliure d'halògens de dimensions 297x262x114 mm
D73: =Amidaments!H71 -> 9 | E73: 13.96 | F73: =D73*E73 -> 125.64
A74: EQACST202 | B74: u | C74: Loxone Air Base Extension o equivalent
C75: Extensió base de la tecnologia sense fils Connexió amb Loxone Link o equivalent Dimensions: 35,5 x 88 x 57 mm (2 TE) S'alimenta amb una font externa de 24 Vdc Consum d'energia màxim: 6 mA Protecció IP20 Temperatura ambient: 0 … +55 °C Freqüència: 868 MHz (EU)
D76: =Amidaments!H74 -> 9 | E76: =JustificacióPreusFinal!G6 -> 67.682143 | F76: =D76*E76 -> 609.13929
A77: EQACST203 | B77: u | C77: Font d'alimentació conmutada CA/CC
C78: Potència: 1 Adc Tensió d'entrada: 100-240 Vac Tensió de sortida: 24 Vdc Freqüència: 47 - 63 Hz Protecció: IP20 Temperatura ambient: 50 °C Fixació: Carril DIN Normes: EN5550011, EN55022, EN61000, EN60950, UL 508 Pes: 0,15 kg Dimensions: 45x74x97 mm
D79: =Amidaments!H77 -> 9 | E79: 14 | F79: =D79*E79 -> 126
A80: EQACST204 | B80: u | C80: Interruptor Manual/Remot
C81: Interruptor de comandament E211-16-10 16A 1 NA. Tensió nominal: 250/415 V Nombre de contactes principals NO: 1 Pèrdua de potència: 0,82 W Normes: EN60669-1, EN60669-2-4
D82: =Amidaments!H80 -> 9 | E82: 8.755 | F82: =D82*E82 -> 78.795
A83: EQACST205 | B83: u | C83: Relé 2 Circuits 220 V, 5A
C84: Relé Finder de 2 circuits de 220 V i 5 A. Protecció: IP40
D85: =Amidaments!H83 -> 9 | E85: 7.742 | F85: =D85*E85 -> 69.678
A86: EQACST206 | B86: u | C86: Sòcol de Relé per a carril DIN de 8 pins
C87: Sòcol per a muntatge de relés de potència en carril DIN de 35 mm amb terminals a prova de contacte amb protecció IP20, 10 A, 250 V
D88: =Amidaments!H86 -> 9 | E88: 5.65 | F88: =D88*E88 -> 50.85
C89: Cost armaris satèl·lit tipus 2 | F89: =SUM(F73:F88) -> 1060.1023
A90: EQC | C90: Equipament de camp
A91: EQCLOX | C91: Equipament perifèric Loxone o equivalent
A92: EQCLOX01 | B92: u | C92: Contacte de porta i finestra Loxone Air o equivalent
C93: Alimentació amb pila de liti de botó CR2032 Adaptat a la tecnologia sense fils Freqüència: 868 MHz (SRD Band Europe), 915 MHz (ISM Band Region 2) LED d'estat Duració aproximada de la batera: 2 anys Temperatura de treball: 0 … +55 °C Protecció IP20 Contacte magnètic autoadhesiu
D94: =Amidaments!H91 -> 70 | E94: =JustificacióPreusFinal!G36 -> 44.3025 | F94: =D94*E94 -> 3101.175
A95: EQCLOX02 | B95: u | C95: Actuadors de vàlvula de radiador Loxone Air o equivalent
C96: Alimentació: 2x Piles AA o alimentació externa 24 VDC Consum d'energia: màx. 1,1 W amb piles, màx. 1,2 W a 24 VDC Rang moviment: 5 mm Sensor de temperatura integrat Freqüència: 868MHz (SRD band Europe) / 915MHz (ISM Band Region 2) Duració de la bateria: >2 anys Protecció IP20 Temperatura de treball: 0..55 °C Humitat relativa màxima 95% H.r. Dimensions: 73x46x53 mm
D97: =Amidaments!H94 -> 43 | E97: =JustificacióPreusFinal!G37 -> 63.9825 | F97: =D97*E97 -> 2751.2475
A98: EQCLOX03 | B98: u | C98: Adaptadors de vàlvula VA78
C99: Adaptador per a vàlvula adequat per a actuadors tèrmics 0-10V i actuadors tèrmics 230 V. Adequat per al fabricant de vàlvules Danfoss RA. De tipus Brida i color blanc pur.
D100: =Amidaments!H97 -> 43 | E100: =JustificacióPreusFinal!G38 -> 0.975 | F100: =D100*E100 -> 41.925
...
