Workbook

Sheet Resum Amidaments
A2: RESUM AMIDAMENTS PRINCIPALS PdC ZBE DE LA CIUTAT DE SABADELL
A4: Punt de Control | B4: Adreça | C4: Conjunt càmera LPR+entorn | D4: Columna 4m | E4: Bàcul semàf. 6m | F4: Canalitz. calçada | G4: Canalitz. vorera | H4: Pericó registre 60x60 | I4: Armari PdC | J4: Escomesa nova | K4: Router 4G | L4: Estesa FO / STP | N4: Long. Total Canalitzacions a construir
A6: PdC-01 | B6: C/ de L’Horta Novella – Ctra. De Barcelona | C6: 1 | D6: 1 | G6: 5 | H6: 2 | I6: 1 | L6: 550 | N6: =SUM(F6:G6) -> 5
A7: PdC-02 | B7: C/ Joan Plans – Rda. Ponent | C7: 1 | D7: 1 | G7: 15 | H7: 2 | I7: 1 | L7: 175 | N7: =SUM(F7:G7) -> 15
A8: PdC-03 | B8: C/ Pare Sallares – Rda. Ponent | C8: 1 | D8: 1 | G8: 0 | H8: 2 | I8: 1 | L8: 30 | N8: =SUM(F8:G8) -> 0
A9: PdC-04 | B9: C/ Garcilaso – Rda. Ponent | C9: 1 | D9: 1 | G9: 0 | H9: 2 | I9: 1 | L9: 30 | N9: =SUM(F9:G9) -> 0
A10: PdC-05 | B10: C/ Unió – Rda. Zamenhof | C10: 1 | D10: 1 | G10: 15 | H10: 1 | I10: 1 | K10: 1 | N10: =SUM(F10:G10) -> 15
A11: PdC-06 | B11: Plaça Granados – Rda. Zamenhof | C11: 1 | D11: 1 | G11: 15 | H11: 1 | I11: 1 | K11: 1 | N11: =SUM(F11:G11) -> 15
A12: PdC-07 | B12: Via Massagué – Rda. Zamenhof | C12: 2 | D12: 0 | G12: 10 | H12: 1 | I12: 1 | K12: 1 | N12: =SUM(F12:G12) -> 10
A13: PdC-08 | B13: Via Massagué – C/ de les Valls | C13: 2 | D13: 2 | G13: 15 | H13: 1 | I13: 1 | K13: 1 | N13: =SUM(F13:G13) -> 15
A14: PdC-09 | B14: C/ Corominas – Plaça del Mercat | C14: 2 | D14: 1 | G14: 10 | H14: 1 | I14: 1 | K14: 1 | N14: =SUM(F14:G14) -> 10
A15: PdC-10 | B15: C/ de la Salut – C/ de Brujas | C15: 1 | D15: 1 | F15: 10 | G15: 90 | H15: 4 | I15: 1 | K15: 1 | N15: =SUM(F15:G15) -> 100
A16: PdC-11 | B16: C/ de l’Illa – C/ de l’Estació – C/ d’Arimon | C16: 1 | D16: 1 | G16: 5 | H16: 1 | I16: 1 | J16: 1 | K16: 1 | N16: =SUM(F16:G16) -> 5
A17: PdC-12 | B17: C/ de l’Estació – C/ Tres Creus | C17: 2 | D17: 0 | E17: 1 | G17: 15 | H17: 2 | I17: 1 | K17: 1 | N17: =SUM(F17:G17) -> 15
A18: PdC-13 | B18: C/ de Riego – C/ Marqués de Comillas | C18: 1 | D18: 1 | G18: 5 | H18: 1 | I18: 1 | K18: 1 | N18: =SUM(F18:G18) -> 5
A19: PdC-14 | B19: C/ Turull – C/ Marqués de Comillas | C19: 1 | D19: 1 | G19: 75 | H19: 3 | I19: 1 | K19: 1 | N19: =SUM(F19:G19) -> 75
A20: PdC-15 | B20: C/ Sant Oleguer – C/ Marqués de Comillas | C20: 1 | D20: 1 | G20: 100 | H20: 3 | I20: 1 | K20: 1 | N20: =SUM(F20:G20) -> 100
A21: PdC-16 | B21: Rambla – C/ Marqués de Comillas – C/ Latorre | C21: 2 | D21: 0 | E21: 1 | G21: 10 | H21: 1 | I21: 1 | K21: 1 | N21: =SUM(F21:G21) -> 10
A22: PdC-17 | B22: C/ Sant Pau – C/ Latorre | C22: 1 | D22: 1 | F22: 10 | G22: 20 | H22: 3 | I22: 1 | J22: 1 | K22: 1 | N22: =SUM(F22:G22) -> 30
A23: PdC-18 | B23: C/ Duran i Sors – Ctra. Barcelona | C23: 1 | D23: 1 | G23: 5 | I23: 1 | K23: 1 | N23: =SUM(F23:G23) -> 5
A24: PdC-19 | B24: C/ Montserrat – Ctra. Barcelona | C24: 1 | D24: 1 | G24: 10 | H24: 1 | I24: 1 | K24: 1 | N24: =SUM(F24:G24) -> 10
A25: PdC-20 | B25: Rambla – C/ Montserrat | C25: 2 | D25: 2 | G25: 10 | H25: 1 | I25: 1 | K25: 1 | N25: =SUM(F25:G25) -> 10
B26: Totals | C26: =SUM(C6:C25) -> 26 | D26: =SUM(D6:D25) -> 19 | E26: =SUM(E6:E25) -> 2 | F26: =SUM(F6:F25) -> 20 | G26: =SUM(G6:G25) -> 430 | H26: =SUM(H6:H25) -> 33 | I26: =SUM(I6:I25) -> 20 | J26: =SUM(J6:J25) -> 2 | ... L26: =SUM(L6:L25) -> 785 | N26: =SUM(N6:N25) -> 450
F27: =SUM(F26:G26) -> 450

Sheet Amidaments Generals
A2: AMIDAMENTS PdC ZBE DE LA CIUTAT DE SABADELL
D4: Punts de Control
A5: CODI | B5: UNITAT MESURA | C5: CONCEPTE / DENOMINACIÓ | D5: PdC-01 | E5: PdC-02 | F5: PdC-03 | G5: PdC-04 | H5: PdC-05 | I5: PdC-06 | J5: PdC-07 | K5: PdC-08 | L5: PdC-09 | M5: PdC-10 | N5: PdC-11 | O5: PdC-12 | P5: PdC-13 | Q5: PdC-14 | R5: PdC-15 | S5: PdC-16 | T5: PdC-17 | U5: PdC-18 | V5: PdC-19 | W5: PdC-20 | Y5: Total
A6: EQUIPAMENT PUNT DE CONTROL
A7: E-001 | B7: UT | C7: SUBMINISTRAMENT D'EQUIP COMPACTE DE RECONEIXEMENT | D7: 1 | E7: 1 | F7: 1 | G7: 1 | H7: 1 | I7: 1 | J7: 2 | K7: 2 | L7: 2 | M7: 1 | N7: 1 | O7: 2 | P7: 1 | Q7: 1 | R7: 1 | S7: 2 | T7: 1 | U7: 1 | V7: 1 | W7: 2 | Y7: 26
A8: E-002 | B8: UT | C8: INSTAL·LACIÓ D'EQUIP COMPACTE DE RECONEIXEMENT DE | D8: 1 | E8: 1 | F8: 1 | G8: 1 | H8: 1 | I8: 1 | J8: 2 | K8: 2 | L8: 2 | M8: 1 | N8: 1 | O8: 2 | P8: 1 | Q8: 1 | R8: 1 | S8: 2 | T8: 1 | U8: 1 | V8: 1 | W8: 2 | Y8: 26
A9: E-003 | B9: UT | C9: SUBMINISTRAMENT DE FONT D'ALIMENTACIÓ 48V TIPUS IN | D9: 1 | E9: 1 | F9: 1 | G9: 1 | H9: 1 | I9: 1 | J9: 1 | K9: 1 | L9: 1 | M9: 1 | N9: 1 | O9: 1 | P9: 1 | Q9: 1 | R9: 1 | S9: 1 | T9: 1 | U9: 1 | V9: 1 | W9: 1 | Y9: 20
A10: E-004 | B10: UT | C10: INSTAL·LACIÓ DE FONT D'ALIMENTACIÓ 48V TIPUS INDUS | D10: 1 | E10: 1 | F10: 1 | G10: 1 | H10: 1 | I10: 1 | J10: 1 | K10: 1 | L10: 1 | M10: 1 | N10: 1 | O10: 1 | P10: 1 | Q10: 1 | R10: 1 | S10: 1 | T10: 1 | U10: 1 | V10: 1 | W10: 1 | Y10: 20
A11: E-005 | B11: UT | C11: SUBMINISTRAMENT DE FONT D'ALIMENTACIÓ 24V TIPUS IN | Y11: 0
A12: E-006 | B12: UT | C12: INSTAL·LACIÓ DE FONT D'ALIMENTACIÓ 24V TIPUS INDUS | D12: 0 | E12: 0 | F12: 0 | G12: 0 | H12: 0 | I12: 0 | J12: 0 | K12: 0 | L12: 0 | M12: 0 | N12: 0 | O12: 0 | P12: 0 | Q12: 0 | R12: 0 | S12: 0 | T12: 0 | U12: 0 | V12: 0 | W12: 0 | Y12: 0
A13: E-007 | B13: UT | C13: SUBMINISTRAMENT DE SWITCH DE COMUNICACIÓ PER SISTE | H13: 1 | I13: 1 | J13: 1 | K13: 1 | L13: 1 | M13: 1 | N13: 1 | O13: 1 | P13: 1 | Q13: 1 | R13: 1 | S13: 1 | T13: 1 | U13: 1 | V13: 1 | W13: 1 | Y13: 16
A14: E-008 | B14: UT | C14: INSTAL·LACIÓ I CONFIGURACIÓ DE SWITCH DE COMUNICAC | D14: 0 | E14: 0 | F14: 0 | G14: 0 | H14: 1 | I14: 1 | J14: 1 | K14: 1 | L14: 1 | M14: 1 | N14: 1 | O14: 1 | P14: 1 | Q14: 1 | R14: 1 | S14: 1 | T14: 1 | U14: 1 | V14: 1 | W14: 1 | Y14: 16
A15: E-009 | B15: UT | C15: SUBMINISTRAMENT DE SWITCH DE COMUNICACIÓ PER SISTE | D15: 1 | E15: 1 | F15: 1 | G15: 1 | Y15: 4
A16: E-010 | B16: UT | C16: INSTAL·LACIÓ I CONFIGURACIÓ DE SWITCH DE COMUNICAC | D16: 1 | E16: 1 | F16: 1 | G16: 1 | Y16: 4
A17: E-011 | B17: UT | C17: SUBMINISTRAMENT DE PC INDUSTRIAL RUGORITZAT DE 20 | D17: 1 | E17: 1 | F17: 1 | G17: 1 | H17: 1 | I17: 1 | J17: 1 | K17: 1 | L17: 1 | M17: 1 | N17: 1 | O17: 1 | P17: 1 | Q17: 1 | R17: 1 | S17: 1 | T17: 1 | U17: 1 | V17: 1 | W17: 1 | Y17: 20
A18: E-012 | B18: UT | C18: INSTAL·LACIÓ I CONFIGURACIÓ DE PC INDUSTRIAL RUGOR | D18: 1 | E18: 1 | F18: 1 | G18: 1 | H18: 1 | I18: 1 | J18: 1 | K18: 1 | L18: 1 | M18: 1 | N18: 1 | O18: 1 | P18: 1 | Q18: 1 | R18: 1 | S18: 1 | T18: 1 | U18: 1 | V18: 1 | W18: 1 | Y18: 20
A19: E-013 | B19: UT | C19: SUBMINISTRAMENT DE SAI PUNT DE CONTROL LECTURA DE | D19: 1 | E19: 1 | F19: 1 | G19: 1 | H19: 1 | I19: 1 | J19: 1 | K19: 1 | L19: 1 | M19: 1 | N19: 1 | O19: 1 | P19: 1 | Q19: 1 | R19: 1 | S19: 1 | T19: 1 | U19: 1 | V19: 1 | W19: 1 | Y19: 20
A20: E-014 | B20: UT | C20: INSTAL·LACIÓ DE SAI PUNT DE CONTROL LECTURA DE MAT | D20: 1 | E20: 1 | F20: 1 | G20: 1 | H20: 1 | I20: 1 | J20: 1 | K20: 1 | L20: 1 | M20: 1 | N20: 1 | O20: 1 | P20: 1 | Q20: 1 | R20: 1 | S20: 1 | T20: 1 | U20: 1 | V20: 1 | W20: 1 | Y20: 20
A21: E-015 | B21: UT | C21: SUBMINISTRAMENT DE MÒDUL SNMP DE COMUNICACIONS PER | D21: 1 | E21: 1 | F21: 1 | G21: 1 | H21: 1 | I21: 1 | J21: 1 | K21: 1 | L21: 1 | M21: 1 | N21: 1 | O21: 1 | P21: 1 | Q21: 1 | R21: 1 | S21: 1 | T21: 1 | U21: 1 | V21: 1 | W21: 1 | Y21: 20
A22: E-016 | B22: UT | C22: INSTAL·LACIÓ DE MÒDUL SNMP COMUNICACIONS PER SAI, | D22: 1 | E22: 1 | F22: 1 | G22: 1 | H22: 1 | I22: 1 | J22: 1 | K22: 1 | L22: 1 | M22: 1 | N22: 1 | O22: 1 | P22: 1 | Q22: 1 | R22: 1 | S22: 1 | T22: 1 | U22: 1 | V22: 1 | W22: 1 | Y22: 20
A23: E-017 | B23: UT | C23: SUBMINISTRAMENT DE CONVERSOR DE SENYAL DE COMUNICA | Y23: 0
A24: E-018 | B24: UT | C24: INSTAL·LACIÓ DE CONVERSOR DE SENYAL DE COMUNICACIO | D24: 0 | E24: 0 | F24: 0 | G24: 0 | H24: 0 | I24: 0 | T24: 0 | U24: 0 | V24: 0 | W24: 0 | Y24: 0
A25: E-019 | B25: UT | C25: SUBMINISTRAMENT DE CONVERSOR DE SENYAL DE COMUNICA | H25: 0 | I25: 0 | M25: 0 | N25: 0 | P25: 0 | Q25: 0 | R25: 0 | T25: 0 | U25: 0 | V25: 0 | Y25: 0
A26: E-020 | B26: UT | C26: INSTAL·LACIÓ DE CONVERSOR DE SENYAL DE COMUNICACIO | D26: 0 | E26: 0 | F26: 0 | G26: 0 | H26: 0 | I26: 0 | J26: 0 | K26: 0 | L26: 0 | M26: 0 | N26: 0 | O26: 0 | P26: 0 | Q26: 0 | R26: 0 | S26: 0 | T26: 0 | U26: 0 | V26: 0 | W26: 0 | Y26: 0
A27: E-021 | B27: UT | C27: SUBMINISTRAMENT D'ARMARI METÀL·LIC PER INTEMPÈRIE, | Y27: 0
A28: E-022 | B28: UT | C28: INSTAL·LACIÓ D'ARMARI METÀL·LIC PER INTEMPÈRIE, DE | D28: 0 | E28: 0 | F28: 0 | G28: 0 | H28: 0 | I28: 0 | J28: 0 | K28: 0 | L28: 0 | M28: 0 | N28: 0 | O28: 0 | P28: 0 | Q28: 0 | R28: 0 | S28: 0 | T28: 0 | U28: 0 | V28: 0 | Y28: 0
A29: E-023 | B29: UT | C29: SUBMINISTRAMENT D'ARMARI PER INTEMPÈRIE EN PLANXA | D29: 1 | E29: 1 | F29: 1 | G29: 1 | H29: 1 | I29: 1 | J29: 1 | K29: 1 | L29: 1 | M29: 1 | N29: 1 | O29: 1 | P29: 1 | Q29: 1 | R29: 1 | S29: 1 | T29: 1 | U29: 1 | V29: 1 | W29: 1 | Y29: 20
A30: E-024 | B30: UT | C30: INSTAL·LACIÓ D'ARMARI PER INTEMPÈRIE EN PLANXA D'A | D30: 1 | E30: 1 | F30: 1 | G30: 1 | H30: 1 | I30: 1 | J30: 1 | K30: 1 | L30: 1 | M30: 1 | N30: 1 | O30: 1 | P30: 1 | Q30: 1 | R30: 1 | S30: 1 | T30: 1 | U30: 1 | V30: 1 | W30: 1 | Y30: 20
A31: E-025 | B31: UT | C31: SUBMINISTRAMENT DE COLUMNA MODEL SEMÀFORS, METÀL·L | D31: 1 | E31: 1 | F31: 1 | G31: 1 | H31: 1 | I31: 1 | K31: 2 | L31: 1 | M31: 1 | N31: 1 | P31: 1 | Q31: 1 | R31: 1 | T31: 1 | U31: 1 | V31: 1 | W31: 2 | Y31: 19
A32: E-026 | B32: UT | C32: INSTAL·LACIÓ DE COLUMNA MODEL SEMÀFORS, METÀL·LICA | D32: 1 | E32: 1 | F32: 1 | G32: 1 | H32: 1 | I32: 1 | J32: 0 | K32: 2 | L32: 1 | M32: 1 | N32: 1 | O32: 0 | P32: 1 | Q32: 1 | R32: 1 | S32: 0 | T32: 1 | U32: 1 | V32: 1 | W32: 2 | Y32: 19
A33: E-027 | B33: UT | C33: DESMUNTATGE DE COLUMNA DE SEMÀFORS, INCLÒS EL TRAN | D33: 1 | E33: 1 | F33: 1 | G33: 1 | H33: 1 | I33: 1 | J33: 0 | K33: 2 | L33: 1 | M33: 0 | N33: 0 | O33: 1 | P33: 1 | Q33: 0 | R33: 0 | S33: 1 | T33: 1 | U33: 1 | V33: 1 | W33: 2 | Y33: 17
A34: E-028 | B34: UT | C34: SUBMINISTRAMENT, INSTAL·LACIÓ I FIXACIÓ DE BRAÇ LA | Y34: 0
A35: E-029 | B35: UT | C35: SUBMINISTRAMENT DE BÀCUL DE SEMÀFORS MODEL 6025, D | O35: 1 | S35: 1 | Y35: 2
A36: E-030 | B36: UT | C36: INSTAL·LACIÓ DE BÀCUL DE SEMÀFORS MODEL 6025, D'AC | D36: 0 | E36: 0 | F36: 0 | G36: 0 | H36: 0 | I36: 0 | J36: 0 | K36: 0 | L36: 0 | M36: 0 | N36: 0 | O36: 1 | P36: 0 | Q36: 0 | R36: 0 | S36: 1 | T36: 0 | U36: 0 | V36: 0 | W36: 0 | Y36: 2
A37: E-031 | B37: UT | C37: SUBMINISTRAMENT DE PUNTA PER BÀCUL, FINS A 2,5 m D | D37: 0 | E37: 0 | F37: 0 | G37: 0 | H37: 0 | I37: 0 | J37: 0 | K37: 0 | L37: 0 | M37: 0 | N37: 0 | O37: 1 | P37: 0 | Q37: 0 | R37: 0 | S37: 1 | T37: 0 | U37: 0 | V37: 0 | W37: 0 | Y37: 2
A38: E-032 | B38: UT | C38: INSTAL·LACIÓ DE PUNTA PER BÀCUL, FINS A 2,5 m DE L | O38: 1 | S38: 1 | Y38: 2
A39: E-033 | B39: UT | C39: SUBMINISTRAMENT I TREBALLS PER SUBSTITUIR I ADEQUA | Y39: 0
A40: E-034 | B40: UT | C40: INSTAL·LACIÓ DE CAPÇALS DE SEMÀFORS, SUPORTS, POLS | D40: 1 | E40: 1 | F40: 1 | G40: 1 | H40: 1 | I40: 1 | K40: 2 | L40: 1 | O40: 2 | P40: 1 | S40: 2 | T40: 1 | U40: 1 | V40: 1 | W40: 2 | Y40: 19
A41: E-035 | B41: UT | C41: CABLEJAT PROPI ENTRE ARMARI DE PUNT DE CONTROL I L | D41: 1 | E41: 1 | F41: 1 | G41: 1 | H41: 1 | I41: 1 | J41: 1 | K41: 1 | L41: 1 | M41: 1 | N41: 1 | O41: 1 | P41: 1 | Q41: 1 | R41: 1 | S41: 1 | T41: 1 | U41: 1 | V41: 1 | W41: 1 | Y41: 20
A42: E-036 | B42: UT | C42: SENYALITZACIÓ ESPECIAL OBRES, TALLS DE CARRIL I SI | D42: 1 | E42: 1 | F42: 1 | G42: 1 | H42: 1 | I42: 1 | J42: 1 | K42: 1 | L42: 1 | M42: 1 | N42: 1 | O42: 1 | P42: 1 | Q42: 1 | R42: 1 | S42: 1 | T42: 1 | U42: 1 | V42: 1 | W42: 1 | Y42: 20
A43: E-037 | B43: UT | C43: LLICÈNCIA OCR TIPUS FREEFLOW PER A RECONEIXEMENT D | Y43: 0
A44: E-038 | B44: UT | C44: PRECINTAT DE CÀMERES I DEL PC DE CONTROL DEL PUNT | Y44: 0
A45: OBRA CIVIL | D45: PdC-01 | E45: PdC-02 | F45: PdC-03 | G45: PdC-04 | H45: PdC-05 | I45: PdC-06 | J45: PdC-07 | K45: PdC-08 | L45: PdC-09 | M45: PdC-10 | N45: PdC-11 | O45: PdC-12 | P45: PdC-13 | Q45: PdC-14 | R45: PdC-15 | S45: PdC-16 | T45: PdC-17 | U45: PdC-18 | V45: PdC-19 | W45: PdC-20
A46: O-001 | B46: UT | C46: FONAMENT DE FORMIGÓ PER A ARMARI DE CONTROL O ESCO | D46: 1 | E46: 1 | F46: 1 | G46: 1 | H46: 1 | I46: 1 | J46: 1 | K46: 1 | L46: 1 | M46: 1 | N46: 2 | O46: 1 | P46: 1 | Q46: 1 | R46: 1 | S46: 1 | T46: 1 | U46: 1 | V46: 1 | W46: 1 | Y46: 21
A47: O-002 | B47: UT | C47: FONAMENT DE FORMIGÓ PER A COLUMNA 4000, AMB DOSIFI | D47: 1 | E47: 1 | F47: 1 | G47: 1 | H47: 1 | I47: 1 | J47: 0 | K47: 2 | L47: 1 | M47: 1 | N47: 1 | O47: 0 | P47: 1 | Q47: 1 | R47: 1 | S47: 0 | T47: 1 | U47: 1 | V47: 1 | W47: 2 | Y47: 19
A48: O-003 | B48: UT | C48: FONAMENT DE FORMIGÓ PER A BÀCUL DE SEMÀFORS 6025 m | D48: 0 | E48: 0 | F48: 0 | G48: 0 | H48: 0 | I48: 0 | J48: 0 | K48: 0 | L48: 0 | M48: 0 | N48: 0 | O48: 1 | P48: 0 | Q48: 0 | R48: 0 | S48: 1 | T48: 0 | U48: 0 | V48: 0 | W48: 0 | Y48: 2
A49: O-004 | B49: UT | C49: PERICÓ DE 60 x 60 cm. PREFABRICAT DE FORMIGÓ O CON | D49: 2 | E49: 2 | F49: 2 | G49: 2 | H49: 1 | I49: 1 | J49: 1 | K49: 1 | L49: 1 | M49: 4 | N49: 1 | O49: 2 | P49: 1 | Q49: 3 | R49: 3 | S49: 1 | T49: 3 | V49: 1 | W49: 1 | Y49: 33
A50: O-005 | B50: UT | C50: SUBMINISTRAMENT MARC DE FERRO FOS DE 60 x 60 cm PE | D50: 2 | E50: 2 | F50: 2 | G50: 2 | H50: 1 | I50: 1 | J50: 1 | K50: 1 | L50: 1 | M50: 4 | N50: 1 | O50: 2 | P50: 1 | Q50: 3 | R50: 3 | S50: 1 | T50: 3 | V50: 1 | W50: 1 | Y50: 33
A51: O-006 | B51: UT | C51: SUBMINISTRAMENT TAPA DE FERRO FOS DE 60 x 60 cm PE | D51: 2 | E51: 2 | F51: 2 | G51: 2 | H51: 1 | I51: 1 | J51: 1 | K51: 1 | L51: 1 | M51: 4 | N51: 1 | O51: 2 | P51: 1 | Q51: 3 | R51: 3 | S51: 1 | T51: 3 | V51: 1 | W51: 1 | Y51: 33
A52: O-007 | B52: UT | C52: REPARACIÓ D'ESTRUCTURA INTERIOR DE PERICÓ EXISTENT | D52: 2 | E52: 2 | H52: 2 | I52: 3 | J52: 2 | K52: 3 | L52: 1 | M52: 2 | O52: 5 | P52: 2 | Q52: 5 | R52: 5 | S52: 2 | W52: 2 | Y52: 38
A53: O-008 | B53: UT | C53: INTERCEPTAR CANALITZACIÓ EXISTENT / EMBOCADURA PER | D53: 2 | E53: 3 | G53: 2 | H53: 1 | I53: 1 | J53: 2 | K53: 1 | L53: 1 | M53: 4 | O53: 3 | P53: 2 | Q53: 3 | R53: 3 | S53: 2 | U53: 1 | V53: 1 | W53: 1 | Y53: 33
A54: O-009 | B54: ML | C54: COMPROVACIÓ I MANDRINATGE DE CANALITZACIÓ EXISTENT | D54: 450 | E54: 15 | F54: 20 | G54: 20 | H54: 10 | I54: 85 | J54: 70 | K54: 100 | L54: 85 | M54: 30 | N54: 20 | O54: 130 | P54: 10 | Q54: 75 | R54: 100 | S54: 65 | T54: 40 | U54: 50 | V54: 5 | W54: 50 | Y54: 1430
A55: O-010 | B55: ML | C55: CANALITZACIÓ EN VORERA INCLOENT SUBMINISTRAMENT I | D55: 5 | E55: 15 | H55: 15 | I55: 5 | M55: 5 | N55: 5 | T55: 20 | Y55: 70
A56: O-011 | B56: ML | C56: CANALITZACIÓ EN CALÇADA INCLÒS SUBMINISTRAMENT I I | Y56: 0
A57: O-012 | B57: ML | C57: CANALITZACIÓ EN CALÇADA INCLÒS SUBMINISTRAMENT I I | Y57: 0
A58: O-013 | B58: UT | C58: CANALITZACIÓ EN ZONA DE TERRA O PARTERRES VEGETALS | Y58: 0
A59: O-014 | B59: ML | C59: CANALITZACIÓ EN VORERA INCLOENT SUBMINISTRAMENT I | I59: 10 | J59: 10 | K59: 15 | L59: 10 | M59: 85 | O59: 15 | P59: 5 | Q59: 75 | R59: 100 | S59: 10 | U59: 5 | V59: 10 | W59: 10 | Y59: 360
A60: O-015 | B60: ML | C60: CANALITZACIÓ EN CALÇADA INCLÒS SUBMINISTRAMENT I I | M60: 10 | T60: 10 | Y60: 20
A61: O-016 | B61: ML | C61: SUPLEMENT PER REALITZACIÓ DE CANALITZACIÓ EN CALÇA | M61: 10 | T61: 10 | Y61: 20
A62: O-017 | B62: ML | C62: SUPLEMENT REPOSICIÓ VORERES AMB PAVIMENTS ESPECIAL | Q62: 30 | R62: 25 | T62: 20 | W62: 10 | Y62: 85
A63: O-018 | B63: UT | C63: REPARACIÓ TUBULAR EN VORERA, MITJANÇANT EXCAVACIÓ, | D63: 5 | E63: 1 | F63: 1 | G63: 1 | H63: 1 | I63: 3 | J63: 3 | K63: 4 | L63: 3 | M63: 2 | O63: 2 | Q63: 2 | R63: 4 | S63: 1 | T63: 2 | U63: 1 | V63: 1 | W63: 1 | Y63: 38
A64: O-019 | B64: UT | C64: REPARACIÓ TUBULAR EN CALÇADA, MITJANÇANT EXCAVACIÓ | D64: 2 | N64: 1 | T64: 1 | Y64: 4
A65: O-020 | B65: M2 | C65: REPOSICIÓ DE PAVIMENT TIPUS AGLOMERAT ASFÀLTIC EN | Y65: 0
A66: O-021 | B66: UT | C66: SUBMINISTRAMENT PLACA DE PRESA DE TERRA DE 500 x 5 | D66: 1 | E66: 1 | F66: 1 | G66: 1 | H66: 1 | I66: 1 | J66: 1 | K66: 1 | L66: 1 | M66: 1 | N66: 1 | O66: 1 | P66: 1 | Q66: 1 | R66: 1 | S66: 1 | T66: 1 | U66: 1 | V66: 1 | W66: 1 | Y66: 20
A67: O-022 | B67: UT | C67: INSTAL·LACIÓ PLACA DE PRESA DE TERRA DE 500 x 500 | D67: 1 | E67: 1 | F67: 1 | G67: 1 | H67: 1 | I67: 1 | J67: 1 | K67: 1 | L67: 1 | M67: 1 | N67: 1 | O67: 1 | P67: 1 | Q67: 1 | R67: 1 | S67: 1 | T67: 1 | U67: 1 | V67: 1 | W67: 1 | Y67: 20
A68: O-023 | B68: UT | C68: OBTURACIÓ DE TUBULAR AMB CABLES EXISTENTS. | D68: 30 | E68: 10 | F68: 10 | G68: 10 | H68: 20 | I68: 30 | J68: 10 | K68: 40 | L68: 55 | M68: 35 | N68: 12 | O68: 20 | P68: 10 | Q68: 55 | R68: 65 | S68: 30 | T68: 40 | U68: 30 | V68: 10 | W68: 15 | Y68: 537
A69: O-024 | B69: UT | C69: RETIRADA, TRASLLAT I INSTAL·LACIÓ DE PAPERERA, INC | Y69: 0
A70: INSTAL·LACIÓ ELÈCTRICA | D70: PdC-01 | E70: PdC-02 | F70: PdC-03 | G70: PdC-04 | H70: PdC-05 | I70: PdC-06 | J70: PdC-07 | K70: PdC-08 | L70: PdC-09 | M70: PdC-10 | N70: PdC-11 | O70: PdC-12 | P70: PdC-13 | Q70: PdC-14 | R70: PdC-15 | S70: PdC-16 | T70: PdC-17 | U70: PdC-18 | V70: PdC-19 | W70: PdC-20
A71: I-001 | B71: UT | C71: SUBMINISTRAMENT D'EQUIPAMENTS ESPECÍFICS PER LA DI | D71: 1 | E71: 1 | F71: 1 | G71: 1 | H71: 1 | I71: 1 | J71: 1 | K71: 1 | L71: 1 | M71: 1 | N71: 1 | O71: 1 | P71: 1 | Q71: 1 | R71: 1 | S71: 1 | T71: 1 | U71: 1 | V71: 1 | W71: 1 | Y71: 20
A72: I-002 | B72: UT | C72: INSTAL·LACIÓ D'EQUIPAMENTS ESPECÍFICS PER LA DISTR | D72: 1 | E72: 1 | F72: 1 | G72: 1 | H72: 1 | I72: 1 | J72: 1 | K72: 1 | L72: 1 | M72: 1 | N72: 1 | O72: 1 | P72: 1 | Q72: 1 | R72: 1 | S72: 1 | T72: 1 | U72: 1 | V72: 1 | W72: 1 | Y72: 20
A73: I-003 | B73: ML | C73: SUBMINISTRAMENT DE CABLE DE CONDUCTOR DE COURE AMB | D73: 30 | E73: 20 | F73: 30 | G73: 15 | H73: 25 | I73: 20 | J73: 20 | K73: 20 | L73: 30 | M73: 30 | N73: 30 | O73: 20 | P73: 30 | Q73: 30 | R73: 25 | S73: 10 | T73: 20 | U73: 20 | V73: 30 | W73: 30 | Y73: 485
A74: I-004 | B74: ML | C74: INSTAL·LACIÓ DE CABLE DE CONDUCTOR DE COURE AMB AÏ | D74: 30 | E74: 20 | F74: 30 | G74: 15 | H74: 25 | I74: 20 | J74: 20 | K74: 20 | L74: 30 | M74: 30 | N74: 30 | O74: 20 | P74: 30 | Q74: 30 | R74: 25 | S74: 10 | T74: 20 | U74: 20 | V74: 30 | W74: 30 | Y74: 485
A75: I-005 | B75: ML | C75: SUBMINISTRAMENT DE CABLE DE CONDUCTOR DE COURE EPT | D75: 5 | E75: 5 | F75: 5 | G75: 5 | H75: 5 | I75: 5 | J75: 5 | K75: 5 | L75: 5 | M75: 5 | N75: 5 | O75: 5 | P75: 5 | Q75: 5 | R75: 5 | S75: 5 | T75: 5 | U75: 5 | V75: 5 | W75: 5 | Y75: 100
A76: I-006 | B76: ML | C76: INSTAL·LACIÓ DE CABLE DE CONDUCTOR DE COURE EPTAFI | D76: 5 | E76: 5 | F76: 5 | G76: 5 | H76: 5 | I76: 5 | J76: 5 | K76: 5 | L76: 5 | M76: 5 | N76: 5 | O76: 5 | P76: 5 | Q76: 5 | R76: 5 | S76: 5 | T76: 5 | U76: 5 | V76: 5 | W76: 5 | Y76: 100
A77: I-007 | B77: ML | C77: SUBMINISTRAMENT DE CABLE DE COURE RV-K 0,6/1KV DE | D77: 30 | E77: 0 | F77: 20 | G77: 20 | H77: 50 | I77: 85 | J77: 80 | L77: 95 | M77: 0 | N77: 10 | P77: 20 | Q77: 0 | R77: 0 | S77: 80 | T77: 10 | U77: 20 | V77: 30 | W77: 50 | Y77: 600
A78: I-008 | B78: ML | C78: INSTAL·LACIÓ DE CABLE DE COURE RV-K 0,6/1KV DE 3X6 | D78: 30 | E78: 0 | F78: 20 | G78: 20 | H78: 50 | I78: 85 | J78: 80 | K78: 0 | L78: 95 | M78: 0 | N78: 10 | O78: 0 | P78: 20 | Q78: 0 | R78: 0 | S78: 80 | T78: 10 | U78: 20 | V78: 30 | W78: 50 | Y78: 600
A79: I-009 | B79: ML | C79: SUBMINISTRAMENT DE CABLE DE COURE RV-K 0,6/1KV DE | E79: 150 | F79: 0 | G79: 0 | H79: 0 | I79: 0 | J79: 0 | K79: 120 | L79: 0 | M79: 130 | O79: 160 | Q79: 200 | R79: 260 | S79: 0 | T79: 0 | U79: 0 | V79: 0 | W79: 0 | Y79: 1020
A80: I-010 | B80: ML | C80: INSTAL·LACIÓ DE CABLE DE COURE RV-K 0,6/1KV DE 3X1 | D80: 0 | E80: 150 | F80: 0 | G80: 0 | H80: 0 | I80: 0 | J80: 0 | K80: 120 | L80: 0 | M80: 130 | N80: 0 | O80: 160 | P80: 0 | Q80: 200 | R80: 260 | S80: 0 | T80: 0 | U80: 0 | V80: 0 | W80: 0 | Y80: 1020
A81: I-011 | B81: UT | C81: TREBALLS PER A LA REALITZACIÓ DE L'ALIMENTACIÓ DEL | D81: 1 | E81: 1 | F81: 1 | G81: 1 | H81: 1 | I81: 1 | J81: 1 | K81: 1 | L81: 1 | M81: 1 | N81: 1 | O81: 1 | P81: 1 | Q81: 1 | R81: 1 | S81: 1 | T81: 1 | U81: 1 | V81: 1 | W81: 1 | Y81: 20
A82: I-012 | B82: UT | C82: ESCOMESA ELÈCTRICA. REALITZACIÓ DE NOVA ESCOMESA E | N82: 1 | T82: 1 | Y82: 2
A83: I-013 | B83: UT | C83: TRAMITACIÓ I GESTIÓ DE L'ESCOMESA | N83: 1 | T83: 1 | Y83: 2
A84: I-014 | B84: UT | C84: PROJECTE DE LEGALITZACIÓ | N84: 1 | T84: 1 | Y84: 2
A85: COMUNICACIONS | D85: PdC-01 | E85: PdC-02 | F85: PdC-03 | G85: PdC-04 | H85: PdC-05 | I85: PdC-06 | J85: PdC-07 | K85: PdC-08 | L85: PdC-09 | M85: PdC-10 | N85: PdC-11 | O85: PdC-12 | P85: PdC-13 | Q85: PdC-14 | R85: PdC-15 | S85: PdC-16 | T85: PdC-17 | U85: PdC-18 | V85: PdC-19 | W85: PdC-20
A86: F-001 | B86: ML | C86: SUBMINISTRAMENT I INSTAL·LACIÓ DE CABLE DE 8 FO MO | Y86: 730
A87: F-002 | B87: ML | C87: SUBMINISTRAMENT I INSTAL·LACIÓ DE CABLE DE 16 FO M | Y87: 0
A88: F-003 | B88: ML | C88: SUBMINISTRAMENT I INSTAL·LACIÓ DE CABLE DE 24 FO M | D88: 550 | E88: 180 | Y88: 730
A89: F-004 | B89: ML | C89: SUBMINISTRAMENT I INSTAL·LACIÓ DE CABLE DE 48 FO M | Y89: 0
A90: F-005 | B90: ML | C90: SUBMINISTRAMENT I INSTAL·LACIÓ DE CABLE DE 96 FO M | Y90: 0
A91: F-006 | B91: UT | C91: FUSIÓ EN RECTE DE 1 FO MONOMODE. INCLOU PIG·TAIL, | D91: 8 | E91: 8 | Y91: 16
A92: F-007 | B92: UT | C92: MESURES DE FIBRA ÒPTICA. FINS A 4 FUSIONS | D92: 2 | E92: 2 | Y92: 4
A93: F-008 | B93: UT | C93: SUBMINISTRAMENT I INSTAL·LACIÓ DE CAIXA REPARTIDOR | D93: 2 | E93: 2 | Y93: 4
A94: F-009 | B94: UT | C94: SUBMINISTRAMENT I INSTAL·LACIÓ DE PIGTAIL DE FO MO | Y94: 0
A95: F-010 | B95: UT | C95: SUBMINISTRAMENT I INSTAL·LACIÓ DE FUETÓ DE FO MONO | D95: 4 | E95: 2 | Y95: 6
A96: F-011 | B96: ML | C96: SUBMINISTRAMENT I INSTAL·LACIÓ DE CABLATGE ESTRUCT | F96: 30 | G96: 30 | Y96: 60
A97: F-012 | B97: UT | C97: SUBMINISTRAMENT I INSTAL·LACIÓ DE CAIXA D'EMPIULAM | D97: 0 | Y97: 0
A98: F-013 | B98: UT | C98: SUBMINISTRAMENT I INSTAL·LACIÓ DE TRANSCEPTOR SFP | D98: 2 | E98: 2 | F98: 2 | G98: 2 | Y98: 8
A99: F-014 | B99: UT | C99: SUBMINISTRAMENT I INSTAL·LACIÓ DE FIREWALL AMB FUN | H99: 1 | I99: 1 | J99: 1 | K99: 1 | L99: 1 | M99: 1 | N99: 1 | O99: 1 | P99: 1 | Q99: 1 | R99: 1 | S99: 1 | T99: 1 | U99: 1 | V99: 1 | W99: 1 | Y99: 16
A100: SENYALITZACIÓ | D100: PdC-01 | E100: PdC-02 | F100: PdC-03 | G100: PdC-04 | H100: PdC-05 | I100: PdC-06 | J100: PdC-07 | K100: PdC-08 | L100: PdC-09 | M100: PdC-10 | N100: PdC-11 | O100: PdC-12 | P100: PdC-13 | Q100: PdC-14 | R100: PdC-15 | S100: PdC-16 | T100: PdC-17 | U100: PdC-18 | V100: PdC-19 | W100: PdC-20
A101: S-001 | B101: UT | C101: SUBMINISTRAMENT DE SENYAL DE "CONTROL FOTOGRÀFIC". | D101: 1 | E101: 1 | F101: 1 | G101: 1 | H101: 1 | I101: 1 | J101: 2 | K101: 2 | L101: 2 | M101: 1 | N101: 1 | O101: 2 | P101: 1 | Q101: 1 | R101: 1 | S101: 2 | T101: 1 | U101: 1 | V101: 1 | W101: 2 | Y101: 26
A102: S-002 | B102: UT | C102: SUBMINISTRAMENT DE SENYAL INFORMATIU DE ZONA VIDEO | D102: 3 | E102: 2 | F102: 3 | G102: 3 | H102: 2 | I102: 3 | J102: 3 | K102: 4 | L102: 2 | M102: 1 | N102: 1 | O102: 3 | P102: 2 | Q102: 2 | R102: 2 | S102: 4 | T102: 3 | U102: 2 | V102: 3 | W102: 3 | Y102: 51
...

Sheet Comprobación
B1: PdC-01 | C1: PdC-02 | D1: PdC-03 | E1: PdC-04 | F1: PdC-05 | G1: PdC-06 | H1: PdC-07 | I1: PdC-08 | J1: PdC-09 | K1: PdC-10
A2: EQUIPAMENT PUNT DE CONTROL | B2: ='ZBE-01'!$I$118 -> 16854 | C2: =#REF! -> #REF! | D2: =#REF! -> #REF! | E2: =#REF! -> #REF! | F2: =#REF! -> #REF! | G2: =#REF! -> #REF! | H2: =#REF! -> #REF! | I2: =#REF! -> #REF! | J2: =#REF! -> #REF! | K2: =#REF! -> #REF! | L2: =SUM(B2:K2) -> #REF!
A3: OBRA CIVIL | B3: ='ZBE-01'!$I$119 -> 4329 | C3: =#REF! -> #REF! | D3: =#REF! -> #REF! | E3: =#REF! -> #REF! | F3: =#REF! -> #REF! | G3: =#REF! -> #REF! | H3: =#REF! -> #REF! | I3: =#REF! -> #REF! | J3: =#REF! -> #REF! | K3: =#REF! -> #REF! | L3: =SUM(B3:K3) -> #REF!
A4: INSTAL·LACIÓ ELÈCTRICA | B4: ='ZBE-01'!$I$120 -> 1320.5 | C4: =#REF! -> #REF! | D4: =#REF! -> #REF! | E4: =#REF! -> #REF! | F4: =#REF! -> #REF! | G4: =#REF! -> #REF! | H4: =#REF! -> #REF! | I4: =#REF! -> #REF! | J4: =#REF! -> #REF! | K4: =#REF! -> #REF! | L4: =SUM(B4:K4) -> #REF!
A5: SENYALITZACIÓ | B5: ='ZBE-01'!$I$122 -> 595 | C5: =#REF! -> #REF! | D5: =#REF! -> #REF! | E5: =#REF! -> #REF! | F5: =#REF! -> #REF! | G5: =#REF! -> #REF! | H5: =#REF! -> #REF! | I5: =#REF! -> #REF! | J5: =#REF! -> #REF! | K5: =#REF! -> #REF! | L5: =SUM(B5:K5) -> #REF!

Sheet Preus Unitaris
B2: PREUS UNITARIS
F3: 0.19
B4: CODI | C4: UNITAT MESURA | D4: CONCEPTE / DENOMINACIÓ | E4: PREU UNITARI PEM | F4: DG+BI | G4: PREU UNITARI PEC
B6: EQUIPAMENT PUNT DE CONTROL
B7: E-001 | C7: UT | D7: SUBMINISTRAMENT D'EQUIP COMPACTE DE RECONEIXEMENT DE MATRÍCULES, FORMAT PER CONJUNT DE CÀMERA LPR 2 CARRILS HD, CÀMERA DE CONTEXT A COLOR I IL·LUMINADOR IR PER A ZONA D’INFRACCIONS. INCLOU LLICÈNCIA OCR, CARCASSA, BRAÇ I ADAPTACIÓ A SUPORT. | E7: =ROUND(G7/1.19,3) -> 6369.748 | F7: =ROUND(E7*$F$3,2) -> 1210.25 | G7: =7830-250 -> 7580
B8: E-002 | C8: UT | D8: INSTAL·LACIÓ D'EQUIP COMPACTE DE RECONEIXEMENT DE MATRÍCULES, FORMAT PER CONJUNT DE CÀMERA LPR 2 CARRILS HD, CÀMERA DE CONTEXT A COLOR I IL·LUMINADOR IR PER A ZONA D’INFRACCIONS. INCLOU LLICÈNCIA OCR, CARCASSA, BRAÇ I ADAPTACIÓ A SUPORT. | E8: =ROUND(G8/1.19,3) -> 315.126 | F8: =ROUND(E8*$F$3,2) -> 59.87 | G8: 375
B9: E-003 | C9: UT | D9: SUBMINISTRAMENT DE FONT D'ALIMENTACIÓ 48V TIPUS INDUSTRIAL, PER MUNTATGE EN CARRIL DIN, PER ALIMENTAR FINS A 4 CÀMERES PUNT DE CONTROL. | E9: =ROUND(G9/1.19,3) -> 134.454 | F9: =ROUND(E9*$F$3,2) -> 25.55 | G9: 160
B10: E-004 | C10: UT | D10: INSTAL·LACIÓ DE FONT D'ALIMENTACIÓ 48V TIPUS INDUSTRIAL, PER MUNTATGE EN CARRIL DIN, PER ALIMENTAR FINS A 4 CÀMERES PUNT DE CONTROL. | E10: =ROUND(G10/1.19,3) -> 29.412 | F10: =ROUND(E10*$F$3,2) -> 5.59 | G10: 35
B11: E-005 | C11: UT | D11: SUBMINISTRAMENT DE FONT D'ALIMENTACIÓ 24V TIPUS INDUSTRIAL, PER MUNTATGE EN CARRIL DIN. | E11: =ROUND(G11/1.19,3) -> 45.378 | F11: =ROUND(E11*$F$3,2) -> 8.62 | G11: 54
B12: E-006 | C12: UT | D12: INSTAL·LACIÓ DE FONT D'ALIMENTACIÓ 24V TIPUS INDUSTRIAL, PER MUNTATGE EN CARRIL DIN. | E12: =ROUND(G12/1.19,3) -> 11.765 | F12: =ROUND(E12*$F$3,2) -> 2.24 | G12: 14
B13: E-007 | C13: UT | D13: SUBMINISTRAMENT DE SWITCH DE COMUNICACIÓ PER SISTEMA DE VISIÓ ARTIFICIAL, TIPUS INDUSTRIAL, GESTIONABLE, AMB 8 PORTS PoE (802.3at i 802.3bt), INCLOSOS FUETONS DE CONNEXIÓ, COMPATIBLE AMB EL SISTEMA DE COMUNICACIONS DE L'AJUNTAMENT. | E13: =ROUND(G13/1.19,3) -> 987.395 | F13: =ROUND(E13*$F$3,2) -> 187.61 | G13: 1175
B14: E-008 | C14: UT | D14: INSTAL·LACIÓ I CONFIGURACIÓ DE SWITCH DE COMUNICACIÓ PER SISTEMA DE VISIÓ ARTIFICIAL, TIPUS INDUSTRIAL, GESTIONABLE, AMB 8 PORTS PoE (802.3at i 802.3bt), INCLOSOS FUETONS DE CONNEXIÓ, COMPATIBLE AMB EL SISTEMA DE COMUNICACIONS DE L'AJUNTAMENT. | E14: =ROUND(G14/1.19,3) -> 75.63 | F14: =ROUND(E14*$F$3,2) -> 14.37 | G14: 90
B15: E-009 | C15: UT | D15: SUBMINISTRAMENT DE SWITCH DE COMUNICACIÓ PER SISTEMA DE VISIÓ ARTIFICIAL, TIPUS INDUSTRIAL, PoE, AMB 10 PORTS MODEL CISCO IE-3400-8P2S-E O 100% EQUIPAVENT, INCLOSOS FUETONS DE CONNEXIÓ, COMPATIBLE AMB EL SISTEMA DE COMUNICACIONS DE L'AJUNTAMENT. | E15: =ROUND(G15/1.19,3) -> 3298.319 | F15: =ROUND(E15*$F$3,2) -> 626.68 | G15: 3925
B16: E-010 | C16: UT | D16: INSTAL·LACIÓ I CONFIGURACIÓ DE SWITCH DE COMUNICACIÓ PER SISTEMA DE VISIÓ ARTIFICIAL, TIPUS INDUSTRIAL, PoE, AMB 10 PORTS MODEL CISCO IE-3400-8P2S-E O 100% EQUIPAVENT, INCLOSOS FUETONS DE CONNEXIÓ, COMPATIBLE AMB EL SISTEMA DE COMUNICACIONS DE L'AJUNTAMENT. | E16: =ROUND(G16/1.19,3) -> 92.437 | F16: =ROUND(E16*$F$3,2) -> 17.56 | G16: 110
B17: E-011 | C17: UT | D17: SUBMINISTRAMENT DE PC INDUSTRIAL RUGORITZAT DE 20 GB DE CAPACITAT EMAGATZEMATGE, PROCESSADOR ÚLTIMA GENERACIÓ, SEGONS ESPECIFICCIONS TÈCNIQUES. | E17: =ROUND(G17/1.19,3) -> 903.361 | F17: =ROUND(E17*$F$3,2) -> 171.64 | G17: =1075-0 -> 1075
B18: E-012 | C18: UT | D18: INSTAL·LACIÓ I CONFIGURACIÓ DE PC INDUSTRIAL RUGORITZAT DE 20 GB DE CAPACITAT EMAGATZEMATGE, PROCESSADOR ÚLTIMA GENERACIÓ, SEGONS ESPECIFICCIONS TÈCNIQUES. | E18: =ROUND(G18/1.19,3) -> 100.84 | F18: =ROUND(E18*$F$3,2) -> 19.16 | G18: 120
B19: E-013 | C19: UT | D19: SUBMINISTRAMENT DE SAI PUNT DE CONTROL LECTURA DE MATRÍCULES, 1000 / 1000VA - AP160N-1K, FORMAT RACK 19", DE 1000VA / 900W, MONOFÀSIC AMB 3 BATERIES 12V/7,2 AH. | E19: =ROUND(G19/1.19,3) -> 403.361 | F19: =ROUND(E19*$F$3,2) -> 76.64 | G19: =478+2 -> 480
B20: E-014 | C20: UT | D20: INSTAL·LACIÓ DE SAI PUNT DE CONTROL LECTURA DE MATRÍCULES, 1000 / 1000VA - AP160N-1K, FORMAT RACK 19", DE 1000VA / 900W, MONOFÀSIC AMB 3 BATERIES 12V/7,2 AH. INSTAL·LACIÓ, CONNEXIÓ I POSADA EN MARXA, INCLOU PETIT MATERIAL INSTAL·LACIÓ, CABLEJAT I CONNEXIÓ I QUALSEVOL ALTRE NECESSARI PEL CORRECTE FUNCIONAMENT. | E20: =ROUND(G20/1.19,3) -> 29.412 | F20: =ROUND(E20*$F$3,2) -> 5.59 | G20: 35
B21: E-015 | C21: UT | D21: SUBMINISTRAMENT DE MÒDUL SNMP DE COMUNICACIONS PER SAI. INCLOU PETIT MATERIAL, CABLEJAT I QUALSEVOL ALTRE NECESSARI PEL CORRECTE FUNCIONAMENT. | E21: =ROUND(G21/1.19,3) -> 194.958 | F21: =ROUND(E21*$F$3,2) -> 37.04 | G21: =232-0 -> 232
B22: E-016 | C22: UT | D22: INSTAL·LACIÓ DE MÒDUL SNMP COMUNICACIONS PER SAI, CONNEXIÓ I POSADA EN MARXA. INCLOU PETIT MATERIAL INSTAL·LACIÓ, CABLEJAT I CONNEXIÓ I QUALSEVOL ALTRE NECESSARI PEL CORRECTE FUNCIONAMENT. | E22: =ROUND(G22/1.19,3) -> 5.042 | F22: =ROUND(E22*$F$3,2) -> 0.96 | G22: 6
B23: E-017 | C23: UT | D23: SUBMINISTRAMENT DE CONVERSOR DE SENYAL DE COMUNICACIONS D'ELÈCTRIC A ÒPTIC, COMPATIBLE AMB LA XARXA DE COMUNICACIONS MUNICIPAL, AMB 2 PORTS FO I 4 PORTS RJ45, E/O 2FX/4TX. | E23: =ROUND(G23/1.19,3) -> 459.664 | F23: =ROUND(E23*$F$3,2) -> 87.34 | G23: 547
B24: E-018 | C24: UT | D24: INSTAL·LACIÓ DE CONVERSOR DE SENYAL DE COMUNICACIONS D'ELÈCTRIC A ÒPTIC, COMPATIBLE AMB LA XARXA DE COMUNICACIONS MUNICIPAL, AMB 2 PORTS FO I 4 PORTS RJ45, E/O 2FX/4TX. | E24: =ROUND(G24/1.19,3) -> 22.689 | F24: =ROUND(E24*$F$3,2) -> 4.31 | G24: 27
B25: E-019 | C25: UT | D25: SUBMINISTRAMENT DE CONVERSOR DE SENYAL DE COMUNICACIONS D'ELÈCTRIC A ÒPTIC, COMPATIBLE AMB LA XARXA DE COMUNICACIONS MUNICIPAL, AMB 1 PORT FO I 1 PORT RJ45, E/O 1FX/1TX. | E25: =ROUND(G25/1.19,3) -> 374.79 | F25: =ROUND(E25*$F$3,2) -> 71.21 | G25: 446
B26: E-020 | C26: UT | D26: INSTAL·LACIÓ DE CONVERSOR DE SENYAL DE COMUNICACIONS D'ELÈCTRIC A ÒPTIC, COMPATIBLE AMB LA XARXA DE COMUNICACIONS MUNICIPAL, AMB 1 PORT FO I 1 PORT RJ45, E/O 1FX/1TX. | E26: =ROUND(G26/1.19,3) -> 22.689 | F26: =ROUND(E26*$F$3,2) -> 4.31 | G26: 27
B27: E-021 | C27: UT | D27: SUBMINISTRAMENT D'ARMARI METÀL·LIC PER INTEMPÈRIE, DE DIMENSIONS APROX. 400 x 400 mm, MUNTAT SOBRE COLUMNA O ALTRES SUPORTS, PER ALLOTJAR EQUIPAMENTS DE DISTRIBUCIÓ ELÈCTRICA I DE COMUNICACIONS. INCLOU PLACA DE MUNTATGE, PANY AMB CLAU I ACCESSORIS NECESSARIS (CANALETES, CARRIL DIN, PREMSAESTOPES, FIXACIONS, ...) I PETIT MATERIAL NECESSARI PER A LA CORRECTE EXECUCIÓ. | E27: =ROUND(G27/1.19,3) -> 184.874 | F27: =ROUND(E27*$F$3,2) -> 35.13 | G27: 220
B28: E-022 | C28: UT | D28: INSTAL·LACIÓ D'ARMARI METÀL·LIC PER INTEMPÈRIE, DE DIMENSIONS APROX. 400 x 400 mm, MUNTAT SOBRE COLUMNA O ALTRES SUPORTS, PER ALLOTJAR EQUIPAMENTS DE DISTRIBUCIÓ ELÈCTRICA I DE COMUNICACIONS. INCLOU PLACA DE MUNTATGE, PANY AMB CLAU I ACCESSORIS NECESSARIS (CANALETES, CARRIL DIN, PREMSAESTOPES, FIXACIONS, ...) I PETIT MATERIAL NECESSARI PER A LA CORRECTE EXECUCIÓ, AIXÍ COM VEHICLE AMB CISTELLA ELEVADORA I QUALSEVOL ALTRE MEDI NECESSARI PER A LA CORRECTA INSTAL·LACIÓ. | E28: =ROUND(G28/1.19,3) -> 264.706 | F28: =ROUND(E28*$F$3,2) -> 50.29 | G28: 315
B29: E-023 | C29: UT | D29: SUBMINISTRAMENT D'ARMARI PER INTEMPÈRIE EN PLANXA D'ACER GALVANITZAT EN CALENT I PINTAT, DE DIMENSIONS APROX. 1200x600x320 mm I DE 1,2 mm DE GRUIX, PER ALLOTJAMENT D'EQUIPS DE PUNT DE CONTROL. INCLOU PLACA DE MUNTATGE, PANY AMB CLAU I ACCESSORIS NECESSARIS (CANALETES, CARRIL DIN, PREMSAESTOPES, FIXACIONS, ...) I PETIT MATERIAL NECESSARI PER A LA CORRECTE EXECUCIÓ. | E29: =ROUND(G29/1.19,3) -> 580.672 | F29: =ROUND(E29*$F$3,2) -> 110.33 | G29: =691 -> 691
B30: E-024 | C30: UT | D30: INSTAL·LACIÓ D'ARMARI PER INTEMPÈRIE EN PLANXA D'ACER GALVANITZAT EN CALENT I PINTAT, DE DIMENSIONS APROX. 1200x600x320 mm I DE 1,2 mm DE GRUIX, PER ALLOTJAMENT D'EQUIPS DE PUNT DE CONTROL. INCLOU PLACA DE MUNTATGE, PANY AMB CLAU I ACCESSORIS NECESSARIS (CANALETES, CARRIL DIN, PREMSAESTOPES, FIXACIONS, ...) I PETIT MATERIAL NECESSARI PER A LA CORRECTE EXECUCIÓ, AIXÍ QUALSEVOL ALTRE MEDI NECESSARI PER A LA CORRECTA INSTAL·LACIÓ. | E30: =ROUND(G30/1.19,3) -> 113.445 | F30: =ROUND(E30*$F$3,2) -> 21.55 | G30: 135
B31: E-025 | C31: UT | D31: SUBMINISTRAMENT DE COLUMNA MODEL SEMÀFORS, METÀL·LICA DE 4 m ALÇADA LLIURE I 100 mm DE DIÀMETRE, AMB O SENSE PLETINA D'ANCORATGE INCLOSOS PERNS ANCORATGE O FIXACIONS. | E31: =ROUND(G31/1.19,3) -> 172.269 | F31: =ROUND(E31*$F$3,2) -> 32.73 | G31: =205-0 -> 205
B32: E-026 | C32: UT | D32: INSTAL·LACIÓ DE COLUMNA MODEL SEMÀFORS, METÀL·LICA DE 4 m ALÇADA LLIURE I 100 mm DE DIÀMETRE, AMB O SENSE PLETINA D'ANCORATGE INCLOSOS PERNS ANCORATGE O FIXACIONS. | E32: =ROUND(G32/1.19,3) -> 71.429 | F32: =ROUND(E32*$F$3,2) -> 13.57 | G32: =2*22+30+11 -> 85
B33: E-027 | C33: UT | D33: DESMUNTATGE DE COLUMNA DE SEMÀFORS, INCLÒS EL TRANSPORT A NOVA UBICACIÓ O MAGATZEM. INCLOSOS ELEMENTS SEMAFÒRICS I CABLEJATS. | E33: =ROUND(G33/1.19,3) -> 71.429 | F33: =ROUND(E33*$F$3,2) -> 13.57 | G33: =29+41+15 -> 85
B34: E-028 | C34: UT | D34: SUBMINISTRAMENT, INSTAL·LACIÓ I FIXACIÓ DE BRAÇ LATERAL FINS A 2 m DE LLARGADA, A FIXAR SOBRE COLUMNA. TOTALMENT EXECUTAT. | E34: =ROUND(G34/1.19,3) -> 231.092 | F34: =ROUND(E34*$F$3,2) -> 43.91 | G34: 275
B35: E-029 | C35: UT | D35: SUBMINISTRAMENT DE BÀCUL DE SEMÀFORS MODEL 6025, D'ACER GALVANITZAT DE 6m D'ALÇADA ÚTIL, 190mm DE DIÀMETRE INICIAL AMB UN GRUIX DE 3mm REFORÇAT A LA BASE AMB 4mm FINS A SOBRE DE LA PORTA, I AMB UN BRAÇ DE 2,50m. INCLOU PLANTILLA I PERNS D'ANCORATGE. | E35: =ROUND(G35/1.19,3) -> 567.227 | F35: =ROUND(E35*$F$3,2) -> 107.77 | G35: 675
B36: E-030 | C36: UT | D36: INSTAL·LACIÓ DE BÀCUL DE SEMÀFORS MODEL 6025, D'ACER GALVANITZAT DE 6m D'ALÇADA ÚTIL, 190mm DE DIÀMETRE INICIAL AMB UN GRUIX DE 3mm REFORÇAT A LA BASE AMB 4mm FINS A SOBRE DE LA PORTA, I AMB UN BRAÇ DE 2,50m. INCLOU PLANTILLA I PERNS D'ANCORATGE. | E36: =ROUND(G36/1.19,3) -> 155.462 | F36: =ROUND(E36*$F$3,2) -> 29.54 | G36: 185
B37: E-031 | C37: UT | D37: SUBMINISTRAMENT DE PUNTA PER BÀCUL, FINS A 2,5 m DE LLARGADA. | E37: =ROUND(G37/1.19,3) -> 134.454 | F37: =ROUND(E37*$F$3,2) -> 25.55 | G37: 160
B38: E-032 | C38: UT | D38: INSTAL·LACIÓ DE PUNTA PER BÀCUL, FINS A 2,5 m DE LLARGADA. | E38: =ROUND(G38/1.19,3) -> 84.034 | F38: =ROUND(E38*$F$3,2) -> 15.97 | G38: 100
B39: E-033 | C39: UT | D39: SUBMINISTRAMENT I TREBALLS PER SUBSTITUIR I ADEQUAR SUPORTS SEMAFÒRICS EXISTENTS, A EFECTES DE PODER-HI INSTAL·LAR LES NOVES CÀMERES, CONSISTENTS EN EL CANVI DE PUNTES ALLARGADORES EN BÀCULS DE SEMÀFORS. INCLOU DESCONNEXIÓ, DESMUNTATGE DE SEMÀFORS, CABLEJATS, SUBSTITUCIÓ DE LA PUNTA DE BÀCUL, INCLOSA AQUESTA, I POSTERIOR CABLEJAT, MUNTATGE I CONNEXIÓ DELS SEMÀFORS. | E39: =ROUND(G39/1.19,3) -> 735.294 | F39: =ROUND(E39*$F$3,2) -> 139.71 | G39: 875
B40: E-034 | C40: UT | D40: INSTAL·LACIÓ DE CAPÇALS DE SEMÀFORS, SUPORTS, POLSADORS, CABLEJATS I ALTRES ELEMENTS SOBRE COLUMNA DE SEMÀFORS O BÀCUL, CONNEXIÓ I POSADA EN MARXA. | E40: =ROUND(G40/1.19,3) -> 100.84 | F40: =ROUND(E40*$F$3,2) -> 19.16 | G40: 120
B41: E-035 | C41: UT | D41: CABLEJAT PROPI ENTRE ARMARI DE PUNT DE CONTROL I LES CÀMERES I ALTRES ELEMENTS DEL PUNT DE CONTROL. INCLOU EL SUBMINISTRAMENT I INSTAL·LACIÓ DEL CABLEJAT PER ALIMENTACIÓ ELÈCTRICA I COMUNICACIONS, (EXCEPTE CABLE FO, FUSIONS I CONVERSORS ÒPTICS), FUETONS DE QUALSEVOL TIPUS, AIXÍ COM QUALSEVOL ALTRE MATERIAL PER A LA CORRECTA EXECUCIÓ. | E41: =ROUND(G41/1.19,3) -> 546.218 | F41: =ROUND(E41*$F$3,2) -> 103.78 | G41: 650
B42: E-036 | C42: UT | D42: SENYALITZACIÓ ESPECIAL OBRES, TALLS DE CARRIL I SIMILARS, NECESSARIS PER A TOTES LES FEINES A FER EN EL PUNT DE CONTROL (REPLANTEIG, INSTAL·LACIÓ, AJUSTOS, POSADA EN MARXA, ...). INCLOU TRAMITACIÓ PERMISOS I GESTIONS DAVANT ORGANISMES I ADMINISTRACIONS. | E42: =ROUND(G42/1.19,3) -> 630.252 | F42: =ROUND(E42*$F$3,2) -> 119.75 | G42: 750
B43: E-037 | C43: UT | D43: LLICÈNCIA OCR TIPUS FREEFLOW PER A RECONEIXEMENT DE MATRÍCULES DE VEHICLES PER A QUALSEVOL VELOCITAT. PREU LLICÈNCIA PER CÀMERA. | E43: =ROUND(G43/1.19,3) -> 1361.345 | F43: =ROUND(E43*$F$3,2) -> 258.66 | G43: 1620
B44: E-038 | C44: UT | D44: PRECINTAT DE CÀMERES I DEL PC DE CONTROL DEL PUNT DE CONTROL. INCLOU TOTS ELS MATERIALS (PRECINTES), MITJANS I RECURSOS NECESSARIS. PREU PER PUNT DE CONTROL | E44: =ROUND(G44/1.19,3) -> 126.05 | F44: =ROUND(E44*$F$3,2) -> 23.95 | G44: 150
B46: OBRA CIVIL
B47: O-001 | C47: UT | D47: FONAMENT DE FORMIGÓ PER A ARMARI DE CONTROL O ESCOMESA ELÈCTRICA, AMB DOSIFICACIÓ DE 250 KG/m3 I ENCOFRAT CARA VISTA, DE DIMENSIONS APROX. 800 x 800 x 500 mm AMB UN ENCASTAMENT DE 20 cm I 4 FORATS DE 110 mm. DE DIÀMETRE. INCLOU DEMOLICIÓ PAVIMENT, EXCAVACIÓ I POSTERIOR REPOSICIÓ. TOTALMENT EXECUTAT. | E47: =ROUND(G47/1.19,3) -> 197.479 | F47: =ROUND(E47*$F$3,2) -> 37.52 | G47: 235
B48: O-002 | C48: UT | D48: FONAMENT DE FORMIGÓ PER A COLUMNA 4000, AMB DOSIFICACIÓ DE 250 KG/m3, MITJANÇANT UN DAU DE 50 cm. DE COSTAT I 60 cm. DE PROFUNDITAT, INCLÒS COLZE DE CONNEXIÓ AMB TUBULAR. INCLOU DEMOLICIÓ PAVIMENT, EXCAVACIÓ I POSTERIOR REPOSICIÓ. TOTALMENT EXECUTAT. | E48: =ROUND(G48/1.19,3) -> 92.437 | F48: =ROUND(E48*$F$3,2) -> 17.56 | G48: 110
B49: O-003 | C49: UT | D49: FONAMENT DE FORMIGÓ PER A BÀCUL DE SEMÀFORS 6025 m, AMB DOSIFICACIÓ DE 250 KG/m3, MITJANÇANT UN DAU DE 80 cm. DE COSTAT I 100 cm. DE PROFUNDITAT, INCLÒS PERNS ANCORATGE, COLZE DE CONNEXIÓ AMB TUBULAR. INCLOU DEMOLICIÓ PAVIMENT, EXCAVACIÓ I POSTERIOR REPOSICIÓ. TOTALMENT EXECUTAT. | E49: =ROUND(G49/1.19,3) -> 415.966 | F49: =ROUND(E49*$F$3,2) -> 79.03 | G49: 495
B50: O-004 | C50: UT | D50: PERICÓ DE 60 x 60 cm. PREFABRICAT DE FORMIGÓ O CONSTRUÏT AMB MAONS GERO I FONS DEL MATEIX MATERIAL REBENT EL MARC I LA TAPA CORRESPONENT, SENSE INCLOURE AQUESTS. INCLOU DEMOLICIÓ PAVIMENT, EXCAVACIÓ I POSTERIOR REPOSICIÓ. TOTALMENT EXECUTAT. | E50: =ROUND(G50/1.19,3) -> 126.05 | F50: =ROUND(E50*$F$3,2) -> 23.95 | G50: 150
B51: O-005 | C51: UT | D51: SUBMINISTRAMENT MARC DE FERRO FOS DE 60 x 60 cm PER INSTAL·LACIÓ EN VORERA, AMB INSCRIPCIÓ. | E51: =ROUND(G51/1.19,3) -> 33.613 | F51: =ROUND(E51*$F$3,2) -> 6.39 | G51: 40
B52: O-006 | C52: UT | D52: SUBMINISTRAMENT TAPA DE FERRO FOS DE 60 x 60 cm PER INSTAL·LACIÓ EN VORERA, AMB INSCRIPCIÓ. | E52: =ROUND(G52/1.19,3) -> 67.227 | F52: =ROUND(E52*$F$3,2) -> 12.77 | G52: 80
B53: O-007 | C53: UT | D53: REPARACIÓ D'ESTRUCTURA INTERIOR DE PERICÓ EXISTENT DE 60 x 60 cm, AMB ADEQUACIÓ DE PARETS I LLISCAT. TOTALMENT EXECUTAT. | E53: =ROUND(G53/1.19,3) -> 68.908 | F53: =ROUND(E53*$F$3,2) -> 13.09 | G53: 82
B54: O-008 | C54: UT | D54: INTERCEPTAR CANALITZACIÓ EXISTENT / EMBOCADURA PERICÓ EXISTENT. | E54: =ROUND(G54/1.19,3) -> 155.462 | F54: =ROUND(E54*$F$3,2) -> 29.54 | G54: 185
B55: O-009 | C55: ML | D55: COMPROVACIÓ I MANDRINATGE DE CANALITZACIÓ EXISTENT DEIXANT PASSAT FIL GUIA. | E55: =ROUND(G55/1.19,3) -> 1.261 | F55: =ROUND(E55*$F$3,2) -> 0.24 | G55: =1.8-0.3 -> 1.5
B56: O-010 | C56: ML | D56: CANALITZACIÓ EN VORERA INCLOENT SUBMINISTRAMENT I INSTAL·LACIÓ DE 2 TUBS DE PE ø 11 cm. DE DOBLE CAPA, LLIS A L'INTERIOR I CORRUGAT A L'EXTERIOR, INCLÒS EXCAVACIÓ EN RASA DE 40 x 68 cm. DE PROFUNDITAT, BASE I PROTECCIÓ DE FORMIGÓ HM20, EN VORERES DE PANOT INCLÒS LA SEVA REPOSICIÓ. TOTALMENT EXECUTADA D'ACORD AMB LES ORDENANCES MUNICIPALS I INDICACIONS PARTICULARS. | E56: =ROUND(G56/1.19,3) -> 71.429 | F56: =ROUND(E56*$F$3,2) -> 13.57 | G56: 85
B57: O-011 | C57: ML | D57: CANALITZACIÓ EN CALÇADA INCLÒS SUBMINISTRAMENT I INSTAL·LACIÓ DE 2 TUBS DE PE ø 11 cm. DE DOBLE CAPA, LLIS A L'INTERIOR I CORRUGAT A L'EXTERIOR, INCLÒS EXCAVACIÓ EN RASA DE 68 x 80 cm. DE PROFUNDITAT, BASE I PROTECCIÓ DE FORMIGÓ HM20, EN CALÇADES. INCLOSA REPOSICIÓ PAVIMENT AGLOMERAT ASFÀLTIC SEGONS ELS PLÀNOLS DEL PROJECTE. TOTALMENT EXECUTADA D'ACORD AMB LES ORDENANCES MUNICIPALS I PLEC DE CONDICIONS. | E57: =ROUND(G57/1.19,3) -> 149.58 | F57: =ROUND(E57*$F$3,2) -> 28.42 | G57: 178
B58: O-012 | C58: ML | D58: CANALITZACIÓ EN CALÇADA INCLÒS SUBMINISTRAMENT I INSTAL·LACIÓ DE 4 TUBS DE PE ø 11 cm. DE DOBLE CAPA, LLIS A L'INTERIOR I CORRUGAT A L'EXTERIOR, INCLÒS EXCAVACIÓ EN RASA DE 68 x 80 cm. DE PROFUNDITAT, BASE I PROTECCIÓ DE FORMIGÓ HM20, EN CALÇADES. INCLOSA REPOSICIÓ PAVIMENT AGLOMERAT ASFÀLTIC, SEGONS PLÀNOLS DEL PROJECTE. TOTALMENT EXECUTADA D'ACORD AMB LES ORDENANCES MUNICIPALS I PLEC DE CONDICIONS. | E58: =ROUND(G58/1.19,3) -> 155.462 | F58: =ROUND(E58*$F$3,2) -> 29.54 | G58: 185
B59: O-013 | C59: UT | D59: CANALITZACIÓ EN ZONA DE TERRA O PARTERRES VEGETALS, INCLOENT SUBMINISTRAMENT I INSTAL·LACIÓ DE 2 TUBS DE PE ø 125 mm DE DOBLE CAPA, LLIS A L'INTERIOR I CORRUGAT A L'EXTERIOR, INCLÒS EXCAVACIÓ EN RASA DE 40 x 68 cm. DE PROFUNDITAT, BASE I PROTECCIÓ DE FORMIGÓ HM20, EN ZONES DE TERRES, PARTERRES O SIMILARS, INCLÚS REPOSICIÓ DE GRAMA O SIMILAR, TOTALMENT EXECUTADA D'ACORD AMB LES ORDENANCES MUNICIPALS. | E59: =ROUND(G59/1.19,3) -> 50.42 | F59: =ROUND(E59*$F$3,2) -> 9.58 | G59: 60
B60: O-014 | C60: ML | D60: CANALITZACIÓ EN VORERA INCLOENT SUBMINISTRAMENT I INSTAL·LACIÓ DE 2 TUBS DE PE ø 125 mm. DE DOBLE CAPA, LLIS A L'INTERIOR I CORRUGAT A L'EXTERIOR, INCLÒS EXCAVACIÓ EN RASA DE 40 x 68 cm. DE PROFUNDITAT, BASE I PROTECCIÓ DE FORMIGÓ HM20, EN VORERES DE PANOT INCLÒS LA SEVA REPOSICIÓ, SEGONS ELS PLÀNOLS DEL PROJECTE. TOTALMENT EXECUTADA D'ACORD AMB LES ORDENANCES MUNICIPALS I PLEC DE CONDICIONS. | E60: =ROUND(G60/1.19,3) -> 73.109 | F60: =ROUND(E60*$F$3,2) -> 13.89 | G60: 87
B61: O-015 | C61: ML | D61: CANALITZACIÓ EN CALÇADA INCLÒS SUBMINISTRAMENT I INSTAL·LACIÓ DE 4 TUBS DE PE ø 125 mm. DE DOBLE CAPA, LLIS A L'INTERIOR I CORRUGAT A L'EXTERIOR, INCLÒS EXCAVACIÓ EN RASA DE 68 x 80 cm. DE PROFUNDITAT, BASE I PROTECCIÓ DE FORMIGÓ HM20, EN CALÇADES, SEGONS PLÀNOLS DEL PROJECTE. INCLOSA REPOSICIÓ PAVIMENT AGLOMERAT ASFÀLTIC. TOTALMENT EXECUTADA D'ACORD AMB LES ORDENANCES MUNICIPALS I I PLEC DE CONDICIONS. | E61: =ROUND(G61/1.19,3) -> 157.143 | F61: =ROUND(E61*$F$3,2) -> 29.86 | G61: 187
B62: O-016 | C62: ML | D62: SUPLEMENT PER REALITZACIÓ DE CANALITZACIÓ EN CALÇADA EN FESTIU. | E62: =ROUND(G62/1.19,3) -> 54.622 | F62: =ROUND(E62*$F$3,2) -> 10.38 | G62: 65
B63: O-017 | C63: ML | D63: SUPLEMENT REPOSICIÓ VORERES AMB PAVIMENTS ESPECIALS DE GRANIT, LLAMBORDES O ALTRES | E63: =ROUND(G63/1.19,3) -> 50.42 | F63: =ROUND(E63*$F$3,2) -> 9.58 | G63: 60
B64: O-018 | C64: UT | D64: REPARACIÓ TUBULAR EN VORERA, MITJANÇANT EXCAVACIÓ, SUBMINISTRAMENT I COL·LOCACIÓ TUB DE PE DE DOBLE CAPA, LLIS A L'INTERIOR I CORRUGAT A L'EXTERIOR DEL MATEIX DIÀMETRE QUE L'EXISTENT, MANIGOT D'ACOBLAMENT, PAS DEL CABLE, COL·LOCACIÓ DE MITJA CANYA, LLIGAT AMB FILFERROS I FORMIGONAT DEL CONJUNT I REPOSICIÓ DE PAVIMENT DE PANOT DE LES MATEIXES CARACTERÍSTIQUES A L'EXISTENT, PER A LLARGADES FINS A 2m. TOTALMENT EXECUTADA. | E64: =ROUND(G64/1.19,3) -> 130.252 | F64: =ROUND(E64*$F$3,2) -> 24.75 | G64: =2*60+35 -> 155
B65: O-019 | C65: UT | D65: REPARACIÓ TUBULAR EN CALÇADA, MITJANÇANT EXCAVACIÓ, SUBMINISTRAMENT I COL·LOCACIÓ TUB DE PE DE DOBLE CAPA, LLIS A L'INTERIOR I CORRUGAT A L'EXTERIOR DEL MATEIX DIÀMETRE QUE L'EXISTENT, MANIGOT D'ACOBLAMENT, PAS DEL CABLE, COL·LOCACIÓ DE MITJA CANYA, LLIGAT AMB FILFERROS I FORMIGONAT DEL CONJUNT I REPOSICIÓ DE PAVIMENT AGLOMERAT ASFÀLTIC DE LES MATEIXES CARACTERÍSTIQUES A L'EXISTENT, PER A LLARGADES FINS A 2m. TOTALMENT EXECUTADA. | E65: =ROUND(G65/1.19,3) -> 361.345 | F65: =ROUND(E65*$F$3,2) -> 68.66 | G65: =185*2+60 -> 430
B66: O-020 | C66: M2 | D66: REPOSICIÓ DE PAVIMENT TIPUS AGLOMERAT ASFÀLTIC EN CALENT. INCLOU DEMOLICIÓ DE PAVIMENT DE FORMIGÓ, FINS A 30 cm DE GRUIX I POSTERIOR REPOSICIÓ DE PAVIMENT DE MESCLA BITUMINOSA EN CALENT DE 18 cm, AMB CAPA DE RODADURA DE TRÀNSIT DE 3 cm DE MESCLA BITUMINOSA. D'ACORD A LES CONDICIONS INDICADES PELS SERVEIS TÈCNICS MUNICIPALS. | E66: =ROUND(G66/1.19,3) -> 386.555 | F66: =ROUND(E66*$F$3,2) -> 73.45 | G66: 460
B67: O-021 | C67: UT | D67: SUBMINISTRAMENT PLACA DE PRESA DE TERRA DE 500 x 500 x 3 mm I ACCESSORIS CONNEXIÓ. | E67: =ROUND(G67/1.19,3) -> 29.412 | F67: =ROUND(E67*$F$3,2) -> 5.59 | G67: 35
B68: O-022 | C68: UT | D68: INSTAL·LACIÓ PLACA DE PRESA DE TERRA DE 500 x 500 x 3 mm I ACCESSORIS CONNEXIÓ, EN PERICÓ DE REGISTRE. INCLOSA OBRA CIVIL NECESSÀRIA. | E68: =ROUND(G68/1.19,3) -> 42.017 | F68: =ROUND(E68*$F$3,2) -> 7.98 | G68: 50
B69: O-023 | C69: UT | D69: OBTURACIÓ DE TUBULAR AMB CABLES EXISTENTS. | E69: =ROUND(G69/1.19,3) -> 2.521 | F69: =ROUND(E69*$F$3,2) -> 0.48 | G69: 3
B70: O-024 | C70: UT | D70: RETIRADA, TRASLLAT I INSTAL·LACIÓ DE PAPERERA, INCLOSOS MITJANS I MATERIALS NECESSARIS. | E70: =ROUND(G70/1.19,3) -> 75.63 | F70: =ROUND(E70*$F$3,2) -> 14.37 | G70: =1*2*35+5+15 -> 90
B72: INSTAL·LACIÓ ELÈCTRICA
B73: I-001 | C73: UT | D73: SUBMINISTRAMENT D'EQUIPAMENTS ESPECÍFICS PER LA DISTRIBUCIÓ D'ENERGIA DEL PUNT DE CONTROL, CONSISTENTS EN PROTECCIONS ELÈCTRIQUES CONTRA SOBRETENSIONS TRANSITÒRIES (1 UT) I PERMANENTS (1 UT), DIFERENCIALS (FINS A 2 UT), MAGNETOTÈRMICS (FINS A 3 UT) I PRESA DE CORRENT TIPUS SCHUKO (1 UT). | E73: =ROUND(G73/1.19,3) -> 268.908 | F73: =ROUND(E73*$F$3,2) -> 51.09 | G73: =298+22 -> 320
B74: I-002 | C74: UT | D74: INSTAL·LACIÓ D'EQUIPAMENTS ESPECÍFICS PER LA DISTRIBUCIÓ D'ENERGIA DEL PUNT DE CONTROL. | E74: =ROUND(G74/1.19,3) -> 68.067 | F74: =ROUND(E74*$F$3,2) -> 12.93 | G74: 81
B75: I-003 | C75: ML | D75: SUBMINISTRAMENT DE CABLE DE CONDUCTOR DE COURE AMB AÏLLAMENT DE PLÀSTIC, DE SECCIÓ 1x6 mm2 PER PRESES DE TERRA. | E75: =ROUND(G75/1.19,3) -> 0.924 | F75: =ROUND(E75*$F$3,2) -> 0.18 | G75: 1.1
B76: I-004 | C76: ML | D76: INSTAL·LACIÓ DE CABLE DE CONDUCTOR DE COURE AMB AÏLLAMENT DE PLÀSTIC, DE SECCIÓ 1x6 mm2 PER PRESES DE TERRA. | E76: =ROUND(G76/1.19,3) -> 0.756 | F76: =ROUND(E76*$F$3,2) -> 0.14 | G76: 0.9
B77: I-005 | C77: ML | D77: SUBMINISTRAMENT DE CABLE DE CONDUCTOR DE COURE EPTAFILAR NU, DE SECCIÓ 1x35 mm2. | E77: =ROUND(G77/1.19,3) -> 3.782 | F77: =ROUND(E77*$F$3,2) -> 0.72 | G77: 4.5
B78: I-006 | C78: ML | D78: INSTAL·LACIÓ DE CABLE DE CONDUCTOR DE COURE EPTAFILAR NU, DE SECCIÓ 1x35 mm2. | E78: =ROUND(G78/1.19,3) -> 0.756 | F78: =ROUND(E78*$F$3,2) -> 0.14 | G78: 0.9
B79: I-007 | C79: ML | D79: SUBMINISTRAMENT DE CABLE DE COURE RV-K 0,6/1KV DE 3X6 MM2. | E79: =ROUND(G79/1.19,3) -> 2.395 | F79: =ROUND(E79*$F$3,2) -> 0.46 | G79: 2.85
B80: I-008 | C80: ML | D80: INSTAL·LACIÓ DE CABLE DE COURE RV-K 0,6/1KV DE 3X6 MM2. | E80: =ROUND(G80/1.19,3) -> 0.756 | F80: =ROUND(E80*$F$3,2) -> 0.14 | G80: 0.9
B81: I-009 | C81: ML | D81: SUBMINISTRAMENT DE CABLE DE COURE RV-K 0,6/1KV DE 3X10 MM2. | E81: =ROUND(G81/1.19,3) -> 3.025 | F81: =ROUND(E81*$F$3,2) -> 0.57 | G81: =4.5-0.9 -> 3.6
B82: I-010 | C82: ML | D82: INSTAL·LACIÓ DE CABLE DE COURE RV-K 0,6/1KV DE 3X10 MM2. | E82: =ROUND(G82/1.19,3) -> 0.756 | F82: =ROUND(E82*$F$3,2) -> 0.14 | G82: 0.9
B83: I-011 | C83: UT | D83: TREBALLS PER A LA REALITZACIÓ DE L'ALIMENTACIÓ DEL PUNT DE CONTROL, D'ACORD AMB EL QUE INDICA EL PLEC. | E83: =ROUND(G83/1.19,3) -> 605.042 | F83: =ROUND(E83*$F$3,2) -> 114.96 | G83: 720
B84: I-012 | C84: UT | D84: ESCOMESA ELÈCTRICA. REALITZACIÓ DE NOVA ESCOMESA EN ENTORN URBÀ. INCLOU: ARMARI PER ESCOMESA COMPANYIA, PREFABRICAT DSPD-CDU/PEANA I PINTAT, AMB CAIXA DE DISTRIBUCIÓ CDU 400, CANALERA DE 630A I FUSIBLE CUCHILLA BT F CU2/400 A ETU-6303B Gg, AMB CAIXA MÒDUL COMPTADOR PNZ-C2727. ARMARI PER SORTIDES A CONSUMS, PER INTEMPÈRIE, EN PLANXA D'ACER GALVANITZAT EN CALENT I PINTAT, DE DIMENSIONS APROX. 1200x600x320 mm I DE 1,2 mm DE GRUIX, AMB PLACA DE MUNTATGE, PANY AMB CLAU I ACCESSORIS NECESSARIS (CANALETES, CARRIL DIN, PREMSAESTOPES, FIXACIONS, ...) I PETIT MATERIAL NECESSARI PER A LA CORRECTE EXECUCIÓ. INCLOU TOTS ELS TREBALLS (COM FORAT ARMARI CDU, ...) EXCEPTE OBRA CIVIL, RECURSOS (TRANSPORTS CAMIÓ GRUA I MA D'OBRA, ...) I FEINES NECESSÀRIES PER A LA CORRECTE EXECUCIÓ. | E84: =ROUND(G84/1.19,3) -> 4159.664 | F84: =ROUND(E84*$F$3,2) -> 790.34 | G84: =(168+40+12.8+392+691.2+810+910+1112)*1.19+28.16 -> 4950
B85: I-013 | C85: UT | D85: TRAMITACIÓ I GESTIÓ DE L'ESCOMESA | E85: =ROUND(G85/1.19,3) -> 1092.437 | F85: =ROUND(E85*$F$3,2) -> 207.56 | G85: 1300
B86: I-014 | C86: UT | D86: PROJECTE DE LEGALITZACIÓ | E86: =ROUND(G86/1.19,3) -> 1037.815 | F86: =ROUND(E86*$F$3,2) -> 197.18 | G86: 1235
B88: COMUNICACIONS
B89: F-001 | C89: ML | D89: SUBMINISTRAMENT I INSTAL·LACIÓ DE CABLE DE 8 FO MONOMODE B1.1, SEGONS EN 186000. ARMAT. AMB PROTECCIÓ D'ARAMIDA, ARMADURA METÀL·LICA I COBERTA EXTERIOR DE POLIETILÈ, SEGONS ESPECIFICACIONS DE L'AJUNTAMENT. | E89: =ROUND(G89/1.19,3) -> 2.185 | F89: =ROUND(E89*$F$3,2) -> 0.42 | G89: 2.6
B90: F-002 | C90: ML | D90: SUBMINISTRAMENT I INSTAL·LACIÓ DE CABLE DE 16 FO MONOMODE B1.1, SEGONS EN 186000. ARMAT. AMB PROTECCIÓ D'ARAMIDA, ARMADURA METÀL·LICA I COBERTA EXTERIOR DE POLIETILÈ, SEGONS ESPECIFICACIONS DE L'AJUNTAMENT. | E90: =ROUND(G90/1.19,3) -> 2.437 | F90: =ROUND(E90*$F$3,2) -> 0.46 | G90: 2.9
B91: F-003 | C91: ML | D91: SUBMINISTRAMENT I INSTAL·LACIÓ DE CABLE DE 24 FO MONOMODE B1.1, SEGONS EN 186000. ARMAT. AMB PROTECCIÓ D'ARAMIDA, ARMADURA METÀL·LICA I COBERTA EXTERIOR DE POLIETILÈ, SEGONS ESPECIFICACIONS DE L'AJUNTAMENT. | E91: =ROUND(G91/1.19,3) -> 2.857 | F91: =ROUND(E91*$F$3,2) -> 0.54 | G91: 3.4
B92: F-004 | C92: ML | D92: SUBMINISTRAMENT I INSTAL·LACIÓ DE CABLE DE 48 FO MONOMODE B1.1, SEGONS EN 186000. ARMAT. AMB PROTECCIÓ D'ARAMIDA, ARMADURA METÀL·LICA I COBERTA EXTERIOR DE POLIETILÈ, SEGONS ESPECIFICACIONS DE L'AJUNTAMENT. | E92: =ROUND(G92/1.19,3) -> 4.958 | F92: =ROUND(E92*$F$3,2) -> 0.94 | G92: 5.9
B93: F-005 | C93: ML | D93: SUBMINISTRAMENT I INSTAL·LACIÓ DE CABLE DE 96 FO MONOMODE B1.1, SEGONS EN 186000. ARMAT. AMB PROTECCIÓ D'ARAMIDA, ARMADURA METÀL·LICA I COBERTA EXTERIOR DE POLIETILÈ, SEGONS ESPECIFICACIONS DE L'AJUNTAMENT. | E93: =ROUND(G93/1.19,3) -> 7.059 | F93: =ROUND(E93*$F$3,2) -> 1.34 | G93: =6.3+2.1 -> 8.4
B94: F-006 | C94: UT | D94: FUSIÓ EN RECTE DE 1 FO MONOMODE. INCLOU PIG·TAIL, CONNECTORS I ADAPTADORS, AIXÍ COM LES MESURES DE RETROESPARCIMENT I POTÈNCIA. SEGONS ESPECIFICACIONS AJUTAMENT. | E94: =ROUND(G94/1.19,3) -> 54.622 | F94: =ROUND(E94*$F$3,2) -> 10.38 | G94: 65
B95: F-007 | C95: UT | D95: MESURES DE FIBRA ÒPTICA. FINS A 4 FUSIONS | E95: =ROUND(G95/1.19,3) -> 163.866 | F95: =ROUND(E95*$F$3,2) -> 31.13 | G95: 195
B96: F-008 | C96: UT | D96: SUBMINISTRAMENT I INSTAL·LACIÓ DE CAIXA REPARTIDORA ÒPTICA DE 6 CONNECTORS, INCLOSOS PIG-TAILS | E96: =ROUND(G96/1.19,3) -> 294.118 | F96: =ROUND(E96*$F$3,2) -> 55.88 | G96: 350
B97: F-009 | C97: UT | D97: SUBMINISTRAMENT I INSTAL·LACIÓ DE PIGTAIL DE FO MONOMODE FINS A 2 m, INCLÚS FUSIÓ I CONNECTOR. SEGONS ESPECIFICACIONS AJUNTMENT. | E97: =ROUND(G97/1.19,3) -> 12.605 | F97: =ROUND(E97*$F$3,2) -> 2.39 | G97: 15
B98: F-010 | C98: UT | D98: SUBMINISTRAMENT I INSTAL·LACIÓ DE FUETÓ DE FO MONOMODE FINS A 2 m, INCLÚS CONNECTORS. SEGONS ESPECIFICACIONS AJUNTAMENT. | E98: =ROUND(G98/1.19,3) -> 21.849 | F98: =ROUND(E98*$F$3,2) -> 4.15 | G98: 26
B99: F-011 | C99: ML | D99: SUBMINISTRAMENT I INSTAL·LACIÓ DE CABLATGE ESTRUCTURAT STP CAT 6A PER EXTERIORS, INCLÚS CONNECTORS I CERTIFICACIÓ DEL PUNTS. | E99: =ROUND(G99/1.19,3) -> 1.933 | F99: =ROUND(E99*$F$3,2) -> 0.37 | G99: 2.3
B100: F-012 | C100: UT | D100: SUBMINISTRAMENT I INSTAL·LACIÓ DE CAIXA D'EMPIULAMENT FO FINS A 288 FUSIONS | E100: =ROUND(G100/1.19,3) -> 315.126 | F100: =ROUND(E100*$F$3,2) -> 59.87 | G100: 375
B101: F-013 | C101: UT | D101: SUBMINISTRAMENT I INSTAL·LACIÓ DE TRANSCEPTOR SFP MONOMODE, CISCO GLC-LH-SMD, INCLOSA LLICÈNCIA, O 100% EQUIVALENT I COMPATIBLE AMB LA XARXA DE L'AJUNTAMENT | E101: =ROUND(G101/1.19,3) -> 273.109 | F101: =ROUND(E101*$F$3,2) -> 51.89 | G101: 325
B102: F-014 | C102: UT | D102: SUBMINISTRAMENT I INSTAL·LACIÓ DE FIREWALL AMB FUNCIÓ DE ROUTER 4G, AMB IP PÚBLICA FIXA 4G, MODEL FORTIGATE FGR-60F-3G4G, INCLOSA LLICÈNCIA I GARANTIA, O 100% EQUIVALENT I TOTALMENT COMPATIBLE AMB LA XARXA DE L'AJUNTAMENT | E102: =ROUND(G102/1.19,3) -> 4369.748 | F102: =ROUND(E102*$F$3,2) -> 830.25 | G102: 5200
B104: SENYALITZACIÓ
B105: S-001 | C105: UT | D105: SUBMINISTRAMENT DE SENYAL DE "CONTROL FOTOGRÀFIC". SENYAL D´ACER GALVANITZAT REFLECTANT DE NIVELL 2 DE 1,8 MM DE GRUIX, DE DIÀMETRE 60 CM SEGONS NORMES. INCLÒS ELEMENTS DE SUSTENTACIÓ I FIXACIÓ. | E105: =ROUND(G105/1.19,3) -> 63.025 | F105: =ROUND(E105*$F$3,2) -> 11.97 | G105: 75
B106: S-002 | C106: UT | D106: SUBMINISTRAMENT DE SENYAL INFORMATIU DE ZONA VIDEOVIGILADA. SENYAL D´ACER GALVANITZAT REFLECTANT DE NIVELL 2 DE 1,8 MM DE GRUIX, DE DIMENSIONS 90x60 CM SEGONS NORMES. INCLÒS ELEMENTS DE SUSTENTACIÓ I FIXACIÓ. | E106: =ROUND(G106/1.19,3) -> 100.84 | F106: =ROUND(E106*$F$3,2) -> 19.16 | G106: 120
...

Sheet RESUM PPOST GRAL
B2: RESUM PRESSUPOST GENERAL
B4: CONCEPTE / DENOMINACIÓ | D4: PREU | E4: BI+DG | F4: PREU UNITARI PEC | G4: IMPORT TOTAL
B6: TOTAL PRESSUPOST EXECUCIÓ INSTAL·LACIONS PUNTS DE CONTROL | G6: =SUM(D8:D27) -> 577373
B7: Punt de Control ZBE - Adreça | C7: Conjunt LPR
B8: ZBE - 01 - C/ de L’Horta Novella – Ctra. De Barcelona | C8: 1 | D8: ='ZBE-01'!I114 -> 27332.5
B9: ZBE - 02 - C/ Joan Plans – Rda. Ponent | C9: 1 | D9: ='ZBE-02'!I114 -> 25247.5
B10: ZBE - 03 - C/ Pare Sallares – Rda. Ponent | C10: 1 | D10: ='ZBE-03'!I114 -> 20636
B11: ZBE - 04 - C/ Garcilaso – Rda. Ponent | C11: 1 | D11: ='ZBE-04'!I114 -> 20976
B12: ZBE - 05 - C/ Unió – Rda. Zamenhof | C12: 1 | D12: ='ZBE-05'!I115 -> 23658.5
B13: ZBE - 06 - Plaça Granados – Rda. Zamenhof | C13: 1 | D13: ='ZBE-06'!I115 -> 24494.25
B14: ZBE - 07 - Via Massagué – Rda. Zamenhof | C14: 2 | D14: ='ZBE-07'!I115 -> 31536
B15: ZBE - 08 - Via Massagué – C/ de les Valls | C15: 2 | D15: ='ZBE-08'!I115 -> 33768
B16: ZBE - 09 - C/ Corominas – Plaça del Mercat | C16: 2 | D16: ='ZBE-09'!I115 -> 31947.75
B17: ZBE - 10 - C/ de la Salut – C/ de Brujas | C17: 1 | D17: ='ZBE-10'!$I$115 -> 34361
B18: ZBE - 11 - C/ de l’Illa – C/ de l’Estació – C/ d’Arimon | C18: 1 | D18: ='ZBE-11'!$I$118 -> 29940.5
B19: ZBE - 12 - C/ de l’Estació – C/ Tres Creus | C19: 2 | D19: ='ZBE-12'!$I$115 -> 34997
B20: ZBE - 13 - C/ de Riego – C/ Marqués de Comillas | C20: 1 | D20: ='ZBE-13'!$I$115 -> 22716
B21: ZBE - 14 - C/ Turull – C/ Marqués de Comillas | C21: 1 | D21: ='ZBE-14'!$I$115 -> 32739.5
B22: ZBE - 15 - C/ Sant Oleguer – C/ Marqués de Comillas | C22: 1 | D22: ='ZBE-15'!$I$115 -> 35252
B23: ZBE - 16 - Rambla – C/ Marqués de Comillas – C/ Latorre | C23: 2 | D23: ='ZBE-16'!$I$115 -> 33358.5
B24: ZBE - 17 - C/ Sant Pau – C/ Latorre | C24: 1 | D24: ='ZBE-17'!$I$118 -> 36169.5
B25: ZBE - 18 - C/ Duran i Sors – Ctra. Barcelona | C25: 1 | D25: ='ZBE-18'!$I$115 -> 22352
B26: ZBE - 19 - C/ Montserrat – Ctra. Barcelona | C26: 1 | D26: ='ZBE-19'!$I$115 -> 23147
B27: ZBE - 20 - Rambla – C/ Montserrat | C27: 2 | D27: ='ZBE-20'!$I$115 -> 32743.5
C28: 26
B29: TOTAL PRESSUPOST EXECUCIÓ CENTRE DE CONTROL | G29: =SUM(D30:D32) -> 77055
B30: EQUIPAMENT CENTRE DE CONTROL | D30: ='Ppost C_Control'!I39 -> 34695
B31: PLATAFORMA GESTIÓ I CONTROL | D31: ='Ppost C_Control'!I40 -> 42360
B33: TOTAL PRESSUPOST EXECUCIÓ ALTRES I VARIS | G33: =SUM(D34:D36) -> 10440
B34: CONFIGURACIÓ, PROVES, POSADA EN OPERACIÓ, FORMACIÓ I DOCUMENTACIÓ | D34: ='Ppost Altres i Varis GRAL'!I24 -> 2340
B35: AJUTS D'INSTAL·LACIÓ | D35: ='Ppost Altres i Varis GRAL'!I25 -> 8100
B37: TOTAL PRESSUPOST SEGURETAT I SALUT EXECUCIÓ GENERAL | G37: =SUM(D38:D39) -> 15545.02
B38: TOTAL PRESSUPOST SEGURETAT I SALUT EXECUCIÓ GENERAL | D38: ='Preus Unitaris'!G151 -> 15545.02
B40: TOTAL PRESSUPOST EXECUCIÓ | G40: =SUM(G6:G39) -> 680413.02
B41: IVA | C41: 0.21 | G41: =ROUND(G40*C41,2) -> 142886.73
B42: TOTAL PRESSUPOST CONTRACTE | G42: =SUM(G40:G41) -> 823299.75
B44: El desglossament del Pressupost és:
B45: TOTAL PRESSUPOST EXECUCIÓ MATERIAL | G45: =ROUND(G48/1.19,2) -> 571775.65
B46: DESPESES GENERALS | C46: 0.13 | G46: =ROUND(G45*C46,2) -> 74330.83
B47: BENEFICI INDUSTRIAL | C47: 0.06 | G47: =ROUND(G45*C47,2) -> 34306.54
B48: TOTAL PRESSUPOST EXECUCIÓ CONTRACTE | G48: =G40 -> 680413.02
B49: IVA | C49: 0.21 | G49: =ROUND(G48*C49,2) -> 142886.73
B50: TOTAL PRESSUPOST EXECUCIÓ CONTRACTE IVA INCLÒS | G50: =SUM(G48:G49) -> 823299.75
A52: NOTA: | B52: Els preus duen incorporades les parts proporcionals Despeses Generals, Benefici Industrial
B53: i qualsevol altre que sigui necessari per a la correcte execució del contracte.

Sheet Ppost C_Control
B2: CENTRE DE CONTROL
B4: CODI | C4: UNUITAT MESURA | D4: CONCEPTE / DENOMINACIÓ | E4: AMIDAMENT | F4: PREU UNITARI PEM | G4: BI+DG | H4: PREU UNITARI PEC | I4: PREU TOTAL
B6: EQUIPAMENT CENTRE DE CONTROL
B7: ='Preus Unitaris'!B113 -> CC-001 | C7: UT | D7: =VLOOKUP(B7,'Preus Unitaris'!$B$2:$G$1037,3,FALSE) -> ARMARI RACK. SUBMINISTRAMENT, PREPARACIÓ, MANIPULACIÓ I INSTAL·LACIÓ D'ARMARI DE COMUNICACIONS TIPUS RACK DE 19" DE DIMENSIONS 800 MM AMPLE X 900 MM FONS X 42U D'ALTURA (APROX. 2M ALTURA). SERÀ METÀL·LIC, AMB PORTA DAVANTERA DE VIDRE, PORTA POSTERIOR ENREIXADA, PANELLS LATERALS, SUPERIOR DE REIXETA I INFERIOR DESMUNTABLES AMB SISTEMES DE TANCAMENT, AMB TOTES LES PORTES AMB PANY AMB CLAU. INCLOU REPLANTEIG PREVI, MUNTATGE SEGONS PRESCRIPCIONS FABRICANT, FIXACIÓ AL LLOC INDICAT, ETIQUETAT I PETIT MATERIAL. TAMBÉ INCLOU 2 REGLETES DE 6 ENDOLLS TIPUS SCHUKO I PASSA FILS VERTICALS I HORITZONTALS I PATCH PANNEL DE CONNECTORS RJ45 | E7: 0 | F7: 1134.454 | G7: 215.55 | H7: =VLOOKUP(B7,'Preus Unitaris'!$B$2:$G$1037,6,FALSE) -> 1350 | I7: =ROUND(E7*H7,2) -> 0
B8: ='Preus Unitaris'!B114 -> CC-002 | C8: UT | D8: =VLOOKUP(B8,'Preus Unitaris'!$B$2:$G$1037,3,FALSE) -> SUBMINISTRAMENT DE SERVIDOR SISTEMA CONTROL TRÀFIC. SERVIDOR HP DL360 GEN10 PER INSTAL·LAR EN RACK 19", 2U, AMB: - PROCESSADOR 2 x INTEL® XEON® E5-2650 v4 (12 CORE, 2.2 GHZ, 30MB, 105W) - MEMÒRIA 64GB (4x16GB) RDIMM DDR4 SMARTMEMORY - SLOTS D'EXPANSIÓ 2 x PCIE - CONTROLADOR D'EMMAGATZEMATGE DYNAMIC SMART ARRAY B140I AND SMART ARRAY P440AR - DISC DUR: 5 x HPE 1TB 12G SSD 7.2K RPM SFF (2.5IN) - XARXA: 4 PORTS GB RJ45 + 1 PORT HB FO - DOBLE FONT ALIMENTACIÓ REDUNDANT 800W - SISTEMA OPERATIU INCLÒS MS WINDOWS SERVER 12 R2 I LLICÈNCIES VMWARE O 100% EQUIVALENT, PER MUNTATGE EN CLÚSTER, I TOTS ELS COMPONENTS (CABLES ESTACK, GUIES MUNTATGE, ...), ADAPTADORS I PETIT MATERIAL NECESSARI PER LA CORRECTE INSTAL·LACIÓ I FUNCIONAMENT. | E8: 2 | F8: 7058.824 | G8: 1341.18 | H8: =VLOOKUP(B8,'Preus Unitaris'!$B$2:$G$1037,6,FALSE) -> 12750 | I8: =ROUND(E8*H8,2) -> 25500
B9: ='Preus Unitaris'!B115 -> CC-003 | C9: UT | D9: =VLOOKUP(B9,'Preus Unitaris'!$B$2:$G$1037,3,FALSE) -> INSTAL·LACIÓ DE SERVIDOR DE CENTRE DE CONTROL, COMPATIBLE AMB EL SISTEMA ACTUAL. | E9: 2 | F9: 1890.756 | G9: 359.24 | H9: =VLOOKUP(B9,'Preus Unitaris'!$B$2:$G$1037,6,FALSE) -> 105 | I9: =ROUND(E9*H9,2) -> 210
B10: ='Preus Unitaris'!B116 -> CC-004 | C10: UT | D10: =VLOOKUP(B10,'Preus Unitaris'!$B$2:$G$1037,3,FALSE) -> SUBMINISTRAMENT DE MONITOR SERVIDORS KVM 19" HPE LCD8500 1U US RACKMOUNT CONSOLE KIT, O 100% EQUIVALENT, I TOTS ELS COMPONENTS, FONTS D'ALIMENTACIÓ, ADAPTADORS I PETIT MATERIAL NECESSARI PER LA CORRECTE INSTAL·LACIÓ I FUNCIONAMENT. | E10: 0 | F10: 75.63 | G10: 14.37 | H10: =VLOOKUP(B10,'Preus Unitaris'!$B$2:$G$1037,6,FALSE) -> 2250 | I10: =ROUND(E10*H10,2) -> 0
B11: ='Preus Unitaris'!B117 -> CC-005 | C11: UT | D11: =VLOOKUP(B11,'Preus Unitaris'!$B$2:$G$1037,3,FALSE) -> INSTAL·LACIÓ DE MONITOR SERVIDORS KVM. | E11: 0 | H11: =VLOOKUP(B11,'Preus Unitaris'!$B$2:$G$1037,6,FALSE) -> 90 | I11: =ROUND(E11*H11,2) -> 0
B12: ='Preus Unitaris'!B118 -> CC-006 | C12: UT | D12: =VLOOKUP(B12,'Preus Unitaris'!$B$2:$G$1037,3,FALSE) -> SUBMINISTRAMENT D'UNITAT DE BACKUPS D'ALTA DISPONIBILITAT SYNOLOGY RACKSTATION RS2421+, O EQUIVALENT, AMB DISC DURS 6 UNITATS D'3TB HD 3,5" A 7,5 RPM, INCLOSA GARANTIA AMPLIADA A 2 ANYS, I TOTS ELS COMPONENTS, FONTS D'ALIMENTACIÓ, ADAPTADORS I PETIT MATERIAL NECESSARI PER LA CORRECTE INSTAL·LACIÓ I FUNCIONAMENT | E12: 1 | F12: 84.034 | G12: 15.97 | H12: =VLOOKUP(B12,'Preus Unitaris'!$B$2:$G$1037,6,FALSE) -> 5750 | I12: =ROUND(E12*H12,2) -> 5750
B13: ='Preus Unitaris'!B119 -> CC-007 | C13: UT | D13: =VLOOKUP(B13,'Preus Unitaris'!$B$2:$G$1037,3,FALSE) -> INSTAL·LACIÓ D'UNITAT DE BACKUPS D'ALTA DISPONIBILITAT | E13: 1 | F13: 3336.134 | G13: 633.87 | H13: =VLOOKUP(B13,'Preus Unitaris'!$B$2:$G$1037,6,FALSE) -> 100 | I13: =ROUND(E13*H13,2) -> 100
B14: ='Preus Unitaris'!B120 -> CC-008 | C14: UT | D14: =VLOOKUP(B14,'Preus Unitaris'!$B$2:$G$1037,3,FALSE) -> SUBMINISTRAMENT FIREWALL FORTIGATE 100D FG-100D-BDL, O 100% EQUIVALENT, I TOTS ELS COMPONENTS, FONTS D'ALIMENTACIÓ, ADAPTADORS I PETIT MATERIAL NECESSARI PER LA CORRECTE INSTAL·LACIÓ I FUNCIONAMENT. | E14: 0 | F14: 71.429 | G14: 13.57 | H14: =VLOOKUP(B14,'Preus Unitaris'!$B$2:$G$1037,6,FALSE) -> 3970 | I14: =ROUND(E14*H14,2) -> 0
B15: ='Preus Unitaris'!B121 -> CC-009 | C15: UT | D15: =VLOOKUP(B15,'Preus Unitaris'!$B$2:$G$1037,3,FALSE) -> INSTAL·LACIÓ DE FIREWALL. | E15: 0 | F15: 1554.622 | G15: 295.38 | H15: =VLOOKUP(B15,'Preus Unitaris'!$B$2:$G$1037,6,FALSE) -> 85 | I15: =ROUND(E15*H15,2) -> 0
B16: ='Preus Unitaris'!B122 -> CC-010 | C16: UT | D16: =VLOOKUP(B16,'Preus Unitaris'!$B$2:$G$1037,3,FALSE) -> SUBMINISTRAMENT DE SWITCH DE NIVELL 3 GESTIONABLE DE COMUNICACIÓ DE CENTRE DE CONTROL, 2 PORTS ÒTICS I 24 PORTS ETHERNET, D'ALTES PRESTACIONS I COMPATIBLE AMB EL SISTEMA ACTUAL. | E16: 0 | F16: 100.84 | G16: 19.16 | H16: =VLOOKUP(B16,'Preus Unitaris'!$B$2:$G$1037,6,FALSE) -> 3500 | I16: =ROUND(E16*H16,2) -> 0
B17: ='Preus Unitaris'!B123 -> CC-011 | C17: UT | D17: =VLOOKUP(B17,'Preus Unitaris'!$B$2:$G$1037,3,FALSE) -> INSTAL·LACIÓ I CONFIGURACIÓ DE SWITCH DE COMUNICACIÓ PER SISTEMA DE VISIÓ ARTIFICIAL, DE NIVELL 3 GESTIONABLE, COMPATIBLE AMB EL SISTEMA DE COMUNICACIONS DE L'AJUNTAMENT. | E17: 0 | F17: 609.244 | G17: 115.76 | H17: =VLOOKUP(B17,'Preus Unitaris'!$B$2:$G$1037,6,FALSE) -> 120 | I17: =ROUND(E17*H17,2) -> 0
B18: ='Preus Unitaris'!B101 -> F-013 | C18: UT | D18: =VLOOKUP(B18,'Preus Unitaris'!$B$2:$G$1037,3,FALSE) -> SUBMINISTRAMENT I INSTAL·LACIÓ DE TRANSCEPTOR SFP MONOMODE, CISCO GLC-LH-SMD, INCLOSA LLICÈNCIA, O 100% EQUIVALENT I COMPATIBLE AMB LA XARXA DE L'AJUNTAMENT | E18: 2 | F18: 609.244 | G18: 115.76 | H18: =VLOOKUP(B18,'Preus Unitaris'!$B$2:$G$1037,6,FALSE) -> 325 | I18: =ROUND(E18*H18,2) -> 650
B19: ='Preus Unitaris'!B124 -> CC-012 | C19: UT | D19: =VLOOKUP(B19,'Preus Unitaris'!$B$2:$G$1037,3,FALSE) -> SUBMINISTRAMENT I INSTAL·LACIÓ D'UN PORT GBIC ó SFP BIFIBRA. MÒDUL ÒPTIC GB 1000BASE LX/LH SFP TRANSCEIVER MODULE, INCLÚS LLICENCIA. LONG RANGE FINS 10 KM. MARCA EXTREME NETWORKS O TOTALMENT COMPATIBLE AMB EL SISTEMA DE COMUNICACIONS DE L'AJUNTAMENT. | E19: 0 | H19: =VLOOKUP(B19,'Preus Unitaris'!$B$2:$G$1037,6,FALSE) -> 650 | I19: =ROUND(E19*H19,2) -> 0
B20: ='Preus Unitaris'!B125 -> CC-013 | C20: UT | D20: =VLOOKUP(B20,'Preus Unitaris'!$B$2:$G$1037,3,FALSE) -> SUBMINISTRAMENT l INSTAL·LACIÓ DE CANVIADOR DE MEDI TIPUS SFP (FIBRA ÒPTICA MONOMODE). CONVERTIDOR DE MEDI NECESSARI PER TRANSFORMAR LA SENYAL ÒPTICA A ELÈCTRICA FO/ ETHERNET/ 422/ 485/ 422, MODEL RAISECOM L2 DIN·RAIL S1503i-AC O EQUIVALENT, INCLÒS EL SFP BIFIBRA LC/PC, AMB 1 PORT 100/1000M BASE-X SFP + 2 PORTS 10/100/1000M BX. | E20: 0 | H20: =VLOOKUP(B20,'Preus Unitaris'!$B$2:$G$1037,6,FALSE) -> 465 | I20: =ROUND(E20*H20,2) -> 0
B21: ='Preus Unitaris'!B126 -> CC-014 | C21: UT | D21: =VLOOKUP(B21,'Preus Unitaris'!$B$2:$G$1037,3,FALSE) -> LEGALITZACIÓ DE LES CÀMERES DE VÍDEO I SISTEMES DE GRAVACIÓ | E21: 1 | H21: =VLOOKUP(B21,'Preus Unitaris'!$B$2:$G$1037,6,FALSE) -> 1285 | I21: =ROUND(E21*H21,2) -> 1285
B22: ='Preus Unitaris'!B127 -> CC-015 | C22: UT | D22: =VLOOKUP(B22,'Preus Unitaris'!$B$2:$G$1037,3,FALSE) -> CABLEJATS DE COMUNICACIONS DE TOTS ELS EQUIPAMENTS DEL SISTEMA, INCLÚS INTERCONNEXIÓ AMB EQUIPS COMUNICACIONS I AMB ESTACIONS DE TREBALL (TIPUS FUETONS DE MONOMODE FO I UTP RJ45 CAT6A, INCLÚS CONNECTORS I ENFRONTADORS DE FO I RJ45, I SIMILARS) I D'ALIMENTACIÓ ELÈCTRICA, INCLÚS FONTS ALIMENTACIÓ I QUALSEVOL ALTRE MATERIAL NECESSARI PER A LA CORRECTA INSTAL·LACIÓ I CONNEXIÓ DE TOTS ELS EQUIPAMENTS. | E22: 1 | F22: 1579.832 | G22: 300.17 | H22: =VLOOKUP(B22,'Preus Unitaris'!$B$2:$G$1037,6,FALSE) -> 450 | I22: =ROUND(E22*H22,2) -> 450
B23: ='Preus Unitaris'!B128 -> CC-016 | C23: UT | D23: =VLOOKUP(B23,'Preus Unitaris'!$B$2:$G$1037,3,FALSE) -> CONFIGURACIÓ DELS EQUIPAMENTS DEL SISTEMA (SERVIDORS, SISTEMA BACKUPS, FIREWALL, …), PROVES I POSADA EN MARXA. | E23: 1 | F23: 88.235 | G23: 16.76 | H23: =VLOOKUP(B23,'Preus Unitaris'!$B$2:$G$1037,6,FALSE) -> 750 | I23: =ROUND(E23*H23,2) -> 750
D24: Subtotal Equipament Centre Control | I24: =SUM(I7:I23) -> 34695
B26: PLATAFORMA GESTIÓ I CONTROL
B27: ='Preus Unitaris'!B131 -> P-001 | C27: ='Preus Unitaris'!C131 -> UT | D27: =VLOOKUP(B27,'Preus Unitaris'!$B$2:$G$1037,3,FALSE) -> PLATAFORMA WEB, AMB ACCÉS REMOT EN TEMPS REAL, PEL CONTROL I GESTIÓ DEL SISTEMA D’ACORD A LES ESPECIFICACIONS INDICADES EN EL PROJECTE. INCLOU: - SOFTWARE DE GESTIÓ I CONTROL DEL SISTEMA AMB ACCÉS VIA WEB. - GESTIÓ DE LLISTES BLANQUES I NEGRES. - GESTIÓ D'ACCÉS DE DIFERENTS TIPUS D'USUARIS AMB PERFILS DIFERENCIATS (TÈCNICS MUNICIPALS, POLICIA LOCAL, ...). - INTEGRACIÓ AMB LES PLATAFORMES DE GESTIÓ I SISTEMES DE COMUNICACIONS MUNICIPALS. - SOFTWARE DE GESTIÓ DE MULTES I INTEGRACIÓ AMB EL SISTEMA DEL ORGT PER LA TRAMITACIÓ I ENVIAMENT DE DENÚNCIES. - LLICÈNCIES DE SOFTWARE BASE NECESSÀRIES. INCLOSES TOTES LES FEINES NECESSÀRIES DE DESENVOLUPAMENT I IMPLANTACIÓ DE SOFTWARE PER A LA CONFECCIÓ LLISTES, INTEGRACIÓ EN SISTEMES, CONFIGURACIONS INTERCANVIS FITXERS ENTRE PLATAFORMES I GESTIONS NECESSÀRIES PER EXECUTAR CORRECTAMENT ELS TREBALLS FINS A LA SEVA CORRECTA IMPLANTACIÓ I POSADA EN EXPLOTACIÓ. | E27: 1 | F27: 32268.908 | G27: 6131.09 | H27: =VLOOKUP(B27,'Preus Unitaris'!$B$2:$G$1037,6,FALSE) -> 38400 | I27: =ROUND(E27*H27,2) -> 38400
B28: ='Preus Unitaris'!B132 -> P-002 | C28: ='Preus Unitaris'!C132 -> UT | D28: =VLOOKUP(B28,'Preus Unitaris'!$B$2:$G$1037,3,FALSE) -> INTEGRACIÓ I INTERCANVIS AMB LA PLATAFORMA DE TERCERS PER L'INTERCANVI I ENVIAMENT DE DADES. INCLOU REUNIONS DE COORDINACIÓ, PROGRAMACIÓ DELS MÒDULS NECESSARIS EN LA PLATAFORMA PER PODER FER L'INTERCANVI DE DADES VIA API-REST O ALTRES MITJANS, I QUALSEVOL ALTRA FEINA FINS A LA CORRECTE IMPLANTACIÓ I POSADA EN EXPLOTACIÓ. | E28: 1 | F28: 32268.908 | G28: 6131.09 | H28: =VLOOKUP(B28,'Preus Unitaris'!$B$2:$G$1037,6,FALSE) -> 2280 | I28: =ROUND(E28*H28,2) -> 2280
B29: ='Preus Unitaris'!B133 -> P-003 | C29: ='Preus Unitaris'!C133 -> UT | D29: =VLOOKUP(B29,'Preus Unitaris'!$B$2:$G$1037,3,FALSE) -> INTEGRACIÓ, CONFIGURACIÓ, DONAR D'ALTA EL PUNTS DE CONTROLS I LLURS EQUIMANTS ESPECÍFICS EN LA PLATAFORMA DE GESTIÓ I CONTROL, AIXÍ COM TOTES LES PROVES NECESSÀRIES AMB ELS DEPARTAMENTS IMPLICATS DE L'AJUNTAMENT I ORGANISMES EXTERNS, EN ENTORN PRE-PRODUCCIÓ I EN PRODUCCIÓ. | E29: 1 | F29: 32268.908 | G29: 6131.09 | H29: =VLOOKUP(B29,'Preus Unitaris'!$B$2:$G$1037,6,FALSE) -> 1680 | I29: =ROUND(E29*H29,2) -> 1680
B30: ='Preus Unitaris'!B134 -> P-004 | C30: ='Preus Unitaris'!C134 -> UT | D30: =VLOOKUP(B30,'Preus Unitaris'!$B$2:$G$1037,3,FALSE) -> SERVEI DE SUPORT TELEFÒNIC EN HORARI LABORAL PER CONSULTES I ASSISTÈNCIA TÈCNICA REMOTA, DURANT TOT EL PERÍODE DE GARANTIA. | E30: 0 | F30: 2773.109 | G30: 526.89 | H30: =VLOOKUP(B30,'Preus Unitaris'!$B$2:$G$1037,6,FALSE) -> 3000 | I30: =ROUND(E30*H30,2) -> 0 | L30: 12 mesos x 275 €/mes
B31: ='Preus Unitaris'!B135 -> P-005 | C31: ='Preus Unitaris'!C135 -> H | D31: =VLOOKUP(B31,'Preus Unitaris'!$B$2:$G$1037,3,FALSE) -> SERVEI DE PROGRAMACIÓ (TÈCNIC PROGRAMADOR - DESENVOLUPADOR DE SOFTWARE) PER REALITZAR MILLORES O IMPLANTAR NOVES FUNCIONALITATS EN LA PLATAFORMA. | E31: 0 | F31: 35.294 | G31: 6.71 | H31: =VLOOKUP(B31,'Preus Unitaris'!$B$2:$G$1037,6,FALSE) -> 42 | I31: =ROUND(E31*H31,2) -> 0
D32: Subtotal Plataforma Gestió i Control | I32: =SUM(I27:I31) -> 42360
D35: =CONCATENATE("TOTAL PRESSUPOST EXECUCIÓ ",B2) -> TOTAL PRESSUPOST EXECUCIÓ CENTRE DE CONTROL | I35: =SUM(I6:I32)/2 -> 77055
D38: RESUM PRESSUPOST CENTRE DE CONTROL
D39: =B6 -> EQUIPAMENT CENTRE DE CONTROL | I39: =I24 -> 34695
D40: =B26 -> PLATAFORMA GESTIÓ I CONTROL | I40: =I32 -> 42360
D41: =D35 -> TOTAL PRESSUPOST EXECUCIÓ CENTRE DE CONTROL | I41: =SUM(I39:I40) -> 77055
D42: IVA | E42: 0.21 | I42: =ROUND(I41*E42,2) -> 16181.55
D43: =CONCATENATE(D35, " IVA inclòs") -> TOTAL PRESSUPOST EXECUCIÓ CENTRE DE CONTROL IVA inclòs | I43: =SUM(I41:I42) -> 93236.55

Sheet Ppost Altres i Varis GRAL
B2: ALTRES I VARIS
B4: CODI | C4: UNITAT MESURA | D4: CONCEPTE / DENOMINACIÓ | E4: AMIDAMENT | F4: PREU UNITARI PEM | G4: BI+DG | H4: PREU UNITARI PEC | I4: PREU TOTAL
B6: CONFIGURACIÓ, PROVES, POSADA EN OPERACIÓ, FORMACIÓ I DOCUMENTACIÓ
B7: ='Preus Unitaris'!B138 -> V-001 | C7: ='Preus Unitaris'!C138 -> 0 | D7: =VLOOKUP(B7,'Preus Unitaris'!$B$2:$G$1037,3,FALSE) -> 0 | H7: =VLOOKUP(B7,'Preus Unitaris'!$B$2:$G$1037,6,FALSE) -> 0 | I7: =ROUND(E7*H7,2) -> 0
B8: ='Preus Unitaris'!B139 -> V-002 | C8: ='Preus Unitaris'!C139 -> 0 | D8: =VLOOKUP(B8,'Preus Unitaris'!$B$2:$G$1037,3,FALSE) -> 0 | H8: =VLOOKUP(B8,'Preus Unitaris'!$B$2:$G$1037,6,FALSE) -> 0 | I8: =ROUND(E8*H8,2) -> 0
B9: ='Preus Unitaris'!B140 -> V-003 | C9: ='Preus Unitaris'!C140 -> UT | D9: =VLOOKUP(B9,'Preus Unitaris'!$B$2:$G$1037,3,FALSE) -> FEINES D'ENGINYERIA I GESTIÓ D'OBRA, ELABORACIÓ DE MANUALS D'USUARI, INSTAL·LACIÓ I EXPLOTACIÓ, DE DOCUMENTACIÓ TÈCNICA (PRÈVIA, DURANT PROCÉS I FINAL) I DE DOCUMENTACIÓ FINAL D'OBRA. | E9: 1 | H9: =VLOOKUP(B9,'Preus Unitaris'!$B$2:$G$1037,6,FALSE) -> 1500 | I9: =ROUND(E9*H9,2) -> 1500
B10: ='Preus Unitaris'!B141 -> V-004 | C10: ='Preus Unitaris'!C141 -> UT | D10: =VLOOKUP(B10,'Preus Unitaris'!$B$2:$G$1037,3,FALSE) -> FORMACIÓ. SESSIONS DE DUES HORES APROXIMADAMENT DE DURADA, EN LES DEPENDÈNCIES MUNICIPALS. | E10: 4 | F10: 2941.176 | G10: 558.82 | H10: =VLOOKUP(B10,'Preus Unitaris'!$B$2:$G$1037,6,FALSE) -> 210 | I10: =ROUND(E10*H10,2) -> 840
B11: ='Preus Unitaris'!B142 -> V-005 | C11: ='Preus Unitaris'!C142 -> 0 | D11: =VLOOKUP(B11,'Preus Unitaris'!$B$2:$G$1037,3,FALSE) -> 0 | F11: 9831.933 | G11: 1868.07 | H11: =VLOOKUP(B11,'Preus Unitaris'!$B$2:$G$1037,6,FALSE) -> 0 | I11: =ROUND(E11*H11,2) -> 0
D12: Subtotal Posada en operació, formació i documentació | I12: =SUM(I7:I11) -> 2340
B14: AJUTS D'INSTAL·LACIÓ
B15: ='Preus Unitaris'!B146 -> AJ-001 | C15: ='Preus Unitaris'!C146 -> PAJ | D15: =VLOOKUP(B15,'Preus Unitaris'!$B$2:$G$1037,3,FALSE) -> PARTIDA ALÇADA A JUSTIFICAR PER AJUTS DE PALETA I SIMILARS, EN LES FEINES NECESSÀRIES PER A LA CORRECTE INSTAL·LACIÓ DELS DIFERENTS EQUIPAMENTS (PER MUNTATGE DE QUADRES ELÈCTRICS I EQUIPAMENTS VARIS, DE CONDUCTES I ESTESA DE CABLEJATS (PETITES FONAMENTACIONS, TREPANTS PASSAMURS, TAPAT DE FORATS I ACABATS GENERALS, …) | E15: 1 | F15: 3716.246 | G15: 706.09 | H15: =VLOOKUP(B15,'Preus Unitaris'!$B$2:$G$1037,6,FALSE) -> 4500 | I15: =ROUND(E15*H15,2) -> 4500
B16: ='Preus Unitaris'!B147 -> AJ-002 | C16: ='Preus Unitaris'!C147 -> PAJ | D16: =VLOOKUP(B16,'Preus Unitaris'!$B$2:$G$1037,3,FALSE) -> PARTIDA ALÇADA D'AJUTS A INSTAL·LACIÓ A JUSTIFICAR EN REFERÈNCIA A LES INSTAL·LACIONS (INTERFERÈNCIA AMB SERVEIS AFECTATS, EXCÉS D'AMIDAMENTS, ETC). A JUSTIFICAR EN CAS NECESSARI AMB PREUS UNITARIS DEL PROJECTE APROVAT. | E16: 1 | H16: =VLOOKUP(B16,'Preus Unitaris'!$B$2:$G$1037,6,FALSE) -> 3600 | I16: =ROUND(E16*H16,2) -> 3600
D17: Subtotal Ajuts i Imprevistos | I17: =SUM(I15:I16) -> 8100
D20: =CONCATENATE("TOTAL PRESSUPOST EXECUCIÓ ",B2) -> TOTAL PRESSUPOST EXECUCIÓ ALTRES I VARIS | I20: =SUM(I6:I17)/2 -> 10440
D23: RESUM PRESSUPOST ALTRES I VARIS
D24: =B6 -> CONFIGURACIÓ, PROVES, POSADA EN OPERACIÓ, FORMACIÓ I DOCUMENTACIÓ | I24: =I12 -> 2340
D25: =B14 -> AJUTS D'INSTAL·LACIÓ | I25: =I17 -> 8100
D26: =D20 -> TOTAL PRESSUPOST EXECUCIÓ ALTRES I VARIS | I26: =SUM(I24:I25) -> 10440
D27: IVA | E27: 0.21 | I27: =ROUND(I26*E27,2) -> 2192.4
D28: =CONCATENATE("TOTAL PRESSUPOST ",B2) -> TOTAL PRESSUPOST ALTRES I VARIS | I28: =SUM(I26:I27) -> 12632.4

Sheet ZBE-01
F1: ocultar | G1: ocultar
B2: ='Amidaments Generals'!D5 -> PdC-01 | D2: ='[1]RESUM PPOST GRAL'!L8 -> C/ de L’Horta Novella – Ctra. De Barcelona
B4: CODI | C4: UNITAT MESURA | D4: CONCEPTE / DENOMINACIÓ | E4: AMIDAMENT | F4: PREU UNITARI PEM | G4: BI+DG | H4: PREU UNITARI PEC | I4: PREU TOTAL
B6: EQUIPAMENT PUNT DE CONTROL
B7: ='Preus Unitaris'!B7 -> E-001 | C7: =VLOOKUP(B7,'Preus Unitaris'!$B$2:$G$1058,2,FALSE) -> UT | D7: =VLOOKUP(B7,'Preus Unitaris'!$B$2:$G$1058,3,FALSE) -> SUBMINISTRAMENT D'EQUIP COMPACTE DE RECONEIXEMENT DE MATRÍCULES, FORMAT PER CONJUNT DE CÀMERA LPR 2 CARRILS HD, CÀMERA DE CONTEXT A COLOR I IL·LUMINADOR IR PER A ZONA D’INFRACCIONS. INCLOU LLICÈNCIA OCR, CARCASSA, BRAÇ I ADAPTACIÓ A SUPORT. | E7: ='Amidaments Generals'!D7 -> 1 | F7: =VLOOKUP(B7,'Preus Unitaris'!$B$2:$G$1058,4,FALSE) -> 6369.748 | G7: =VLOOKUP(B7,'Preus Unitaris'!$B$2:$G$1058,5,FALSE) -> 1210.25 | H7: =VLOOKUP(B7,'Preus Unitaris'!$B$2:$G$1058,6,FALSE) -> 7580 | I7: =ROUND(E7*H7,2) -> 7580
B8: ='Preus Unitaris'!B8 -> E-002 | C8: =VLOOKUP(B8,'Preus Unitaris'!$B$2:$G$1058,2,FALSE) -> UT | D8: =VLOOKUP(B8,'Preus Unitaris'!$B$2:$G$1058,3,FALSE) -> INSTAL·LACIÓ D'EQUIP COMPACTE DE RECONEIXEMENT DE MATRÍCULES, FORMAT PER CONJUNT DE CÀMERA LPR 2 CARRILS HD, CÀMERA DE CONTEXT A COLOR I IL·LUMINADOR IR PER A ZONA D’INFRACCIONS. INCLOU LLICÈNCIA OCR, CARCASSA, BRAÇ I ADAPTACIÓ A SUPORT. | E8: ='Amidaments Generals'!D8 -> 1 | F8: =VLOOKUP(B8,'Preus Unitaris'!$B$2:$G$1058,4,FALSE) -> 315.126 | G8: =VLOOKUP(B8,'Preus Unitaris'!$B$2:$G$1058,5,FALSE) -> 59.87 | H8: =VLOOKUP(B8,'Preus Unitaris'!$B$2:$G$1058,6,FALSE) -> 375 | I8: =ROUND(E8*H8,2) -> 375
B9: ='Preus Unitaris'!B9 -> E-003 | C9: =VLOOKUP(B9,'Preus Unitaris'!$B$2:$G$1058,2,FALSE) -> UT | D9: =VLOOKUP(B9,'Preus Unitaris'!$B$2:$G$1058,3,FALSE) -> SUBMINISTRAMENT DE FONT D'ALIMENTACIÓ 48V TIPUS INDUSTRIAL, PER MUNTATGE EN CARRIL DIN, PER ALIMENTAR FINS A 4 CÀMERES PUNT DE CONTROL. | E9: ='Amidaments Generals'!D9 -> 1 | F9: =VLOOKUP(B9,'Preus Unitaris'!$B$2:$G$1058,4,FALSE) -> 134.454 | G9: =VLOOKUP(B9,'Preus Unitaris'!$B$2:$G$1058,5,FALSE) -> 25.55 | H9: =VLOOKUP(B9,'Preus Unitaris'!$B$2:$G$1058,6,FALSE) -> 160 | I9: =ROUND(E9*H9,2) -> 160
B10: ='Preus Unitaris'!B10 -> E-004 | C10: =VLOOKUP(B10,'Preus Unitaris'!$B$2:$G$1058,2,FALSE) -> UT | D10: =VLOOKUP(B10,'Preus Unitaris'!$B$2:$G$1058,3,FALSE) -> INSTAL·LACIÓ DE FONT D'ALIMENTACIÓ 48V TIPUS INDUSTRIAL, PER MUNTATGE EN CARRIL DIN, PER ALIMENTAR FINS A 4 CÀMERES PUNT DE CONTROL. | E10: ='Amidaments Generals'!D10 -> 1 | F10: =VLOOKUP(B10,'Preus Unitaris'!$B$2:$G$1058,4,FALSE) -> 29.412 | G10: =VLOOKUP(B10,'Preus Unitaris'!$B$2:$G$1058,5,FALSE) -> 5.59 | H10: =VLOOKUP(B10,'Preus Unitaris'!$B$2:$G$1058,6,FALSE) -> 35 | I10: =ROUND(E10*H10,2) -> 35
B11: ='Preus Unitaris'!B11 -> E-005 | C11: =VLOOKUP(B11,'Preus Unitaris'!$B$2:$G$1058,2,FALSE) -> UT | D11: =VLOOKUP(B11,'Preus Unitaris'!$B$2:$G$1058,3,FALSE) -> SUBMINISTRAMENT DE FONT D'ALIMENTACIÓ 24V TIPUS INDUSTRIAL, PER MUNTATGE EN CARRIL DIN. | E11: ='Amidaments Generals'!D11 -> 0 | F11: =VLOOKUP(B11,'Preus Unitaris'!$B$2:$G$1058,4,FALSE) -> 45.378 | G11: =VLOOKUP(B11,'Preus Unitaris'!$B$2:$G$1058,5,FALSE) -> 8.62 | H11: =VLOOKUP(B11,'Preus Unitaris'!$B$2:$G$1058,6,FALSE) -> 54 | I11: =ROUND(E11*H11,2) -> 0
B12: ='Preus Unitaris'!B12 -> E-006 | C12: =VLOOKUP(B12,'Preus Unitaris'!$B$2:$G$1058,2,FALSE) -> UT | D12: =VLOOKUP(B12,'Preus Unitaris'!$B$2:$G$1058,3,FALSE) -> INSTAL·LACIÓ DE FONT D'ALIMENTACIÓ 24V TIPUS INDUSTRIAL, PER MUNTATGE EN CARRIL DIN. | E12: ='Amidaments Generals'!D12 -> 0 | F12: =VLOOKUP(B12,'Preus Unitaris'!$B$2:$G$1058,4,FALSE) -> 11.765 | G12: =VLOOKUP(B12,'Preus Unitaris'!$B$2:$G$1058,5,FALSE) -> 2.24 | H12: =VLOOKUP(B12,'Preus Unitaris'!$B$2:$G$1058,6,FALSE) -> 14 | I12: =ROUND(E12*H12,2) -> 0
B13: ='Preus Unitaris'!B13 -> E-007 | C13: =VLOOKUP(B13,'Preus Unitaris'!$B$2:$G$1058,2,FALSE) -> UT | D13: =VLOOKUP(B13,'Preus Unitaris'!$B$2:$G$1058,3,FALSE) -> SUBMINISTRAMENT DE SWITCH DE COMUNICACIÓ PER SISTEMA DE VISIÓ ARTIFICIAL, TIPUS INDUSTRIAL, GESTIONABLE, AMB 8 PORTS PoE (802.3at i 802.3bt), INCLOSOS FUETONS DE CONNEXIÓ, COMPATIBLE AMB EL SISTEMA DE COMUNICACIONS DE L'AJUNTAMENT. | E13: ='Amidaments Generals'!D13 -> 0 | F13: =VLOOKUP(B13,'Preus Unitaris'!$B$2:$G$1058,4,FALSE) -> 987.395 | G13: =VLOOKUP(B13,'Preus Unitaris'!$B$2:$G$1058,5,FALSE) -> 187.61 | H13: =VLOOKUP(B13,'Preus Unitaris'!$B$2:$G$1058,6,FALSE) -> 1175 | I13: =ROUND(E13*H13,2) -> 0
B14: ='Preus Unitaris'!B14 -> E-008 | C14: =VLOOKUP(B14,'Preus Unitaris'!$B$2:$G$1058,2,FALSE) -> UT | D14: =VLOOKUP(B14,'Preus Unitaris'!$B$2:$G$1058,3,FALSE) -> INSTAL·LACIÓ I CONFIGURACIÓ DE SWITCH DE COMUNICACIÓ PER SISTEMA DE VISIÓ ARTIFICIAL, TIPUS INDUSTRIAL, GESTIONABLE, AMB 8 PORTS PoE (802.3at i 802.3bt), INCLOSOS FUETONS DE CONNEXIÓ, COMPATIBLE AMB EL SISTEMA DE COMUNICACIONS DE L'AJUNTAMENT. | E14: ='Amidaments Generals'!D14 -> 0 | F14: =VLOOKUP(B14,'Preus Unitaris'!$B$2:$G$1058,4,FALSE) -> 75.63 | G14: =VLOOKUP(B14,'Preus Unitaris'!$B$2:$G$1058,5,FALSE) -> 14.37 | H14: =VLOOKUP(B14,'Preus Unitaris'!$B$2:$G$1058,6,FALSE) -> 90 | I14: =ROUND(E14*H14,2) -> 0
B15: ='Preus Unitaris'!B15 -> E-009 | C15: =VLOOKUP(B15,'Preus Unitaris'!$B$2:$G$1058,2,FALSE) -> UT | D15: =VLOOKUP(B15,'Preus Unitaris'!$B$2:$G$1058,3,FALSE) -> SUBMINISTRAMENT DE SWITCH DE COMUNICACIÓ PER SISTEMA DE VISIÓ ARTIFICIAL, TIPUS INDUSTRIAL, PoE, AMB 10 PORTS MODEL CISCO IE-3400-8P2S-E O 100% EQUIPAVENT, INCLOSOS FUETONS DE CONNEXIÓ, COMPATIBLE AMB EL SISTEMA DE COMUNICACIONS DE L'AJUNTAMENT. | E15: ='Amidaments Generals'!D15 -> 1 | F15: =VLOOKUP(B15,'Preus Unitaris'!$B$2:$G$1058,4,FALSE) -> 3298.319 | G15: =VLOOKUP(B15,'Preus Unitaris'!$B$2:$G$1058,5,FALSE) -> 626.68 | H15: =VLOOKUP(B15,'Preus Unitaris'!$B$2:$G$1058,6,FALSE) -> 3925 | I15: =ROUND(E15*H15,2) -> 3925
B16: ='Preus Unitaris'!B16 -> E-010 | C16: =VLOOKUP(B16,'Preus Unitaris'!$B$2:$G$1058,2,FALSE) -> UT | D16: =VLOOKUP(B16,'Preus Unitaris'!$B$2:$G$1058,3,FALSE) -> INSTAL·LACIÓ I CONFIGURACIÓ DE SWITCH DE COMUNICACIÓ PER SISTEMA DE VISIÓ ARTIFICIAL, TIPUS INDUSTRIAL, PoE, AMB 10 PORTS MODEL CISCO IE-3400-8P2S-E O 100% EQUIPAVENT, INCLOSOS FUETONS DE CONNEXIÓ, COMPATIBLE AMB EL SISTEMA DE COMUNICACIONS DE L'AJUNTAMENT. | E16: ='Amidaments Generals'!D16 -> 1 | F16: =VLOOKUP(B16,'Preus Unitaris'!$B$2:$G$1058,4,FALSE) -> 92.437 | G16: =VLOOKUP(B16,'Preus Unitaris'!$B$2:$G$1058,5,FALSE) -> 17.56 | H16: =VLOOKUP(B16,'Preus Unitaris'!$B$2:$G$1058,6,FALSE) -> 110 | I16: =ROUND(E16*H16,2) -> 110
B17: ='Preus Unitaris'!B17 -> E-011 | C17: =VLOOKUP(B17,'Preus Unitaris'!$B$2:$G$1058,2,FALSE) -> UT | D17: =VLOOKUP(B17,'Preus Unitaris'!$B$2:$G$1058,3,FALSE) -> SUBMINISTRAMENT DE PC INDUSTRIAL RUGORITZAT DE 20 GB DE CAPACITAT EMAGATZEMATGE, PROCESSADOR ÚLTIMA GENERACIÓ, SEGONS ESPECIFICCIONS TÈCNIQUES. | E17: ='Amidaments Generals'!D17 -> 1 | F17: =VLOOKUP(B17,'Preus Unitaris'!$B$2:$G$1058,4,FALSE) -> 903.361 | G17: =VLOOKUP(B17,'Preus Unitaris'!$B$2:$G$1058,5,FALSE) -> 171.64 | H17: =VLOOKUP(B17,'Preus Unitaris'!$B$2:$G$1058,6,FALSE) -> 1075 | I17: =ROUND(E17*H17,2) -> 1075
B18: ='Preus Unitaris'!B18 -> E-012 | C18: =VLOOKUP(B18,'Preus Unitaris'!$B$2:$G$1058,2,FALSE) -> UT | D18: =VLOOKUP(B18,'Preus Unitaris'!$B$2:$G$1058,3,FALSE) -> INSTAL·LACIÓ I CONFIGURACIÓ DE PC INDUSTRIAL RUGORITZAT DE 20 GB DE CAPACITAT EMAGATZEMATGE, PROCESSADOR ÚLTIMA GENERACIÓ, SEGONS ESPECIFICCIONS TÈCNIQUES. | E18: ='Amidaments Generals'!D18 -> 1 | F18: =VLOOKUP(B18,'Preus Unitaris'!$B$2:$G$1058,4,FALSE) -> 100.84 | G18: =VLOOKUP(B18,'Preus Unitaris'!$B$2:$G$1058,5,FALSE) -> 19.16 | H18: =VLOOKUP(B18,'Preus Unitaris'!$B$2:$G$1058,6,FALSE) -> 120 | I18: =ROUND(E18*H18,2) -> 120
... B44: ='Preus Unitaris'!B44 -> E-038 | C44: =VLOOKUP(B44,'Preus Unitaris'!$B$2:$G$1058,2,FALSE) -> UT | D44: =VLOOKUP(B44,'Preus Unitaris'!$B$2:$G$1058,3,FALSE) -> PRECINTAT DE CÀMERES I DEL PC DE CONTROL DEL PUNT DE CONTROL. INCLOU TOTS ELS MATERIALS (PRECINTES), MITJANS I RECURSOS NECESSARIS. PREU PER PUNT DE CONTROL | E44: ='Amidaments Generals'!D44 -> 0 | F44: =VLOOKUP(B44,'Preus Unitaris'!$B$2:$G$1058,4,FALSE) -> 126.05 | G44: =VLOOKUP(B44,'Preus Unitaris'!$B$2:$G$1058,5,FALSE) -> 23.95 | H44: =VLOOKUP(B44,'Preus Unitaris'!$B$2:$G$1058,6,FALSE) -> 150 | I44: =ROUND(E44*H44,2) -> 0
D45: Subtotal Equipament PdC | I45: =SUM(I7:I44) -> 16854
B47: OBRA CIVIL
B48: ='Preus Unitaris'!B47 -> O-001 | C48: =VLOOKUP(B48,'Preus Unitaris'!$B$2:$G$1058,2,FALSE) -> UT | D48: =VLOOKUP(B48,'Preus Unitaris'!$B$2:$G$1058,3,FALSE) -> FONAMENT DE FORMIGÓ PER A ARMARI DE CONTROL O ESCOMESA ELÈCTRICA, AMB DOSIFICACIÓ DE 250 KG/m3 I ENCOFRAT CARA VISTA, DE DIMENSIONS APROX. 800 x 800 x 500 mm AMB UN ENCASTAMENT DE 20 cm I 4 FORATS DE 110 mm. DE DIÀMETRE. INCLOU DEMOLICIÓ PAVIMENT, EXCAVACIÓ I POSTERIOR REPOSICIÓ. TOTALMENT EXECUTAT. | E48: ='Amidaments Generals'!D46 -> 1 | F48: =VLOOKUP(B48,'Preus Unitaris'!$B$2:$G$1058,4,FALSE) -> 197.479 | G48: =VLOOKUP(B48,'Preus Unitaris'!$B$2:$G$1058,5,FALSE) -> 37.52 | H48: =VLOOKUP(B48,'Preus Unitaris'!$B$2:$G$1058,6,FALSE) -> 235 | I48: =ROUND(E48*H48,2) -> 235
B49: ='Preus Unitaris'!B48 -> O-002 | C49: =VLOOKUP(B49,'Preus Unitaris'!$B$2:$G$1058,2,FALSE) -> UT | D49: =VLOOKUP(B49,'Preus Unitaris'!$B$2:$G$1058,3,FALSE) -> FONAMENT DE FORMIGÓ PER A COLUMNA 4000, AMB DOSIFICACIÓ DE 250 KG/m3, MITJANÇANT UN DAU DE 50 cm. DE COSTAT I 60 cm. DE PROFUNDITAT, INCLÒS COLZE DE CONNEXIÓ AMB TUBULAR. INCLOU DEMOLICIÓ PAVIMENT, EXCAVACIÓ I POSTERIOR REPOSICIÓ. TOTALMENT EXECUTAT. | E49: ='Amidaments Generals'!D47 -> 1 | F49: =VLOOKUP(B49,'Preus Unitaris'!$B$2:$G$1058,4,FALSE) -> 92.437 | G49: =VLOOKUP(B49,'Preus Unitaris'!$B$2:$G$1058,5,FALSE) -> 17.56 | H49: =VLOOKUP(B49,'Preus Unitaris'!$B$2:$G$1058,6,FALSE) -> 110 | I49: =ROUND(E49*H49,2) -> 110
B50: ='Preus Unitaris'!B49 -> O-003 | C50: =VLOOKUP(B50,'Preus Unitaris'!$B$2:$G$1058,2,FALSE) -> UT | D50: =VLOOKUP(B50,'Preus Unitaris'!$B$2:$G$1058,3,FALSE) -> FONAMENT DE FORMIGÓ PER A BÀCUL DE SEMÀFORS 6025 m, AMB DOSIFICACIÓ DE 250 KG/m3, MITJANÇANT UN DAU DE 80 cm. DE COSTAT I 100 cm. DE PROFUNDITAT, INCLÒS PERNS ANCORATGE, COLZE DE CONNEXIÓ AMB TUBULAR. INCLOU DEMOLICIÓ PAVIMENT, EXCAVACIÓ I POSTERIOR REPOSICIÓ. TOTALMENT EXECUTAT. | E50: ='Amidaments Generals'!D48 -> 0 | F50: =VLOOKUP(B50,'Preus Unitaris'!$B$2:$G$1058,4,FALSE) -> 415.966 | G50: =VLOOKUP(B50,'Preus Unitaris'!$B$2:$G$1058,5,FALSE) -> 79.03 | H50: =VLOOKUP(B50,'Preus Unitaris'!$B$2:$G$1058,6,FALSE) -> 495 | I50: =ROUND(E50*H50,2) -> 0
B51: ='Preus Unitaris'!B50 -> O-004 | C51: =VLOOKUP(B51,'Preus Unitaris'!$B$2:$G$1058,2,FALSE) -> UT | D51: =VLOOKUP(B51,'Preus Unitaris'!$B$2:$G$1058,3,FALSE) -> PERICÓ DE 60 x 60 cm. PREFABRICAT DE FORMIGÓ O CONSTRUÏT AMB MAONS GERO I FONS DEL MATEIX MATERIAL REBENT EL MARC I LA TAPA CORRESPONENT, SENSE INCLOURE AQUESTS. INCLOU DEMOLICIÓ PAVIMENT, EXCAVACIÓ I POSTERIOR REPOSICIÓ. TOTALMENT EXECUTAT. | E51: ='Amidaments Generals'!D49 -> 2 | F51: =VLOOKUP(B51,'Preus Unitaris'!$B$2:$G$1058,4,FALSE) -> 126.05 | G51: =VLOOKUP(B51,'Preus Unitaris'!$B$2:$G$1058,5,FALSE) -> 23.95 | H51: =VLOOKUP(B51,'Preus Unitaris'!$B$2:$G$1058,6,FALSE) -> 150 | I51: =ROUND(E51*H51,2) -> 300
B52: ='Preus Unitaris'!B51 -> O-005 | C52: =VLOOKUP(B52,'Preus Unitaris'!$B$2:$G$1058,2,FALSE) -> UT | D52: =VLOOKUP(B52,'Preus Unitaris'!$B$2:$G$1058,3,FALSE) -> SUBMINISTRAMENT MARC DE FERRO FOS DE 60 x 60 cm PER INSTAL·LACIÓ EN VORERA, AMB INSCRIPCIÓ. | E52: ='Amidaments Generals'!D50 -> 2 | F52: =VLOOKUP(B52,'Preus Unitaris'!$B$2:$G$1058,4,FALSE) -> 33.613 | G52: =VLOOKUP(B52,'Preus Unitaris'!$B$2:$G$1058,5,FALSE) -> 6.39 | H52: =VLOOKUP(B52,'Preus Unitaris'!$B$2:$G$1058,6,FALSE) -> 40 | I52: =ROUND(E52*H52,2) -> 80
B53: ='Preus Unitaris'!B52 -> O-006 | C53: =VLOOKUP(B53,'Preus Unitaris'!$B$2:$G$1058,2,FALSE) -> UT | D53: =VLOOKUP(B53,'Preus Unitaris'!$B$2:$G$1058,3,FALSE) -> SUBMINISTRAMENT TAPA DE FERRO FOS DE 60 x 60 cm PER INSTAL·LACIÓ EN VORERA, AMB INSCRIPCIÓ. | E53: ='Amidaments Generals'!D51 -> 2 | F53: =VLOOKUP(B53,'Preus Unitaris'!$B$2:$G$1058,4,FALSE) -> 67.227 | G53: =VLOOKUP(B53,'Preus Unitaris'!$B$2:$G$1058,5,FALSE) -> 12.77 | H53: =VLOOKUP(B53,'Preus Unitaris'!$B$2:$G$1058,6,FALSE) -> 80 | I53: =ROUND(E53*H53,2) -> 160
B54: ='Preus Unitaris'!B53 -> O-007 | C54: =VLOOKUP(B54,'Preus Unitaris'!$B$2:$G$1058,2,FALSE) -> UT | D54: =VLOOKUP(B54,'Preus Unitaris'!$B$2:$G$1058,3,FALSE) -> REPARACIÓ D'ESTRUCTURA INTERIOR DE PERICÓ EXISTENT DE 60 x 60 cm, AMB ADEQUACIÓ DE PARETS I LLISCAT. TOTALMENT EXECUTAT. | E54: ='Amidaments Generals'!D52 -> 2 | F54: =VLOOKUP(B54,'Preus Unitaris'!$B$2:$G$1058,4,FALSE) -> 68.908 | G54: =VLOOKUP(B54,'Preus Unitaris'!$B$2:$G$1058,5,FALSE) -> 13.09 | H54: =VLOOKUP(B54,'Preus Unitaris'!$B$2:$G$1058,6,FALSE) -> 82 | I54: =ROUND(E54*H54,2) -> 164
B55: ='Preus Unitaris'!B54 -> O-008 | C55: =VLOOKUP(B55,'Preus Unitaris'!$B$2:$G$1058,2,FALSE) -> UT | D55: =VLOOKUP(B55,'Preus Unitaris'!$B$2:$G$1058,3,FALSE) -> INTERCEPTAR CANALITZACIÓ EXISTENT / EMBOCADURA PERICÓ EXISTENT. | E55: ='Amidaments Generals'!D53 -> 2 | F55: =VLOOKUP(B55,'Preus Unitaris'!$B$2:$G$1058,4,FALSE) -> 155.462 | G55: =VLOOKUP(B55,'Preus Unitaris'!$B$2:$G$1058,5,FALSE) -> 29.54 | H55: =VLOOKUP(B55,'Preus Unitaris'!$B$2:$G$1058,6,FALSE) -> 185 | I55: =ROUND(E55*H55,2) -> 370
B56: ='Preus Unitaris'!B55 -> O-009 | C56: =VLOOKUP(B56,'Preus Unitaris'!$B$2:$G$1058,2,FALSE) -> ML | D56: =VLOOKUP(B56,'Preus Unitaris'!$B$2:$G$1058,3,FALSE) -> COMPROVACIÓ I MANDRINATGE DE CANALITZACIÓ EXISTENT DEIXANT PASSAT FIL GUIA. | E56: ='Amidaments Generals'!D54 -> 450 | F56: =VLOOKUP(B56,'Preus Unitaris'!$B$2:$G$1058,4,FALSE) -> 1.261 | G56: =VLOOKUP(B56,'Preus Unitaris'!$B$2:$G$1058,5,FALSE) -> 0.24 | H56: =VLOOKUP(B56,'Preus Unitaris'!$B$2:$G$1058,6,FALSE) -> 1.5 | I56: =ROUND(E56*H56,2) -> 675
B57: ='Preus Unitaris'!B56 -> O-010 | C57: =VLOOKUP(B57,'Preus Unitaris'!$B$2:$G$1058,2,FALSE) -> ML | D57: =VLOOKUP(B57,'Preus Unitaris'!$B$2:$G$1058,3,FALSE) -> CANALITZACIÓ EN VORERA INCLOENT SUBMINISTRAMENT I INSTAL·LACIÓ DE 2 TUBS DE PE ø 11 cm. DE DOBLE CAPA, LLIS A L'INTERIOR I CORRUGAT A L'EXTERIOR, INCLÒS EXCAVACIÓ EN RASA DE 40 x 68 cm. DE PROFUNDITAT, BASE I PROTECCIÓ DE FORMIGÓ HM20, EN VORERES DE PANOT INCLÒS LA SEVA REPOSICIÓ. TOTALMENT EXECUTADA D'ACORD AMB LES ORDENANCES MUNICIPALS I INDICACIONS PARTICULARS. | E57: ='Amidaments Generals'!D55 -> 5 | F57: =VLOOKUP(B57,'Preus Unitaris'!$B$2:$G$1058,4,FALSE) -> 71.429 | G57: =VLOOKUP(B57,'Preus Unitaris'!$B$2:$G$1058,5,FALSE) -> 13.57 | H57: =VLOOKUP(B57,'Preus Unitaris'!$B$2:$G$1058,6,FALSE) -> 85 | I57: =ROUND(E57*H57,2) -> 425
B58: ='Preus Unitaris'!B57 -> O-011 | C58: =VLOOKUP(B58,'Preus Unitaris'!$B$2:$G$1058,2,FALSE) -> ML | D58: =VLOOKUP(B58,'Preus Unitaris'!$B$2:$G$1058,3,FALSE) -> CANALITZACIÓ EN CALÇADA INCLÒS SUBMINISTRAMENT I INSTAL·LACIÓ DE 2 TUBS DE PE ø 11 cm. DE DOBLE CAPA, LLIS A L'INTERIOR I CORRUGAT A L'EXTERIOR, INCLÒS EXCAVACIÓ EN RASA DE 68 x 80 cm. DE PROFUNDITAT, BASE I PROTECCIÓ DE FORMIGÓ HM20, EN CALÇADES. INCLOSA REPOSICIÓ PAVIMENT AGLOMERAT ASFÀLTIC SEGONS ELS PLÀNOLS DEL PROJECTE. TOTALMENT EXECUTADA D'ACORD AMB LES ORDENANCES MUNICIPALS I PLEC DE CONDICIONS. | E58: ='Amidaments Generals'!D56 -> 0 | F58: =VLOOKUP(B58,'Preus Unitaris'!$B$2:$G$1058,4,FALSE) -> 149.58 | G58: =VLOOKUP(B58,'Preus Unitaris'!$B$2:$G$1058,5,FALSE) -> 28.42 | H58: =VLOOKUP(B58,'Preus Unitaris'!$B$2:$G$1058,6,FALSE) -> 178 | I58: =ROUND(E58*H58,2) -> 0
B59: ='Preus Unitaris'!B58 -> O-012 | C59: =VLOOKUP(B59,'Preus Unitaris'!$B$2:$G$1058,2,FALSE) -> ML | D59: =VLOOKUP(B59,'Preus Unitaris'!$B$2:$G$1058,3,FALSE) -> CANALITZACIÓ EN CALÇADA INCLÒS SUBMINISTRAMENT I INSTAL·LACIÓ DE 4 TUBS DE PE ø 11 cm. DE DOBLE CAPA, LLIS A L'INTERIOR I CORRUGAT A L'EXTERIOR, INCLÒS EXCAVACIÓ EN RASA DE 68 x 80 cm. DE PROFUNDITAT, BASE I PROTECCIÓ DE FORMIGÓ HM20, EN CALÇADES. INCLOSA REPOSICIÓ PAVIMENT AGLOMERAT ASFÀLTIC, SEGONS PLÀNOLS DEL PROJECTE. TOTALMENT EXECUTADA D'ACORD AMB LES ORDENANCES MUNICIPALS I PLEC DE CONDICIONS. | E59: ='Amidaments Generals'!D57 -> 0 | F59: =VLOOKUP(B59,'Preus Unitaris'!$B$2:$G$1058,4,FALSE) -> 155.462 | G59: =VLOOKUP(B59,'Preus Unitaris'!$B$2:$G$1058,5,FALSE) -> 29.54 | H59: =VLOOKUP(B59,'Preus Unitaris'!$B$2:$G$1058,6,FALSE) -> 185 | I59: =ROUND(E59*H59,2) -> 0
... B71: ='Preus Unitaris'!B70 -> O-024 | C71: =VLOOKUP(B71,'Preus Unitaris'!$B$2:$G$1058,2,FALSE) -> UT | D71: =VLOOKUP(B71,'Preus Unitaris'!$B$2:$G$1058,3,FALSE) -> RETIRADA, TRASLLAT I INSTAL·LACIÓ DE PAPERERA, INCLOSOS MITJANS I MATERIALS NECESSARIS. | E71: ='Amidaments Generals'!D69 -> 0 | F71: =VLOOKUP(B71,'Preus Unitaris'!$B$2:$G$1058,4,FALSE) -> 75.63 | G71: =VLOOKUP(B71,'Preus Unitaris'!$B$2:$G$1058,5,FALSE) -> 14.37 | H71: =VLOOKUP(B71,'Preus Unitaris'!$B$2:$G$1058,6,FALSE) -> 90 | I71: =ROUND(E71*H71,2) -> 0
D72: Subtotal Obra Civil | I72: =SUM(I48:I71) -> 4329
B74: INSTAL·LACIÓ ELÈCTRICA
B75: ='Preus Unitaris'!B73 -> I-001 | C75: =VLOOKUP(B75,'Preus Unitaris'!$B$2:$G$1058,2,FALSE) -> UT | D75: =VLOOKUP(B75,'Preus Unitaris'!$B$2:$G$1058,3,FALSE) -> SUBMINISTRAMENT D'EQUIPAMENTS ESPECÍFICS PER LA DISTRIBUCIÓ D'ENERGIA DEL PUNT DE CONTROL, CONSISTENTS EN PROTECCIONS ELÈCTRIQUES CONTRA SOBRETENSIONS TRANSITÒRIES (1 UT) I PERMANENTS (1 UT), DIFERENCIALS (FINS A 2 UT), MAGNETOTÈRMICS (FINS A 3 UT) I PRESA DE CORRENT TIPUS SCHUKO (1 UT). | E75: ='Amidaments Generals'!D71 -> 1 | F75: =VLOOKUP(B75,'Preus Unitaris'!$B$2:$G$1058,4,FALSE) -> 268.908 | G75: =VLOOKUP(B75,'Preus Unitaris'!$B$2:$G$1058,5,FALSE) -> 51.09 | H75: =VLOOKUP(B75,'Preus Unitaris'!$B$2:$G$1058,6,FALSE) -> 320 | I75: =ROUND(E75*H75,2) -> 320
B76: ='Preus Unitaris'!B74 -> I-002 | C76: =VLOOKUP(B76,'Preus Unitaris'!$B$2:$G$1058,2,FALSE) -> UT | D76: =VLOOKUP(B76,'Preus Unitaris'!$B$2:$G$1058,3,FALSE) -> INSTAL·LACIÓ D'EQUIPAMENTS ESPECÍFICS PER LA DISTRIBUCIÓ D'ENERGIA DEL PUNT DE CONTROL. | E76: ='Amidaments Generals'!D72 -> 1 | F76: =VLOOKUP(B76,'Preus Unitaris'!$B$2:$G$1058,4,FALSE) -> 68.067 | G76: =VLOOKUP(B76,'Preus Unitaris'!$B$2:$G$1058,5,FALSE) -> 12.93 | H76: =VLOOKUP(B76,'Preus Unitaris'!$B$2:$G$1058,6,FALSE) -> 81 | I76: =ROUND(E76*H76,2) -> 81
B77: ='Preus Unitaris'!B75 -> I-003 | C77: =VLOOKUP(B77,'Preus Unitaris'!$B$2:$G$1058,2,FALSE) -> ML | D77: =VLOOKUP(B77,'Preus Unitaris'!$B$2:$G$1058,3,FALSE) -> SUBMINISTRAMENT DE CABLE DE CONDUCTOR DE COURE AMB AÏLLAMENT DE PLÀSTIC, DE SECCIÓ 1x6 mm2 PER PRESES DE TERRA. | E77: ='Amidaments Generals'!D73 -> 30 | F77: =VLOOKUP(B77,'Preus Unitaris'!$B$2:$G$1058,4,FALSE) -> 0.924 | G77: =VLOOKUP(B77,'Preus Unitaris'!$B$2:$G$1058,5,FALSE) -> 0.18 | H77: =VLOOKUP(B77,'Preus Unitaris'!$B$2:$G$1058,6,FALSE) -> 1.1 | I77: =ROUND(E77*H77,2) -> 33
B78: ='Preus Unitaris'!B76 -> I-004 | C78: =VLOOKUP(B78,'Preus Unitaris'!$B$2:$G$1058,2,FALSE) -> ML | D78: =VLOOKUP(B78,'Preus Unitaris'!$B$2:$G$1058,3,FALSE) -> INSTAL·LACIÓ DE CABLE DE CONDUCTOR DE COURE AMB AÏLLAMENT DE PLÀSTIC, DE SECCIÓ 1x6 mm2 PER PRESES DE TERRA. | E78: ='Amidaments Generals'!D74 -> 30 | F78: =VLOOKUP(B78,'Preus Unitaris'!$B$2:$G$1058,4,FALSE) -> 0.756 | G78: =VLOOKUP(B78,'Preus Unitaris'!$B$2:$G$1058,5,FALSE) -> 0.14 | H78: =VLOOKUP(B78,'Preus Unitaris'!$B$2:$G$1058,6,FALSE) -> 0.9 | I78: =ROUND(E78*H78,2) -> 27
B79: ='Preus Unitaris'!B77 -> I-005 | C79: =VLOOKUP(B79,'Preus Unitaris'!$B$2:$G$1058,2,FALSE) -> ML | D79: =VLOOKUP(B79,'Preus Unitaris'!$B$2:$G$1058,3,FALSE) -> SUBMINISTRAMENT DE CABLE DE CONDUCTOR DE COURE EPTAFILAR NU, DE SECCIÓ 1x35 mm2. | E79: ='Amidaments Generals'!D75 -> 5 | F79: =VLOOKUP(B79,'Preus Unitaris'!$B$2:$G$1058,4,FALSE) -> 3.782 | G79: =VLOOKUP(B79,'Preus Unitaris'!$B$2:$G$1058,5,FALSE) -> 0.72 | H79: =VLOOKUP(B79,'Preus Unitaris'!$B$2:$G$1058,6,FALSE) -> 4.5 | I79: =ROUND(E79*H79,2) -> 22.5
B80: ='Preus Unitaris'!B78 -> I-006 | C80: =VLOOKUP(B80,'Preus Unitaris'!$B$2:$G$1058,2,FALSE) -> ML | D80: =VLOOKUP(B80,'Preus Unitaris'!$B$2:$G$1058,3,FALSE) -> INSTAL·LACIÓ DE CABLE DE CONDUCTOR DE COURE EPTAFILAR NU, DE SECCIÓ 1x35 mm2. | E80: ='Amidaments Generals'!D76 -> 5 | F80: =VLOOKUP(B80,'Preus Unitaris'!$B$2:$G$1058,4,FALSE) -> 0.756 | G80: =VLOOKUP(B80,'Preus Unitaris'!$B$2:$G$1058,5,FALSE) -> 0.14 | H80: =VLOOKUP(B80,'Preus Unitaris'!$B$2:$G$1058,6,FALSE) -> 0.9 | I80: =ROUND(E80*H80,2) -> 4.5
B81: ='Preus Unitaris'!B79 -> I-007 | C81: =VLOOKUP(B81,'Preus Unitaris'!$B$2:$G$1058,2,FALSE) -> ML | D81: =VLOOKUP(B81,'Preus Unitaris'!$B$2:$G$1058,3,FALSE) -> SUBMINISTRAMENT DE CABLE DE COURE RV-K 0,6/1KV DE 3X6 MM2. | E81: ='Amidaments Generals'!D77 -> 30 | F81: =VLOOKUP(B81,'Preus Unitaris'!$B$2:$G$1058,4,FALSE) -> 2.395 | G81: =VLOOKUP(B81,'Preus Unitaris'!$B$2:$G$1058,5,FALSE) -> 0.46 | H81: =VLOOKUP(B81,'Preus Unitaris'!$B$2:$G$1058,6,FALSE) -> 2.85 | I81: =ROUND(E81*H81,2) -> 85.5
B82: ='Preus Unitaris'!B80 -> I-008 | C82: =VLOOKUP(B82,'Preus Unitaris'!$B$2:$G$1058,2,FALSE) -> ML | D82: =VLOOKUP(B82,'Preus Unitaris'!$B$2:$G$1058,3,FALSE) -> INSTAL·LACIÓ DE CABLE DE COURE RV-K 0,6/1KV DE 3X6 MM2. | E82: ='Amidaments Generals'!D78 -> 30 | F82: =VLOOKUP(B82,'Preus Unitaris'!$B$2:$G$1058,4,FALSE) -> 0.756 | G82: =VLOOKUP(B82,'Preus Unitaris'!$B$2:$G$1058,5,FALSE) -> 0.14 | H82: =VLOOKUP(B82,'Preus Unitaris'!$B$2:$G$1058,6,FALSE) -> 0.9 | I82: =ROUND(E82*H82,2) -> 27
B83: ='Preus Unitaris'!B81 -> I-009 | C83: =VLOOKUP(B83,'Preus Unitaris'!$B$2:$G$1058,2,FALSE) -> ML | D83: =VLOOKUP(B83,'Preus Unitaris'!$B$2:$G$1058,3,FALSE) -> SUBMINISTRAMENT DE CABLE DE COURE RV-K 0,6/1KV DE 3X10 MM2. | E83: ='Amidaments Generals'!D79 -> 0 | F83: =VLOOKUP(B83,'Preus Unitaris'!$B$2:$G$1058,4,FALSE) -> 3.025 | G83: =VLOOKUP(B83,'Preus Unitaris'!$B$2:$G$1058,5,FALSE) -> 0.57 | H83: =VLOOKUP(B83,'Preus Unitaris'!$B$2:$G$1058,6,FALSE) -> 3.6 | I83: =ROUND(E83*H83,2) -> 0
B84: ='Preus Unitaris'!B82 -> I-010 | C84: =VLOOKUP(B84,'Preus Unitaris'!$B$2:$G$1058,2,FALSE) -> ML | D84: =VLOOKUP(B84,'Preus Unitaris'!$B$2:$G$1058,3,FALSE) -> INSTAL·LACIÓ DE CABLE DE COURE RV-K 0,6/1KV DE 3X10 MM2. | E84: ='Amidaments Generals'!D80 -> 0 | F84: =VLOOKUP(B84,'Preus Unitaris'!$B$2:$G$1058,4,FALSE) -> 0.756 | G84: =VLOOKUP(B84,'Preus Unitaris'!$B$2:$G$1058,5,FALSE) -> 0.14 | H84: =VLOOKUP(B84,'Preus Unitaris'!$B$2:$G$1058,6,FALSE) -> 0.9 | I84: =ROUND(E84*H84,2) -> 0
B85: ='Preus Unitaris'!B83 -> I-011 | C85: =VLOOKUP(B85,'Preus Unitaris'!$B$2:$G$1058,2,FALSE) -> UT | D85: =VLOOKUP(B85,'Preus Unitaris'!$B$2:$G$1058,3,FALSE) -> TREBALLS PER A LA REALITZACIÓ DE L'ALIMENTACIÓ DEL PUNT DE CONTROL, D'ACORD AMB EL QUE INDICA EL PLEC. | E85: ='Amidaments Generals'!D81 -> 1 | F85: =VLOOKUP(B85,'Preus Unitaris'!$B$2:$G$1058,4,FALSE) -> 605.042 | G85: =VLOOKUP(B85,'Preus Unitaris'!$B$2:$G$1058,5,FALSE) -> 114.96 | H85: =VLOOKUP(B85,'Preus Unitaris'!$B$2:$G$1058,6,FALSE) -> 720 | I85: =ROUND(E85*H85,2) -> 720
B86: ='Preus Unitaris'!B84 -> I-012 | C86: =VLOOKUP(B86,'Preus Unitaris'!$B$2:$G$1058,2,FALSE) -> UT | D86: =VLOOKUP(B86,'Preus Unitaris'!$B$2:$G$1058,3,FALSE) -> ESCOMESA ELÈCTRICA. REALITZACIÓ DE NOVA ESCOMESA EN ENTORN URBÀ. INCLOU: ARMARI PER ESCOMESA COMPANYIA, PREFABRICAT DSPD-CDU/PEANA I PINTAT, AMB CAIXA DE DISTRIBUCIÓ CDU 400, CANALERA DE 630A I FUSIBLE CUCHILLA BT F CU2/400 A ETU-6303B Gg, AMB CAIXA MÒDUL COMPTADOR PNZ-C2727. ARMARI PER SORTIDES A CONSUMS, PER INTEMPÈRIE, EN PLANXA D'ACER GALVANITZAT EN CALENT I PINTAT, DE DIMENSIONS APROX. 1200x600x320 mm I DE 1,2 mm DE GRUIX, AMB PLACA DE MUNTATGE, PANY AMB CLAU I ACCESSORIS NECESSARIS (CANALETES, CARRIL DIN, PREMSAESTOPES, FIXACIONS, ...) I PETIT MATERIAL NECESSARI PER A LA CORRECTE EXECUCIÓ. INCLOU TOTS ELS TREBALLS (COM FORAT ARMARI CDU, ...) EXCEPTE OBRA CIVIL, RECURSOS (TRANSPORTS CAMIÓ GRUA I MA D'OBRA, ...) I FEINES NECESSÀRIES PER A LA CORRECTE EXECUCIÓ. | E86: ='Amidaments Generals'!D82 -> 0 | F86: =VLOOKUP(B86,'Preus Unitaris'!$B$2:$G$1058,4,FALSE) -> 4159.664 | G86: =VLOOKUP(B86,'Preus Unitaris'!$B$2:$G$1058,5,FALSE) -> 790.34 | H86: =VLOOKUP(B86,'Preus Unitaris'!$B$2:$G$1058,6,FALSE) -> 4950 | I86: =ROUND(E86*H86,2) -> 0
D87: Subtotal Instal·lació Elèctrica | I87: =SUM(I75:I86) -> 1320.5
B88: ='Preus Unitaris'!B88 -> COMUNICACIONS
B89: ='Preus Unitaris'!B89 -> F-001 | C89: =VLOOKUP(B89,'Preus Unitaris'!$B$2:$G$1058,2,FALSE) -> ML | D89: =VLOOKUP(B89,'Preus Unitaris'!$B$2:$G$1058,3,FALSE) -> SUBMINISTRAMENT I INSTAL·LACIÓ DE CABLE DE 8 FO MONOMODE B1.1, SEGONS EN 186000. ARMAT. AMB PROTECCIÓ D'ARAMIDA, ARMADURA METÀL·LICA I COBERTA EXTERIOR DE POLIETILÈ, SEGONS ESPECIFICACIONS DE L'AJUNTAMENT. | E89: ='Amidaments Generals'!D86 -> 0 | F89: =VLOOKUP(B89,'Preus Unitaris'!$B$2:$G$1058,4,FALSE) -> 2.185 | G89: =VLOOKUP(B89,'Preus Unitaris'!$B$2:$G$1058,5,FALSE) -> 0.42 | H89: =VLOOKUP(B89,'Preus Unitaris'!$B$2:$G$1058,6,FALSE) -> 2.6 | I89: =ROUND(E89*H89,2) -> 0
B90: ='Preus Unitaris'!B90 -> F-002 | C90: =VLOOKUP(B90,'Preus Unitaris'!$B$2:$G$1058,2,FALSE) -> ML | D90: =VLOOKUP(B90,'Preus Unitaris'!$B$2:$G$1058,3,FALSE) -> SUBMINISTRAMENT I INSTAL·LACIÓ DE CABLE DE 16 FO MONOMODE B1.1, SEGONS EN 186000. ARMAT. AMB PROTECCIÓ D'ARAMIDA, ARMADURA METÀL·LICA I COBERTA EXTERIOR DE POLIETILÈ, SEGONS ESPECIFICACIONS DE L'AJUNTAMENT. | E90: ='Amidaments Generals'!D87 -> 0 | F90: =VLOOKUP(B90,'Preus Unitaris'!$B$2:$G$1058,4,FALSE) -> 2.437 | G90: =VLOOKUP(B90,'Preus Unitaris'!$B$2:$G$1058,5,FALSE) -> 0.46 | H90: =VLOOKUP(B90,'Preus Unitaris'!$B$2:$G$1058,6,FALSE) -> 2.9 | I90: =ROUND(E90*H90,2) -> 0
B91: ='Preus Unitaris'!B91 -> F-003 | C91: =VLOOKUP(B91,'Preus Unitaris'!$B$2:$G$1058,2,FALSE) -> ML | D91: =VLOOKUP(B91,'Preus Unitaris'!$B$2:$G$1058,3,FALSE) -> SUBMINISTRAMENT I INSTAL·LACIÓ DE CABLE DE 24 FO MONOMODE B1.1, SEGONS EN 186000. ARMAT. AMB PROTECCIÓ D'ARAMIDA, ARMADURA METÀL·LICA I COBERTA EXTERIOR DE POLIETILÈ, SEGONS ESPECIFICACIONS DE L'AJUNTAMENT. | E91: ='Amidaments Generals'!D88 -> 550 | F91: =VLOOKUP(B91,'Preus Unitaris'!$B$2:$G$1058,4,FALSE) -> 2.857 | G91: =VLOOKUP(B91,'Preus Unitaris'!$B$2:$G$1058,5,FALSE) -> 0.54 | H91: =VLOOKUP(B91,'Preus Unitaris'!$B$2:$G$1058,6,FALSE) -> 3.4 | I91: =ROUND(E91*H91,2) -> 1870
B92: ='Preus Unitaris'!B92 -> F-004 | C92: =VLOOKUP(B92,'Preus Unitaris'!$B$2:$G$1058,2,FALSE) -> ML | D92: =VLOOKUP(B92,'Preus Unitaris'!$B$2:$G$1058,3,FALSE) -> SUBMINISTRAMENT I INSTAL·LACIÓ DE CABLE DE 48 FO MONOMODE B1.1, SEGONS EN 186000. ARMAT. AMB PROTECCIÓ D'ARAMIDA, ARMADURA METÀL·LICA I COBERTA EXTERIOR DE POLIETILÈ, SEGONS ESPECIFICACIONS DE L'AJUNTAMENT. | E92: ='Amidaments Generals'!D89 -> 0 | F92: =VLOOKUP(B92,'Preus Unitaris'!$B$2:$G$1058,4,FALSE) -> 4.958 | G92: =VLOOKUP(B92,'Preus Unitaris'!$B$2:$G$1058,5,FALSE) -> 0.94 | H92: =VLOOKUP(B92,'Preus Unitaris'!$B$2:$G$1058,6,FALSE) -> 5.9 | I92: =ROUND(E92*H92,2) -> 0
B93: ='Preus Unitaris'!B93 -> F-005 | C93: =VLOOKUP(B93,'Preus Unitaris'!$B$2:$G$1058,2,FALSE) -> ML | D93: =VLOOKUP(B93,'Preus Unitaris'!$B$2:$G$1058,3,FALSE) -> SUBMINISTRAMENT I INSTAL·LACIÓ DE CABLE DE 96 FO MONOMODE B1.1, SEGONS EN 186000. ARMAT. AMB PROTECCIÓ D'ARAMIDA, ARMADURA METÀL·LICA I COBERTA EXTERIOR DE POLIETILÈ, SEGONS ESPECIFICACIONS DE L'AJUNTAMENT. | E93: ='Amidaments Generals'!D90 -> 0 | F93: =VLOOKUP(B93,'Preus Unitaris'!$B$2:$G$1058,4,FALSE) -> 7.059 | G93: =VLOOKUP(B93,'Preus Unitaris'!$B$2:$G$1058,5,FALSE) -> 1.34 | H93: =VLOOKUP(B93,'Preus Unitaris'!$B$2:$G$1058,6,FALSE) -> 8.4 | I93: =ROUND(E93*H93,2) -> 0
B94: ='Preus Unitaris'!B94 -> F-006 | C94: =VLOOKUP(B94,'Preus Unitaris'!$B$2:$G$1058,2,FALSE) -> UT | D94: =VLOOKUP(B94,'Preus Unitaris'!$B$2:$G$1058,3,FALSE) -> FUSIÓ EN RECTE DE 1 FO MONOMODE. INCLOU PIG·TAIL, CONNECTORS I ADAPTADORS, AIXÍ COM LES MESURES DE RETROESPARCIMENT I POTÈNCIA. SEGONS ESPECIFICACIONS AJUTAMENT. | E94: ='Amidaments Generals'!D91 -> 8 | F94: =VLOOKUP(B94,'Preus Unitaris'!$B$2:$G$1058,4,FALSE) -> 54.622 | G94: =VLOOKUP(B94,'Preus Unitaris'!$B$2:$G$1058,5,FALSE) -> 10.38 | H94: =VLOOKUP(B94,'Preus Unitaris'!$B$2:$G$1058,6,FALSE) -> 65 | I94: =ROUND(E94*H94,2) -> 520
B95: ='Preus Unitaris'!B95 -> F-007 | C95: =VLOOKUP(B95,'Preus Unitaris'!$B$2:$G$1058,2,FALSE) -> UT | D95: =VLOOKUP(B95,'Preus Unitaris'!$B$2:$G$1058,3,FALSE) -> MESURES DE FIBRA ÒPTICA. FINS A 4 FUSIONS | E95: ='Amidaments Generals'!D92 -> 2 | F95: =VLOOKUP(B95,'Preus Unitaris'!$B$2:$G$1058,4,FALSE) -> 163.866 | G95: =VLOOKUP(B95,'Preus Unitaris'!$B$2:$G$1058,5,FALSE) -> 31.13 | H95: =VLOOKUP(B95,'Preus Unitaris'!$B$2:$G$1058,6,FALSE) -> 195 | I95: =ROUND(E95*H95,2) -> 390
B96: ='Preus Unitaris'!B96 -> F-008 | C96: =VLOOKUP(B96,'Preus Unitaris'!$B$2:$G$1058,2,FALSE) -> UT | D96: =VLOOKUP(B96,'Preus Unitaris'!$B$2:$G$1058,3,FALSE) -> SUBMINISTRAMENT I INSTAL·LACIÓ DE CAIXA REPARTIDORA ÒPTICA DE 6 CONNECTORS, INCLOSOS PIG-TAILS | E96: ='Amidaments Generals'!D93 -> 2 | F96: =VLOOKUP(B96,'Preus Unitaris'!$B$2:$G$1058,4,FALSE) -> 294.118 | G96: =VLOOKUP(B96,'Preus Unitaris'!$B$2:$G$1058,5,FALSE) -> 55.88 | H96: =VLOOKUP(B96,'Preus Unitaris'!$B$2:$G$1058,6,FALSE) -> 350 | I96: =ROUND(E96*H96,2) -> 700
B97: ='Preus Unitaris'!B97 -> F-009 | C97: =VLOOKUP(B97,'Preus Unitaris'!$B$2:$G$1058,2,FALSE) -> UT | D97: =VLOOKUP(B97,'Preus Unitaris'!$B$2:$G$1058,3,FALSE) -> SUBMINISTRAMENT I INSTAL·LACIÓ DE PIGTAIL DE FO MONOMODE FINS A 2 m, INCLÚS FUSIÓ I CONNECTOR. SEGONS ESPECIFICACIONS AJUNTMENT. | E97: ='Amidaments Generals'!D94 -> 0 | F97: =VLOOKUP(B97,'Preus Unitaris'!$B$2:$G$1058,4,FALSE) -> 12.605 | G97: =VLOOKUP(B97,'Preus Unitaris'!$B$2:$G$1058,5,FALSE) -> 2.39 | H97: =VLOOKUP(B97,'Preus Unitaris'!$B$2:$G$1058,6,FALSE) -> 15 | I97: =ROUND(E97*H97,2) -> 0
B98: ='Preus Unitaris'!B98 -> F-010 | C98: =VLOOKUP(B98,'Preus Unitaris'!$B$2:$G$1058,2,FALSE) -> UT | D98: =VLOOKUP(B98,'Preus Unitaris'!$B$2:$G$1058,3,FALSE) -> SUBMINISTRAMENT I INSTAL·LACIÓ DE FUETÓ DE FO MONOMODE FINS A 2 m, INCLÚS CONNECTORS. SEGONS ESPECIFICACIONS AJUNTAMENT. | E98: ='Amidaments Generals'!D95 -> 4 | F98: =VLOOKUP(B98,'Preus Unitaris'!$B$2:$G$1058,4,FALSE) -> 21.849 | G98: =VLOOKUP(B98,'Preus Unitaris'!$B$2:$G$1058,5,FALSE) -> 4.15 | H98: =VLOOKUP(B98,'Preus Unitaris'!$B$2:$G$1058,6,FALSE) -> 26 | I98: =ROUND(E98*H98,2) -> 104
B99: ='Preus Unitaris'!B99 -> F-011 | C99: =VLOOKUP(B99,'Preus Unitaris'!$B$2:$G$1058,2,FALSE) -> ML | D99: =VLOOKUP(B99,'Preus Unitaris'!$B$2:$G$1058,3,FALSE) -> SUBMINISTRAMENT I INSTAL·LACIÓ DE CABLATGE ESTRUCTURAT STP CAT 6A PER EXTERIORS, INCLÚS CONNECTORS I CERTIFICACIÓ DEL PUNTS. | E99: ='Amidaments Generals'!D96 -> 0 | F99: =VLOOKUP(B99,'Preus Unitaris'!$B$2:$G$1058,4,FALSE) -> 1.933 | G99: =VLOOKUP(B99,'Preus Unitaris'!$B$2:$G$1058,5,FALSE) -> 0.37 | H99: =VLOOKUP(B99,'Preus Unitaris'!$B$2:$G$1058,6,FALSE) -> 2.3 | I99: =ROUND(E99*H99,2) -> 0
B100: ='Preus Unitaris'!B100 -> F-012 | C100: =VLOOKUP(B100,'Preus Unitaris'!$B$2:$G$1058,2,FALSE) -> UT | D100: =VLOOKUP(B100,'Preus Unitaris'!$B$2:$G$1058,3,FALSE) -> SUBMINISTRAMENT I INSTAL·LACIÓ DE CAIXA D'EMPIULAMENT FO FINS A 288 FUSIONS | E100: ='Amidaments Generals'!D97 -> 0 | F100: =VLOOKUP(B100,'Preus Unitaris'!$B$2:$G$1058,4,FALSE) -> 315.126 | G100: =VLOOKUP(B100,'Preus Unitaris'!$B$2:$G$1058,5,FALSE) -> 59.87 | H100: =VLOOKUP(B100,'Preus Unitaris'!$B$2:$G$1058,6,FALSE) -> 375 | I100: =ROUND(E100*H100,2) -> 0
B101: ='Preus Unitaris'!B101 -> F-013 | C101: =VLOOKUP(B101,'Preus Unitaris'!$B$2:$G$1058,2,FALSE) -> UT | D101: =VLOOKUP(B101,'Preus Unitaris'!$B$2:$G$1058,3,FALSE) -> SUBMINISTRAMENT I INSTAL·LACIÓ DE TRANSCEPTOR SFP MONOMODE, CISCO GLC-LH-SMD, INCLOSA LLICÈNCIA, O 100% EQUIVALENT I COMPATIBLE AMB LA XARXA DE L'AJUNTAMENT | E101: ='Amidaments Generals'!D98 -> 2 | F101: =VLOOKUP(B101,'Preus Unitaris'!$B$2:$G$1058,4,FALSE) -> 273.109 | G101: =VLOOKUP(B101,'Preus Unitaris'!$B$2:$G$1058,5,FALSE) -> 51.89 | H101: =VLOOKUP(B101,'Preus Unitaris'!$B$2:$G$1058,6,FALSE) -> 325 | I101: =ROUND(E101*H101,2) -> 650
D102: Subtotal Comunicacions | I102: =SUM(I89:I101) -> 4234
B104: SENYALITZACIÓ
B105: ='Preus Unitaris'!B105 -> S-001 | C105: =VLOOKUP(B105,'Preus Unitaris'!$B$2:$G$1058,2,FALSE) -> UT | D105: =VLOOKUP(B105,'Preus Unitaris'!$B$2:$G$1058,3,FALSE) -> SUBMINISTRAMENT DE SENYAL DE "CONTROL FOTOGRÀFIC". SENYAL D´ACER GALVANITZAT REFLECTANT DE NIVELL 2 DE 1,8 MM DE GRUIX, DE DIÀMETRE 60 CM SEGONS NORMES. INCLÒS ELEMENTS DE SUSTENTACIÓ I FIXACIÓ. | E105: ='Amidaments Generals'!D101 -> 1 | F105: =VLOOKUP(B105,'Preus Unitaris'!$B$2:$G$1058,4,FALSE) -> 63.025 | G105: =VLOOKUP(B105,'Preus Unitaris'!$B$2:$G$1058,5,FALSE) -> 11.97 | H105: =VLOOKUP(B105,'Preus Unitaris'!$B$2:$G$1058,6,FALSE) -> 75 | I105: =ROUND(E105*H105,2) -> 75
B106: ='Preus Unitaris'!B106 -> S-002 | C106: =VLOOKUP(B106,'Preus Unitaris'!$B$2:$G$1058,2,FALSE) -> UT | D106: =VLOOKUP(B106,'Preus Unitaris'!$B$2:$G$1058,3,FALSE) -> SUBMINISTRAMENT DE SENYAL INFORMATIU DE ZONA VIDEOVIGILADA. SENYAL D´ACER GALVANITZAT REFLECTANT DE NIVELL 2 DE 1,8 MM DE GRUIX, DE DIMENSIONS 90x60 CM SEGONS NORMES. INCLÒS ELEMENTS DE SUSTENTACIÓ I FIXACIÓ. | E106: ='Amidaments Generals'!D102 -> 3 | F106: =VLOOKUP(B106,'Preus Unitaris'!$B$2:$G$1058,4,FALSE) -> 100.84 | G106: =VLOOKUP(B106,'Preus Unitaris'!$B$2:$G$1058,5,FALSE) -> 19.16 | H106: =VLOOKUP(B106,'Preus Unitaris'!$B$2:$G$1058,6,FALSE) -> 120 | I106: =ROUND(E106*H106,2) -> 360
B107: ='Preus Unitaris'!B107 -> S-003 | C107: =VLOOKUP(B107,'Preus Unitaris'!$B$2:$G$1058,2,FALSE) -> UT | D107: =VLOOKUP(B107,'Preus Unitaris'!$B$2:$G$1058,3,FALSE) -> INSTAL·LACIÓ DE SENYAL VERTICAL. INCLÒS ELEMENTS DE SUSTENTACIÓ I FIXACIÓ. | E107: ='Amidaments Generals'!D103 -> 4 | F107: =VLOOKUP(B107,'Preus Unitaris'!$B$2:$G$1058,4,FALSE) -> 33.613 | G107: =VLOOKUP(B107,'Preus Unitaris'!$B$2:$G$1058,5,FALSE) -> 6.39 | H107: =VLOOKUP(B107,'Preus Unitaris'!$B$2:$G$1058,6,FALSE) -> 40 | I107: =ROUND(E107*H107,2) -> 160
B108: ='Preus Unitaris'!B108 -> S-004 | C108: =VLOOKUP(B108,'Preus Unitaris'!$B$2:$G$1058,2,FALSE) -> UT | D108: =VLOOKUP(B108,'Preus Unitaris'!$B$2:$G$1058,3,FALSE) -> SUBMINISTRAMENT DE PAL METÀL·LIC PER SUPORTACIÓ DE SENYALITZACIÓ VERTICAL, SEGONS NORMATIVA AJUNTAMENT. | E108: ='Amidaments Generals'!D104 -> 0 | F108: =VLOOKUP(B108,'Preus Unitaris'!$B$2:$G$1058,4,FALSE) -> 44.118 | G108: =VLOOKUP(B108,'Preus Unitaris'!$B$2:$G$1058,5,FALSE) -> 8.38 | H108: =VLOOKUP(B108,'Preus Unitaris'!$B$2:$G$1058,6,FALSE) -> 52.5 | I108: =ROUND(E108*H108,2) -> 0
B109: ='Preus Unitaris'!B109 -> S-005 | C109: =VLOOKUP(B109,'Preus Unitaris'!$B$2:$G$1058,2,FALSE) -> UT | D109: =VLOOKUP(B109,'Preus Unitaris'!$B$2:$G$1058,3,FALSE) -> INSTAL·LACIÓ DE PAL METÀL·LIC PER SUPORTACIÓ DE SENYALITZACIÓ VERTICAL, SEGONS NORMATIVA AJUNTAMENT, INCLOSOS TREBALLS D'OBRA CIVIL NECESSARIS. | E109: ='Amidaments Generals'!D105 -> 0 | F109: =VLOOKUP(B109,'Preus Unitaris'!$B$2:$G$1058,4,FALSE) -> 39.13 | G109: =VLOOKUP(B109,'Preus Unitaris'!$B$2:$G$1058,5,FALSE) -> 7.43 | H109: =VLOOKUP(B109,'Preus Unitaris'!$B$2:$G$1058,6,FALSE) -> 46.565 | I109: =ROUND(E109*H109,2) -> 0
B110: ='Preus Unitaris'!B110 -> S-006 | C110: =VLOOKUP(B110,'Preus Unitaris'!$B$2:$G$1058,2,FALSE) -> UT | D110: =VLOOKUP(B110,'Preus Unitaris'!$B$2:$G$1058,3,FALSE) -> SUBMINISTRAMENT I INSTAL·LACIÓ DE FITÓ FLEXIBLE DE SENYALITZACIÓ. | E110: ='Amidaments Generals'!D106 -> 0 | F110: =VLOOKUP(B110,'Preus Unitaris'!$B$2:$G$1058,4,FALSE) -> 50.42 | G110: =VLOOKUP(B110,'Preus Unitaris'!$B$2:$G$1058,5,FALSE) -> 9.58 | H110: =VLOOKUP(B110,'Preus Unitaris'!$B$2:$G$1058,6,FALSE) -> 60 | I110: =ROUND(E110*H110,2) -> 0
D111: Subtotal Senyalització | I111: =SUM(I105:I110) -> 595
D114: =CONCATENATE("TOTAL PRESSUPOST EXECUCIÓ ",B2) -> TOTAL PRESSUPOST EXECUCIÓ PdC-01 | I114: =SUM(I6:I111)/2 -> 27332.5
D117: =CONCATENATE("RESUM PRESSUPOST ",B2) -> RESUM PRESSUPOST PdC-01
D118: =B6 -> EQUIPAMENT PUNT DE CONTROL | I118: =I45 -> 16854
D119: =B47 -> OBRA CIVIL | I119: =I72 -> 4329
D120: INSTAL·LACIÓ ELÈCTRICA | I120: =I87 -> 1320.5
D121: COMUNICACIONS | I121: =I102 -> 4234
D122: =B104 -> SENYALITZACIÓ | I122: =I111 -> 595
D123: =D114 -> TOTAL PRESSUPOST EXECUCIÓ PdC-01 | I123: =SUM(I118:I122) -> 27332.5
D124: IVA | E124: 0.21 | I124: =ROUND(I123*E124,2) -> 5739.83
D125: =CONCATENATE(D114, " IVA inclòs") -> TOTAL PRESSUPOST EXECUCIÓ PdC-01 IVA inclòs | I125: =SUM(I123:I124) -> 33072.33
A128: NOTA: | B128: Els preus unitaris duen incorporats les parts proporcionals Despeses Generals, Benefici Industrial
B129: i qualsevol altre que sigui necessari per a la correcte execució de les unitats d'obra.

Sheet ZBE-02
F1: ocultar | G1: ocultar
B2: ='Amidaments Generals'!E5 -> PdC-02 | D2: ='[1]RESUM PPOST GRAL'!L9 -> C/ Joan Plans – Rda. Ponent
B4: CODI | C4: UNITAT MESURA | D4: CONCEPTE / DENOMINACIÓ | E4: AMIDAMENT | F4: PREU UNITARI PEM | G4: BI+DG | H4: PREU UNITARI PEC | I4: PREU TOTAL
B6: EQUIPAMENT PUNT DE CONTROL
B7: ='Preus Unitaris'!B7 -> E-001 | C7: =VLOOKUP(B7,'Preus Unitaris'!$B$2:$G$1058,2,FALSE) -> UT | D7: =VLOOKUP(B7,'Preus Unitaris'!$B$2:$G$1058,3,FALSE) -> SUBMINISTRAMENT D'EQUIP COMPACTE DE RECONEIXEMENT DE MATRÍCULES, FORMAT PER CONJUNT DE CÀMERA LPR 2 CARRILS HD, CÀMERA DE CONTEXT A COLOR I IL·LUMINADOR IR PER A ZONA D’INFRACCIONS. INCLOU LLICÈNCIA OCR, CARCASSA, BRAÇ I ADAPTACIÓ A SUPORT. | E7: ='Amidaments Generals'!E7 -> 1 | F7: =VLOOKUP(B7,'Preus Unitaris'!$B$2:$G$1058,4,FALSE) -> 6369.748 | G7: =VLOOKUP(B7,'Preus Unitaris'!$B$2:$G$1058,5,FALSE) -> 1210.25 | H7: =VLOOKUP(B7,'Preus Unitaris'!$B$2:$G$1058,6,FALSE) -> 7580 | I7: =ROUND(E7*H7,2) -> 7580
B8: ='Preus Unitaris'!B8 -> E-002 | C8: =VLOOKUP(B8,'Preus Unitaris'!$B$2:$G$1058,2,FALSE) -> UT | D8: =VLOOKUP(B8,'Preus Unitaris'!$B$2:$G$1058,3,FALSE) -> INSTAL·LACIÓ D'EQUIP COMPACTE DE RECONEIXEMENT DE MATRÍCULES, FORMAT PER CONJUNT DE CÀMERA LPR 2 CARRILS HD, CÀMERA DE CONTEXT A COLOR I IL·LUMINADOR IR PER A ZONA D’INFRACCIONS. INCLOU LLICÈNCIA OCR, CARCASSA, BRAÇ I ADAPTACIÓ A SUPORT. | E8: ='Amidaments Generals'!E8 -> 1 | F8: =VLOOKUP(B8,'Preus Unitaris'!$B$2:$G$1058,4,FALSE) -> 315.126 | G8: =VLOOKUP(B8,'Preus Unitaris'!$B$2:$G$1058,5,FALSE) -> 59.87 | H8: =VLOOKUP(B8,'Preus Unitaris'!$B$2:$G$1058,6,FALSE) -> 375 | I8: =ROUND(E8*H8,2) -> 375
B9: ='Preus Unitaris'!B9 -> E-003 | C9: =VLOOKUP(B9,'Preus Unitaris'!$B$2:$G$1058,2,FALSE) -> UT | D9: =VLOOKUP(B9,'Preus Unitaris'!$B$2:$G$1058,3,FALSE) -> SUBMINISTRAMENT DE FONT D'ALIMENTACIÓ 48V TIPUS INDUSTRIAL, PER MUNTATGE EN CARRIL DIN, PER ALIMENTAR FINS A 4 CÀMERES PUNT DE CONTROL. | E9: ='Amidaments Generals'!E9 -> 1 | F9: =VLOOKUP(B9,'Preus Unitaris'!$B$2:$G$1058,4,FALSE) -> 134.454 | G9: =VLOOKUP(B9,'Preus Unitaris'!$B$2:$G$1058,5,FALSE) -> 25.55 | H9: =VLOOKUP(B9,'Preus Unitaris'!$B$2:$G$1058,6,FALSE) -> 160 | I9: =ROUND(E9*H9,2) -> 160
B10: ='Preus Unitaris'!B10 -> E-004 | C10: =VLOOKUP(B10,'Preus Unitaris'!$B$2:$G$1058,2,FALSE) -> UT | D10: =VLOOKUP(B10,'Preus Unitaris'!$B$2:$G$1058,3,FALSE) -> INSTAL·LACIÓ DE FONT D'ALIMENTACIÓ 48V TIPUS INDUSTRIAL, PER MUNTATGE EN CARRIL DIN, PER ALIMENTAR FINS A 4 CÀMERES PUNT DE CONTROL. | E10: ='Amidaments Generals'!E10 -> 1 | F10: =VLOOKUP(B10,'Preus Unitaris'!$B$2:$G$1058,4,FALSE) -> 29.412 | G10: =VLOOKUP(B10,'Preus Unitaris'!$B$2:$G$1058,5,FALSE) -> 5.59 | H10: =VLOOKUP(B10,'Preus Unitaris'!$B$2:$G$1058,6,FALSE) -> 35 | I10: =ROUND(E10*H10,2) -> 35
B11: ='Preus Unitaris'!B11 -> E-005 | C11: =VLOOKUP(B11,'Preus Unitaris'!$B$2:$G$1058,2,FALSE) -> UT | D11: =VLOOKUP(B11,'Preus Unitaris'!$B$2:$G$1058,3,FALSE) -> SUBMINISTRAMENT DE FONT D'ALIMENTACIÓ 24V TIPUS INDUSTRIAL, PER MUNTATGE EN CARRIL DIN. | E11: ='Amidaments Generals'!E11 -> 0 | F11: =VLOOKUP(B11,'Preus Unitaris'!$B$2:$G$1058,4,FALSE) -> 45.378 | G11: =VLOOKUP(B11,'Preus Unitaris'!$B$2:$G$1058,5,FALSE) -> 8.62 | H11: =VLOOKUP(B11,'Preus Unitaris'!$B$2:$G$1058,6,FALSE) -> 54 | I11: =ROUND(E11*H11,2) -> 0
B12: ='Preus Unitaris'!B12 -> E-006 | C12: =VLOOKUP(B12,'Preus Unitaris'!$B$2:$G$1058,2,FALSE) -> UT | D12: =VLOOKUP(B12,'Preus Unitaris'!$B$2:$G$1058,3,FALSE) -> INSTAL·LACIÓ DE FONT D'ALIMENTACIÓ 24V TIPUS INDUSTRIAL, PER MUNTATGE EN CARRIL DIN. | E12: ='Amidaments Generals'!E12 -> 0 | F12: =VLOOKUP(B12,'Preus Unitaris'!$B$2:$G$1058,4,FALSE) -> 11.765 | G12: =VLOOKUP(B12,'Preus Unitaris'!$B$2:$G$1058,5,FALSE) -> 2.24 | H12: =VLOOKUP(B12,'Preus Unitaris'!$B$2:$G$1058,6,FALSE) -> 14 | I12: =ROUND(E12*H12,2) -> 0
B13: ='Preus Unitaris'!B13 -> E-007 | C13: =VLOOKUP(B13,'Preus Unitaris'!$B$2:$G$1058,2,FALSE) -> UT | D13: =VLOOKUP(B13,'Preus Unitaris'!$B$2:$G$1058,3,FALSE) -> SUBMINISTRAMENT DE SWITCH DE COMUNICACIÓ PER SISTEMA DE VISIÓ ARTIFICIAL, TIPUS INDUSTRIAL, GESTIONABLE, AMB 8 PORTS PoE (802.3at i 802.3bt), INCLOSOS FUETONS DE CONNEXIÓ, COMPATIBLE AMB EL SISTEMA DE COMUNICACIONS DE L'AJUNTAMENT. | E13: ='Amidaments Generals'!E13 -> 0 | F13: =VLOOKUP(B13,'Preus Unitaris'!$B$2:$G$1058,4,FALSE) -> 987.395 | G13: =VLOOKUP(B13,'Preus Unitaris'!$B$2:$G$1058,5,FALSE) -> 187.61 | H13: =VLOOKUP(B13,'Preus Unitaris'!$B$2:$G$1058,6,FALSE) -> 1175 | I13: =ROUND(E13*H13,2) -> 0
B14: ='Preus Unitaris'!B14 -> E-008 | C14: =VLOOKUP(B14,'Preus Unitaris'!$B$2:$G$1058,2,FALSE) -> UT | D14: =VLOOKUP(B14,'Preus Unitaris'!$B$2:$G$1058,3,FALSE) -> INSTAL·LACIÓ I CONFIGURACIÓ DE SWITCH DE COMUNICACIÓ PER SISTEMA DE VISIÓ ARTIFICIAL, TIPUS INDUSTRIAL, GESTIONABLE, AMB 8 PORTS PoE (802.3at i 802.3bt), INCLOSOS FUETONS DE CONNEXIÓ, COMPATIBLE AMB EL SISTEMA DE COMUNICACIONS DE L'AJUNTAMENT. | E14: ='Amidaments Generals'!E14 -> 0 | F14: =VLOOKUP(B14,'Preus Unitaris'!$B$2:$G$1058,4,FALSE) -> 75.63 | G14: =VLOOKUP(B14,'Preus Unitaris'!$B$2:$G$1058,5,FALSE) -> 14.37 | H14: =VLOOKUP(B14,'Preus Unitaris'!$B$2:$G$1058,6,FALSE) -> 90 | I14: =ROUND(E14*H14,2) -> 0
B15: ='Preus Unitaris'!B15 -> E-009 | C15: =VLOOKUP(B15,'Preus Unitaris'!$B$2:$G$1058,2,FALSE) -> UT | D15: =VLOOKUP(B15,'Preus Unitaris'!$B$2:$G$1058,3,FALSE) -> SUBMINISTRAMENT DE SWITCH DE COMUNICACIÓ PER SISTEMA DE VISIÓ ARTIFICIAL, TIPUS INDUSTRIAL, PoE, AMB 10 PORTS MODEL CISCO IE-3400-8P2S-E O 100% EQUIPAVENT, INCLOSOS FUETONS DE CONNEXIÓ, COMPATIBLE AMB EL SISTEMA DE COMUNICACIONS DE L'AJUNTAMENT. | E15: ='Amidaments Generals'!E15 -> 1 | F15: =VLOOKUP(B15,'Preus Unitaris'!$B$2:$G$1058,4,FALSE) -> 3298.319 | G15: =VLOOKUP(B15,'Preus Unitaris'!$B$2:$G$1058,5,FALSE) -> 626.68 | H15: =VLOOKUP(B15,'Preus Unitaris'!$B$2:$G$1058,6,FALSE) -> 3925 | I15: =ROUND(E15*H15,2) -> 3925
B16: ='Preus Unitaris'!B16 -> E-010 | C16: =VLOOKUP(B16,'Preus Unitaris'!$B$2:$G$1058,2,FALSE) -> UT | D16: =VLOOKUP(B16,'Preus Unitaris'!$B$2:$G$1058,3,FALSE) -> INSTAL·LACIÓ I CONFIGURACIÓ DE SWITCH DE COMUNICACIÓ PER SISTEMA DE VISIÓ ARTIFICIAL, TIPUS INDUSTRIAL, PoE, AMB 10 PORTS MODEL CISCO IE-3400-8P2S-E O 100% EQUIPAVENT, INCLOSOS FUETONS DE CONNEXIÓ, COMPATIBLE AMB EL SISTEMA DE COMUNICACIONS DE L'AJUNTAMENT. | E16: ='Amidaments Generals'!E16 -> 1 | F16: =VLOOKUP(B16,'Preus Unitaris'!$B$2:$G$1058,4,FALSE) -> 92.437 | G16: =VLOOKUP(B16,'Preus Unitaris'!$B$2:$G$1058,5,FALSE) -> 17.56 | H16: =VLOOKUP(B16,'Preus Unitaris'!$B$2:$G$1058,6,FALSE) -> 110 | I16: =ROUND(E16*H16,2) -> 110
B17: ='Preus Unitaris'!B17 -> E-011 | C17: =VLOOKUP(B17,'Preus Unitaris'!$B$2:$G$1058,2,FALSE) -> UT | D17: =VLOOKUP(B17,'Preus Unitaris'!$B$2:$G$1058,3,FALSE) -> SUBMINISTRAMENT DE PC INDUSTRIAL RUGORITZAT DE 20 GB DE CAPACITAT EMAGATZEMATGE, PROCESSADOR ÚLTIMA GENERACIÓ, SEGONS ESPECIFICCIONS TÈCNIQUES. | E17: ='Amidaments Generals'!E17 -> 1 | F17: =VLOOKUP(B17,'Preus Unitaris'!$B$2:$G$1058,4,FALSE) -> 903.361 | G17: =VLOOKUP(B17,'Preus Unitaris'!$B$2:$G$1058,5,FALSE) -> 171.64 | H17: =VLOOKUP(B17,'Preus Unitaris'!$B$2:$G$1058,6,FALSE) -> 1075 | I17: =ROUND(E17*H17,2) -> 1075
B18: ='Preus Unitaris'!B18 -> E-012 | C18: =VLOOKUP(B18,'Preus Unitaris'!$B$2:$G$1058,2,FALSE) -> UT | D18: =VLOOKUP(B18,'Preus Unitaris'!$B$2:$G$1058,3,FALSE) -> INSTAL·LACIÓ I CONFIGURACIÓ DE PC INDUSTRIAL RUGORITZAT DE 20 GB DE CAPACITAT EMAGATZEMATGE, PROCESSADOR ÚLTIMA GENERACIÓ, SEGONS ESPECIFICCIONS TÈCNIQUES. | E18: ='Amidaments Generals'!E18 -> 1 | F18: =VLOOKUP(B18,'Preus Unitaris'!$B$2:$G$1058,4,FALSE) -> 100.84 | G18: =VLOOKUP(B18,'Preus Unitaris'!$B$2:$G$1058,5,FALSE) -> 19.16 | H18: =VLOOKUP(B18,'Preus Unitaris'!$B$2:$G$1058,6,FALSE) -> 120 | I18: =ROUND(E18*H18,2) -> 120
... B44: ='Preus Unitaris'!B44 -> E-038 | C44: =VLOOKUP(B44,'Preus Unitaris'!$B$2:$G$1058,2,FALSE) -> UT | D44: =VLOOKUP(B44,'Preus Unitaris'!$B$2:$G$1058,3,FALSE) -> PRECINTAT DE CÀMERES I DEL PC DE CONTROL DEL PUNT DE CONTROL. INCLOU TOTS ELS MATERIALS (PRECINTES), MITJANS I RECURSOS NECESSARIS. PREU PER PUNT DE CONTROL | E44: ='Amidaments Generals'!E44 -> 0 | F44: =VLOOKUP(B44,'Preus Unitaris'!$B$2:$G$1058,4,FALSE) -> 126.05 | G44: =VLOOKUP(B44,'Preus Unitaris'!$B$2:$G$1058,5,FALSE) -> 23.95 | H44: =VLOOKUP(B44,'Preus Unitaris'!$B$2:$G$1058,6,FALSE) -> 150 | I44: =ROUND(E44*H44,2) -> 0
D45: Subtotal Equipament PdC | I45: =SUM(I7:I44) -> 16854
B47: OBRA CIVIL
B48: ='Preus Unitaris'!B47 -> O-001 | C48: =VLOOKUP(B48,'Preus Unitaris'!$B$2:$G$1058,2,FALSE) -> UT | D48: =VLOOKUP(B48,'Preus Unitaris'!$B$2:$G$1058,3,FALSE) -> FONAMENT DE FORMIGÓ PER A ARMARI DE CONTROL O ESCOMESA ELÈCTRICA, AMB DOSIFICACIÓ DE 250 KG/m3 I ENCOFRAT CARA VISTA, DE DIMENSIONS APROX. 800 x 800 x 500 mm AMB UN ENCASTAMENT DE 20 cm I 4 FORATS DE 110 mm. DE DIÀMETRE. INCLOU DEMOLICIÓ PAVIMENT, EXCAVACIÓ I POSTERIOR REPOSICIÓ. TOTALMENT EXECUTAT. | E48: ='Amidaments Generals'!E46 -> 1 | F48: =VLOOKUP(B48,'Preus Unitaris'!$B$2:$G$1058,4,FALSE) -> 197.479 | G48: =VLOOKUP(B48,'Preus Unitaris'!$B$2:$G$1058,5,FALSE) -> 37.52 | H48: =VLOOKUP(B48,'Preus Unitaris'!$B$2:$G$1058,6,FALSE) -> 235 | I48: =ROUND(E48*H48,2) -> 235
B49: ='Preus Unitaris'!B48 -> O-002 | C49: =VLOOKUP(B49,'Preus Unitaris'!$B$2:$G$1058,2,FALSE) -> UT | D49: =VLOOKUP(B49,'Preus Unitaris'!$B$2:$G$1058,3,FALSE) -> FONAMENT DE FORMIGÓ PER A COLUMNA 4000, AMB DOSIFICACIÓ DE 250 KG/m3, MITJANÇANT UN DAU DE 50 cm. DE COSTAT I 60 cm. DE PROFUNDITAT, INCLÒS COLZE DE CONNEXIÓ AMB TUBULAR. INCLOU DEMOLICIÓ PAVIMENT, EXCAVACIÓ I POSTERIOR REPOSICIÓ. TOTALMENT EXECUTAT. | E49: ='Amidaments Generals'!E47 -> 1 | F49: =VLOOKUP(B49,'Preus Unitaris'!$B$2:$G$1058,4,FALSE) -> 92.437 | G49: =VLOOKUP(B49,'Preus Unitaris'!$B$2:$G$1058,5,FALSE) -> 17.56 | H49: =VLOOKUP(B49,'Preus Unitaris'!$B$2:$G$1058,6,FALSE) -> 110 | I49: =ROUND(E49*H49,2) -> 110
B50: ='Preus Unitaris'!B49 -> O-003 | C50: =VLOOKUP(B50,'Preus Unitaris'!$B$2:$G$1058,2,FALSE) -> UT | D50: =VLOOKUP(B50,'Preus Unitaris'!$B$2:$G$1058,3,FALSE) -> FONAMENT DE FORMIGÓ PER A BÀCUL DE SEMÀFORS 6025 m, AMB DOSIFICACIÓ DE 250 KG/m3, MITJANÇANT UN DAU DE 80 cm. DE COSTAT I 100 cm. DE PROFUNDITAT, INCLÒS PERNS ANCORATGE, COLZE DE CONNEXIÓ AMB TUBULAR. INCLOU DEMOLICIÓ PAVIMENT, EXCAVACIÓ I POSTERIOR REPOSICIÓ. TOTALMENT EXECUTAT. | E50: ='Amidaments Generals'!E48 -> 0 | F50: =VLOOKUP(B50,'Preus Unitaris'!$B$2:$G$1058,4,FALSE) -> 415.966 | G50: =VLOOKUP(B50,'Preus Unitaris'!$B$2:$G$1058,5,FALSE) -> 79.03 | H50: =VLOOKUP(B50,'Preus Unitaris'!$B$2:$G$1058,6,FALSE) -> 495 | I50: =ROUND(E50*H50,2) -> 0
B51: ='Preus Unitaris'!B50 -> O-004 | C51: =VLOOKUP(B51,'Preus Unitaris'!$B$2:$G$1058,2,FALSE) -> UT | D51: =VLOOKUP(B51,'Preus Unitaris'!$B$2:$G$1058,3,FALSE) -> PERICÓ DE 60 x 60 cm. PREFABRICAT DE FORMIGÓ O CONSTRUÏT AMB MAONS GERO I FONS DEL MATEIX MATERIAL REBENT EL MARC I LA TAPA CORRESPONENT, SENSE INCLOURE AQUESTS. INCLOU DEMOLICIÓ PAVIMENT, EXCAVACIÓ I POSTERIOR REPOSICIÓ. TOTALMENT EXECUTAT. | E51: ='Amidaments Generals'!E49 -> 2 | F51: =VLOOKUP(B51,'Preus Unitaris'!$B$2:$G$1058,4,FALSE) -> 126.05 | G51: =VLOOKUP(B51,'Preus Unitaris'!$B$2:$G$1058,5,FALSE) -> 23.95 | H51: =VLOOKUP(B51,'Preus Unitaris'!$B$2:$G$1058,6,FALSE) -> 150 | I51: =ROUND(E51*H51,2) -> 300
B52: ='Preus Unitaris'!B51 -> O-005 | C52: =VLOOKUP(B52,'Preus Unitaris'!$B$2:$G$1058,2,FALSE) -> UT | D52: =VLOOKUP(B52,'Preus Unitaris'!$B$2:$G$1058,3,FALSE) -> SUBMINISTRAMENT MARC DE FERRO FOS DE 60 x 60 cm PER INSTAL·LACIÓ EN VORERA, AMB INSCRIPCIÓ. | E52: ='Amidaments Generals'!E50 -> 2 | F52: =VLOOKUP(B52,'Preus Unitaris'!$B$2:$G$1058,4,FALSE) -> 33.613 | G52: =VLOOKUP(B52,'Preus Unitaris'!$B$2:$G$1058,5,FALSE) -> 6.39 | H52: =VLOOKUP(B52,'Preus Unitaris'!$B$2:$G$1058,6,FALSE) -> 40 | I52: =ROUND(E52*H52,2) -> 80
B53: ='Preus Unitaris'!B52 -> O-006 | C53: =VLOOKUP(B53,'Preus Unitaris'!$B$2:$G$1058,2,FALSE) -> UT | D53: =VLOOKUP(B53,'Preus Unitaris'!$B$2:$G$1058,3,FALSE) -> SUBMINISTRAMENT TAPA DE FERRO FOS DE 60 x 60 cm PER INSTAL·LACIÓ EN VORERA, AMB INSCRIPCIÓ. | E53: ='Amidaments Generals'!E51 -> 2 | F53: =VLOOKUP(B53,'Preus Unitaris'!$B$2:$G$1058,4,FALSE) -> 67.227 | G53: =VLOOKUP(B53,'Preus Unitaris'!$B$2:$G$1058,5,FALSE) -> 12.77 | H53: =VLOOKUP(B53,'Preus Unitaris'!$B$2:$G$1058,6,FALSE) -> 80 | I53: =ROUND(E53*H53,2) -> 160
B54: ='Preus Unitaris'!B53 -> O-007 | C54: =VLOOKUP(B54,'Preus Unitaris'!$B$2:$G$1058,2,FALSE) -> UT | D54: =VLOOKUP(B54,'Preus Unitaris'!$B$2:$G$1058,3,FALSE) -> REPARACIÓ D'ESTRUCTURA INTERIOR DE PERICÓ EXISTENT DE 60 x 60 cm, AMB ADEQUACIÓ DE PARETS I LLISCAT. TOTALMENT EXECUTAT. | E54: ='Amidaments Generals'!E52 -> 2 | F54: =VLOOKUP(B54,'Preus Unitaris'!$B$2:$G$1058,4,FALSE) -> 68.908 | G54: =VLOOKUP(B54,'Preus Unitaris'!$B$2:$G$1058,5,FALSE) -> 13.09 | H54: =VLOOKUP(B54,'Preus Unitaris'!$B$2:$G$1058,6,FALSE) -> 82 | I54: =ROUND(E54*H54,2) -> 164
B55: ='Preus Unitaris'!B54 -> O-008 | C55: =VLOOKUP(B55,'Preus Unitaris'!$B$2:$G$1058,2,FALSE) -> UT | D55: =VLOOKUP(B55,'Preus Unitaris'!$B$2:$G$1058,3,FALSE) -> INTERCEPTAR CANALITZACIÓ EXISTENT / EMBOCADURA PERICÓ EXISTENT. | E55: ='Amidaments Generals'!E53 -> 3 | F55: =VLOOKUP(B55,'Preus Unitaris'!$B$2:$G$1058,4,FALSE) -> 155.462 | G55: =VLOOKUP(B55,'Preus Unitaris'!$B$2:$G$1058,5,FALSE) -> 29.54 | H55: =VLOOKUP(B55,'Preus Unitaris'!$B$2:$G$1058,6,FALSE) -> 185 | I55: =ROUND(E55*H55,2) -> 555
B56: ='Preus Unitaris'!B55 -> O-009 | C56: =VLOOKUP(B56,'Preus Unitaris'!$B$2:$G$1058,2,FALSE) -> ML | D56: =VLOOKUP(B56,'Preus Unitaris'!$B$2:$G$1058,3,FALSE) -> COMPROVACIÓ I MANDRINATGE DE CANALITZACIÓ EXISTENT DEIXANT PASSAT FIL GUIA. | E56: ='Amidaments Generals'!E54 -> 15 | F56: =VLOOKUP(B56,'Preus Unitaris'!$B$2:$G$1058,4,FALSE) -> 1.261 | G56: =VLOOKUP(B56,'Preus Unitaris'!$B$2:$G$1058,5,FALSE) -> 0.24 | H56: =VLOOKUP(B56,'Preus Unitaris'!$B$2:$G$1058,6,FALSE) -> 1.5 | I56: =ROUND(E56*H56,2) -> 22.5
B57: ='Preus Unitaris'!B56 -> O-010 | C57: =VLOOKUP(B57,'Preus Unitaris'!$B$2:$G$1058,2,FALSE) -> ML | D57: =VLOOKUP(B57,'Preus Unitaris'!$B$2:$G$1058,3,FALSE) -> CANALITZACIÓ EN VORERA INCLOENT SUBMINISTRAMENT I INSTAL·LACIÓ DE 2 TUBS DE PE ø 11 cm. DE DOBLE CAPA, LLIS A L'INTERIOR I CORRUGAT A L'EXTERIOR, INCLÒS EXCAVACIÓ EN RASA DE 40 x 68 cm. DE PROFUNDITAT, BASE I PROTECCIÓ DE FORMIGÓ HM20, EN VORERES DE PANOT INCLÒS LA SEVA REPOSICIÓ. TOTALMENT EXECUTADA D'ACORD AMB LES ORDENANCES MUNICIPALS I INDICACIONS PARTICULARS. | E57: ='Amidaments Generals'!E55 -> 15 | F57: =VLOOKUP(B57,'Preus Unitaris'!$B$2:$G$1058,4,FALSE) -> 71.429 | G57: =VLOOKUP(B57,'Preus Unitaris'!$B$2:$G$1058,5,FALSE) -> 13.57 | H57: =VLOOKUP(B57,'Preus Unitaris'!$B$2:$G$1058,6,FALSE) -> 85 | I57: =ROUND(E57*H57,2) -> 1275
B58: ='Preus Unitaris'!B57 -> O-011 | C58: =VLOOKUP(B58,'Preus Unitaris'!$B$2:$G$1058,2,FALSE) -> ML | D58: =VLOOKUP(B58,'Preus Unitaris'!$B$2:$G$1058,3,FALSE) -> CANALITZACIÓ EN CALÇADA INCLÒS SUBMINISTRAMENT I INSTAL·LACIÓ DE 2 TUBS DE PE ø 11 cm. DE DOBLE CAPA, LLIS A L'INTERIOR I CORRUGAT A L'EXTERIOR, INCLÒS EXCAVACIÓ EN RASA DE 68 x 80 cm. DE PROFUNDITAT, BASE I PROTECCIÓ DE FORMIGÓ HM20, EN CALÇADES. INCLOSA REPOSICIÓ PAVIMENT AGLOMERAT ASFÀLTIC SEGONS ELS PLÀNOLS DEL PROJECTE. TOTALMENT EXECUTADA D'ACORD AMB LES ORDENANCES MUNICIPALS I PLEC DE CONDICIONS. | E58: ='Amidaments Generals'!E56 -> 0 | F58: =VLOOKUP(B58,'Preus Unitaris'!$B$2:$G$1058,4,FALSE) -> 149.58 | G58: =VLOOKUP(B58,'Preus Unitaris'!$B$2:$G$1058,5,FALSE) -> 28.42 | H58: =VLOOKUP(B58,'Preus Unitaris'!$B$2:$G$1058,6,FALSE) -> 178 | I58: =ROUND(E58*H58,2) -> 0
B59: ='Preus Unitaris'!B58 -> O-012 | C59: =VLOOKUP(B59,'Preus Unitaris'!$B$2:$G$1058,2,FALSE) -> ML | D59: =VLOOKUP(B59,'Preus Unitaris'!$B$2:$G$1058,3,FALSE) -> CANALITZACIÓ EN CALÇADA INCLÒS SUBMINISTRAMENT I INSTAL·LACIÓ DE 4 TUBS DE PE ø 11 cm. DE DOBLE CAPA, LLIS A L'INTERIOR I CORRUGAT A L'EXTERIOR, INCLÒS EXCAVACIÓ EN RASA DE 68 x 80 cm. DE PROFUNDITAT, BASE I PROTECCIÓ DE FORMIGÓ HM20, EN CALÇADES. INCLOSA REPOSICIÓ PAVIMENT AGLOMERAT ASFÀLTIC, SEGONS PLÀNOLS DEL PROJECTE. TOTALMENT EXECUTADA D'ACORD AMB LES ORDENANCES MUNICIPALS I PLEC DE CONDICIONS. | E59: ='Amidaments Generals'!E57 -> 0 | F59: =VLOOKUP(B59,'Preus Unitaris'!$B$2:$G$1058,4,FALSE) -> 155.462 | G59: =VLOOKUP(B59,'Preus Unitaris'!$B$2:$G$1058,5,FALSE) -> 29.54 | H59: =VLOOKUP(B59,'Preus Unitaris'!$B$2:$G$1058,6,FALSE) -> 185 | I59: =ROUND(E59*H59,2) -> 0
... B71: ='Preus Unitaris'!B70 -> O-024 | C71: =VLOOKUP(B71,'Preus Unitaris'!$B$2:$G$1058,2,FALSE) -> UT | D71: =VLOOKUP(B71,'Preus Unitaris'!$B$2:$G$1058,3,FALSE) -> RETIRADA, TRASLLAT I INSTAL·LACIÓ DE PAPERERA, INCLOSOS MITJANS I MATERIALS NECESSARIS. | E71: ='Amidaments Generals'!E69 -> 0 | F71: =VLOOKUP(B71,'Preus Unitaris'!$B$2:$G$1058,4,FALSE) -> 75.63 | G71: =VLOOKUP(B71,'Preus Unitaris'!$B$2:$G$1058,5,FALSE) -> 14.37 | H71: =VLOOKUP(B71,'Preus Unitaris'!$B$2:$G$1058,6,FALSE) -> 90 | I71: =ROUND(E71*H71,2) -> 0
D72: Subtotal Obra Civil | I72: =SUM(I48:I71) -> 3171.5
B74: INSTAL·LACIÓ ELÈCTRICA
B75: ='Preus Unitaris'!B73 -> I-001 | C75: =VLOOKUP(B75,'Preus Unitaris'!$B$2:$G$1058,2,FALSE) -> UT | D75: =VLOOKUP(B75,'Preus Unitaris'!$B$2:$G$1058,3,FALSE) -> SUBMINISTRAMENT D'EQUIPAMENTS ESPECÍFICS PER LA DISTRIBUCIÓ D'ENERGIA DEL PUNT DE CONTROL, CONSISTENTS EN PROTECCIONS ELÈCTRIQUES CONTRA SOBRETENSIONS TRANSITÒRIES (1 UT) I PERMANENTS (1 UT), DIFERENCIALS (FINS A 2 UT), MAGNETOTÈRMICS (FINS A 3 UT) I PRESA DE CORRENT TIPUS SCHUKO (1 UT). | E75: ='Amidaments Generals'!E71 -> 1 | F75: =VLOOKUP(B75,'Preus Unitaris'!$B$2:$G$1058,4,FALSE) -> 268.908 | G75: =VLOOKUP(B75,'Preus Unitaris'!$B$2:$G$1058,5,FALSE) -> 51.09 | H75: =VLOOKUP(B75,'Preus Unitaris'!$B$2:$G$1058,6,FALSE) -> 320 | I75: =ROUND(E75*H75,2) -> 320
B76: ='Preus Unitaris'!B74 -> I-002 | C76: =VLOOKUP(B76,'Preus Unitaris'!$B$2:$G$1058,2,FALSE) -> UT | D76: =VLOOKUP(B76,'Preus Unitaris'!$B$2:$G$1058,3,FALSE) -> INSTAL·LACIÓ D'EQUIPAMENTS ESPECÍFICS PER LA DISTRIBUCIÓ D'ENERGIA DEL PUNT DE CONTROL. | E76: ='Amidaments Generals'!E72 -> 1 | F76: =VLOOKUP(B76,'Preus Unitaris'!$B$2:$G$1058,4,FALSE) -> 68.067 | G76: =VLOOKUP(B76,'Preus Unitaris'!$B$2:$G$1058,5,FALSE) -> 12.93 | H76: =VLOOKUP(B76,'Preus Unitaris'!$B$2:$G$1058,6,FALSE) -> 81 | I76: =ROUND(E76*H76,2) -> 81
B77: ='Preus Unitaris'!B75 -> I-003 | C77: =VLOOKUP(B77,'Preus Unitaris'!$B$2:$G$1058,2,FALSE) -> ML | D77: =VLOOKUP(B77,'Preus Unitaris'!$B$2:$G$1058,3,FALSE) -> SUBMINISTRAMENT DE CABLE DE CONDUCTOR DE COURE AMB AÏLLAMENT DE PLÀSTIC, DE SECCIÓ 1x6 mm2 PER PRESES DE TERRA. | E77: ='Amidaments Generals'!E73 -> 20 | F77: =VLOOKUP(B77,'Preus Unitaris'!$B$2:$G$1058,4,FALSE) -> 0.924 | G77: =VLOOKUP(B77,'Preus Unitaris'!$B$2:$G$1058,5,FALSE) -> 0.18 | H77: =VLOOKUP(B77,'Preus Unitaris'!$B$2:$G$1058,6,FALSE) -> 1.1 | I77: =ROUND(E77*H77,2) -> 22
B78: ='Preus Unitaris'!B76 -> I-004 | C78: =VLOOKUP(B78,'Preus Unitaris'!$B$2:$G$1058,2,FALSE) -> ML | D78: =VLOOKUP(B78,'Preus Unitaris'!$B$2:$G$1058,3,FALSE) -> INSTAL·LACIÓ DE CABLE DE CONDUCTOR DE COURE AMB AÏLLAMENT DE PLÀSTIC, DE SECCIÓ 1x6 mm2 PER PRESES DE TERRA. | E78: ='Amidaments Generals'!E74 -> 20 | F78: =VLOOKUP(B78,'Preus Unitaris'!$B$2:$G$1058,4,FALSE) -> 0.756 | G78: =VLOOKUP(B78,'Preus Unitaris'!$B$2:$G$1058,5,FALSE) -> 0.14 | H78: =VLOOKUP(B78,'Preus Unitaris'!$B$2:$G$1058,6,FALSE) -> 0.9 | I78: =ROUND(E78*H78,2) -> 18
B79: ='Preus Unitaris'!B77 -> I-005 | C79: =VLOOKUP(B79,'Preus Unitaris'!$B$2:$G$1058,2,FALSE) -> ML | D79: =VLOOKUP(B79,'Preus Unitaris'!$B$2:$G$1058,3,FALSE) -> SUBMINISTRAMENT DE CABLE DE CONDUCTOR DE COURE EPTAFILAR NU, DE SECCIÓ 1x35 mm2. | E79: ='Amidaments Generals'!E75 -> 5 | F79: =VLOOKUP(B79,'Preus Unitaris'!$B$2:$G$1058,4,FALSE) -> 3.782 | G79: =VLOOKUP(B79,'Preus Unitaris'!$B$2:$G$1058,5,FALSE) -> 0.72 | H79: =VLOOKUP(B79,'Preus Unitaris'!$B$2:$G$1058,6,FALSE) -> 4.5 | I79: =ROUND(E79*H79,2) -> 22.5
B80: ='Preus Unitaris'!B78 -> I-006 | C80: =VLOOKUP(B80,'Preus Unitaris'!$B$2:$G$1058,2,FALSE) -> ML | D80: =VLOOKUP(B80,'Preus Unitaris'!$B$2:$G$1058,3,FALSE) -> INSTAL·LACIÓ DE CABLE DE CONDUCTOR DE COURE EPTAFILAR NU, DE SECCIÓ 1x35 mm2. | E80: ='Amidaments Generals'!E76 -> 5 | F80: =VLOOKUP(B80,'Preus Unitaris'!$B$2:$G$1058,4,FALSE) -> 0.756 | G80: =VLOOKUP(B80,'Preus Unitaris'!$B$2:$G$1058,5,FALSE) -> 0.14 | H80: =VLOOKUP(B80,'Preus Unitaris'!$B$2:$G$1058,6,FALSE) -> 0.9 | I80: =ROUND(E80*H80,2) -> 4.5
B81: ='Preus Unitaris'!B79 -> I-007 | C81: =VLOOKUP(B81,'Preus Unitaris'!$B$2:$G$1058,2,FALSE) -> ML | D81: =VLOOKUP(B81,'Preus Unitaris'!$B$2:$G$1058,3,FALSE) -> SUBMINISTRAMENT DE CABLE DE COURE RV-K 0,6/1KV DE 3X6 MM2. | E81: ='Amidaments Generals'!E77 -> 0 | F81: =VLOOKUP(B81,'Preus Unitaris'!$B$2:$G$1058,4,FALSE) -> 2.395 | G81: =VLOOKUP(B81,'Preus Unitaris'!$B$2:$G$1058,5,FALSE) -> 0.46 | H81: =VLOOKUP(B81,'Preus Unitaris'!$B$2:$G$1058,6,FALSE) -> 2.85 | I81: =ROUND(E81*H81,2) -> 0
B82: ='Preus Unitaris'!B80 -> I-008 | C82: =VLOOKUP(B82,'Preus Unitaris'!$B$2:$G$1058,2,FALSE) -> ML | D82: =VLOOKUP(B82,'Preus Unitaris'!$B$2:$G$1058,3,FALSE) -> INSTAL·LACIÓ DE CABLE DE COURE RV-K 0,6/1KV DE 3X6 MM2. | E82: ='Amidaments Generals'!E78 -> 0 | F82: =VLOOKUP(B82,'Preus Unitaris'!$B$2:$G$1058,4,FALSE) -> 0.756 | G82: =VLOOKUP(B82,'Preus Unitaris'!$B$2:$G$1058,5,FALSE) -> 0.14 | H82: =VLOOKUP(B82,'Preus Unitaris'!$B$2:$G$1058,6,FALSE) -> 0.9 | I82: =ROUND(E82*H82,2) -> 0
B83: ='Preus Unitaris'!B81 -> I-009 | C83: =VLOOKUP(B83,'Preus Unitaris'!$B$2:$G$1058,2,FALSE) -> ML | D83: =VLOOKUP(B83,'Preus Unitaris'!$B$2:$G$1058,3,FALSE) -> SUBMINISTRAMENT DE CABLE DE COURE RV-K 0,6/1KV DE 3X10 MM2. | E83: ='Amidaments Generals'!E79 -> 150 | F83: =VLOOKUP(B83,'Preus Unitaris'!$B$2:$G$1058,4,FALSE) -> 3.025 | G83: =VLOOKUP(B83,'Preus Unitaris'!$B$2:$G$1058,5,FALSE) -> 0.57 | H83: =VLOOKUP(B83,'Preus Unitaris'!$B$2:$G$1058,6,FALSE) -> 3.6 | I83: =ROUND(E83*H83,2) -> 540
B84: ='Preus Unitaris'!B82 -> I-010 | C84: =VLOOKUP(B84,'Preus Unitaris'!$B$2:$G$1058,2,FALSE) -> ML | D84: =VLOOKUP(B84,'Preus Unitaris'!$B$2:$G$1058,3,FALSE) -> INSTAL·LACIÓ DE CABLE DE COURE RV-K 0,6/1KV DE 3X10 MM2. | E84: ='Amidaments Generals'!E80 -> 150 | F84: =VLOOKUP(B84,'Preus Unitaris'!$B$2:$G$1058,4,FALSE) -> 0.756 | G84: =VLOOKUP(B84,'Preus Unitaris'!$B$2:$G$1058,5,FALSE) -> 0.14 | H84: =VLOOKUP(B84,'Preus Unitaris'!$B$2:$G$1058,6,FALSE) -> 0.9 | I84: =ROUND(E84*H84,2) -> 135
B85: ='Preus Unitaris'!B83 -> I-011 | C85: =VLOOKUP(B85,'Preus Unitaris'!$B$2:$G$1058,2,FALSE) -> UT | D85: =VLOOKUP(B85,'Preus Unitaris'!$B$2:$G$1058,3,FALSE) -> TREBALLS PER A LA REALITZACIÓ DE L'ALIMENTACIÓ DEL PUNT DE CONTROL, D'ACORD AMB EL QUE INDICA EL PLEC. | E85: ='Amidaments Generals'!E81 -> 1 | F85: =VLOOKUP(B85,'Preus Unitaris'!$B$2:$G$1058,4,FALSE) -> 605.042 | G85: =VLOOKUP(B85,'Preus Unitaris'!$B$2:$G$1058,5,FALSE) -> 114.96 | H85: =VLOOKUP(B85,'Preus Unitaris'!$B$2:$G$1058,6,FALSE) -> 720 | I85: =ROUND(E85*H85,2) -> 720
B86: ='Preus Unitaris'!B84 -> I-012 | C86: =VLOOKUP(B86,'Preus Unitaris'!$B$2:$G$1058,2,FALSE) -> UT | D86: =VLOOKUP(B86,'Preus Unitaris'!$B$2:$G$1058,3,FALSE) -> ESCOMESA ELÈCTRICA. REALITZACIÓ DE NOVA ESCOMESA EN ENTORN URBÀ. INCLOU: ARMARI PER ESCOMESA COMPANYIA, PREFABRICAT DSPD-CDU/PEANA I PINTAT, AMB CAIXA DE DISTRIBUCIÓ CDU 400, CANALERA DE 630A I FUSIBLE CUCHILLA BT F CU2/400 A ETU-6303B Gg, AMB CAIXA MÒDUL COMPTADOR PNZ-C2727. ARMARI PER SORTIDES A CONSUMS, PER INTEMPÈRIE, EN PLANXA D'ACER GALVANITZAT EN CALENT I PINTAT, DE DIMENSIONS APROX. 1200x600x320 mm I DE 1,2 mm DE GRUIX, AMB PLACA DE MUNTATGE, PANY AMB CLAU I ACCESSORIS NECESSARIS (CANALETES, CARRIL DIN, PREMSAESTOPES, FIXACIONS, ...) I PETIT MATERIAL NECESSARI PER A LA CORRECTE EXECUCIÓ. INCLOU TOTS ELS TREBALLS (COM FORAT ARMARI CDU, ...) EXCEPTE OBRA CIVIL, RECURSOS (TRANSPORTS CAMIÓ GRUA I MA D'OBRA, ...) I FEINES NECESSÀRIES PER A LA CORRECTE EXECUCIÓ. | E86: ='Amidaments Generals'!E82 -> 0 | F86: =VLOOKUP(B86,'Preus Unitaris'!$B$2:$G$1058,4,FALSE) -> 4159.664 | G86: =VLOOKUP(B86,'Preus Unitaris'!$B$2:$G$1058,5,FALSE) -> 790.34 | H86: =VLOOKUP(B86,'Preus Unitaris'!$B$2:$G$1058,6,FALSE) -> 4950 | I86: =ROUND(E86*H86,2) -> 0
D87: Subtotal Instal·lació Elèctrica | I87: =SUM(I75:I86) -> 1863
B88: ='Preus Unitaris'!B88 -> COMUNICACIONS
B89: ='Preus Unitaris'!B89 -> F-001 | C89: =VLOOKUP(B89,'Preus Unitaris'!$B$2:$G$1058,2,FALSE) -> ML | D89: =VLOOKUP(B89,'Preus Unitaris'!$B$2:$G$1058,3,FALSE) -> SUBMINISTRAMENT I INSTAL·LACIÓ DE CABLE DE 8 FO MONOMODE B1.1, SEGONS EN 186000. ARMAT. AMB PROTECCIÓ D'ARAMIDA, ARMADURA METÀL·LICA I COBERTA EXTERIOR DE POLIETILÈ, SEGONS ESPECIFICACIONS DE L'AJUNTAMENT. | E89: ='Amidaments Generals'!E86 -> 0 | F89: =VLOOKUP(B89,'Preus Unitaris'!$B$2:$G$1058,4,FALSE) -> 2.185 | G89: =VLOOKUP(B89,'Preus Unitaris'!$B$2:$G$1058,5,FALSE) -> 0.42 | H89: =VLOOKUP(B89,'Preus Unitaris'!$B$2:$G$1058,6,FALSE) -> 2.6 | I89: =ROUND(E89*H89,2) -> 0
B90: ='Preus Unitaris'!B90 -> F-002 | C90: =VLOOKUP(B90,'Preus Unitaris'!$B$2:$G$1058,2,FALSE) -> ML | D90: =VLOOKUP(B90,'Preus Unitaris'!$B$2:$G$1058,3,FALSE) -> SUBMINISTRAMENT I INSTAL·LACIÓ DE CABLE DE 16 FO MONOMODE B1.1, SEGONS EN 186000. ARMAT. AMB PROTECCIÓ D'ARAMIDA, ARMADURA METÀL·LICA I COBERTA EXTERIOR DE POLIETILÈ, SEGONS ESPECIFICACIONS DE L'AJUNTAMENT. | E90: ='Amidaments Generals'!E87 -> 0 | F90: =VLOOKUP(B90,'Preus Unitaris'!$B$2:$G$1058,4,FALSE) -> 2.437 | G90: =VLOOKUP(B90,'Preus Unitaris'!$B$2:$G$1058,5,FALSE) -> 0.46 | H90: =VLOOKUP(B90,'Preus Unitaris'!$B$2:$G$1058,6,FALSE) -> 2.9 | I90: =ROUND(E90*H90,2) -> 0
B91: ='Preus Unitaris'!B91 -> F-003 | C91: =VLOOKUP(B91,'Preus Unitaris'!$B$2:$G$1058,2,FALSE) -> ML | D91: =VLOOKUP(B91,'Preus Unitaris'!$B$2:$G$1058,3,FALSE) -> SUBMINISTRAMENT I INSTAL·LACIÓ DE CABLE DE 24 FO MONOMODE B1.1, SEGONS EN 186000. ARMAT. AMB PROTECCIÓ D'ARAMIDA, ARMADURA METÀL·LICA I COBERTA EXTERIOR DE POLIETILÈ, SEGONS ESPECIFICACIONS DE L'AJUNTAMENT. | E91: ='Amidaments Generals'!E88 -> 180 | F91: =VLOOKUP(B91,'Preus Unitaris'!$B$2:$G$1058,4,FALSE) -> 2.857 | G91: =VLOOKUP(B91,'Preus Unitaris'!$B$2:$G$1058,5,FALSE) -> 0.54 | H91: =VLOOKUP(B91,'Preus Unitaris'!$B$2:$G$1058,6,FALSE) -> 3.4 | I91: =ROUND(E91*H91,2) -> 612
B92: ='Preus Unitaris'!B92 -> F-004 | C92: =VLOOKUP(B92,'Preus Unitaris'!$B$2:$G$1058,2,FALSE) -> ML | D92: =VLOOKUP(B92,'Preus Unitaris'!$B$2:$G$1058,3,FALSE) -> SUBMINISTRAMENT I INSTAL·LACIÓ DE CABLE DE 48 FO MONOMODE B1.1, SEGONS EN 186000. ARMAT. AMB PROTECCIÓ D'ARAMIDA, ARMADURA METÀL·LICA I COBERTA EXTERIOR DE POLIETILÈ, SEGONS ESPECIFICACIONS DE L'AJUNTAMENT. | E92: ='Amidaments Generals'!E89 -> 0 | F92: =VLOOKUP(B92,'Preus Unitaris'!$B$2:$G$1058,4,FALSE) -> 4.958 | G92: =VLOOKUP(B92,'Preus Unitaris'!$B$2:$G$1058,5,FALSE) -> 0.94 | H92: =VLOOKUP(B92,'Preus Unitaris'!$B$2:$G$1058,6,FALSE) -> 5.9 | I92: =ROUND(E92*H92,2) -> 0
B93: ='Preus Unitaris'!B93 -> F-005 | C93: =VLOOKUP(B93,'Preus Unitaris'!$B$2:$G$1058,2,FALSE) -> ML | D93: =VLOOKUP(B93,'Preus Unitaris'!$B$2:$G$1058,3,FALSE) -> SUBMINISTRAMENT I INSTAL·LACIÓ DE CABLE DE 96 FO MONOMODE B1.1, SEGONS EN 186000. ARMAT. AMB PROTECCIÓ D'ARAMIDA, ARMADURA METÀL·LICA I COBERTA EXTERIOR DE POLIETILÈ, SEGONS ESPECIFICACIONS DE L'AJUNTAMENT. | E93: ='Amidaments Generals'!E90 -> 0 | F93: =VLOOKUP(B93,'Preus Unitaris'!$B$2:$G$1058,4,FALSE) -> 7.059 | G93: =VLOOKUP(B93,'Preus Unitaris'!$B$2:$G$1058,5,FALSE) -> 1.34 | H93: =VLOOKUP(B93,'Preus Unitaris'!$B$2:$G$1058,6,FALSE) -> 8.4 | I93: =ROUND(E93*H93,2) -> 0
B94: ='Preus Unitaris'!B94 -> F-006 | C94: =VLOOKUP(B94,'Preus Unitaris'!$B$2:$G$1058,2,FALSE) -> UT | D94: =VLOOKUP(B94,'Preus Unitaris'!$B$2:$G$1058,3,FALSE) -> FUSIÓ EN RECTE DE 1 FO MONOMODE. INCLOU PIG·TAIL, CONNECTORS I ADAPTADORS, AIXÍ COM LES MESURES DE RETROESPARCIMENT I POTÈNCIA. SEGONS ESPECIFICACIONS AJUTAMENT. | E94: ='Amidaments Generals'!E91 -> 8 | F94: =VLOOKUP(B94,'Preus Unitaris'!$B$2:$G$1058,4,FALSE) -> 54.622 | G94: =VLOOKUP(B94,'Preus Unitaris'!$B$2:$G$1058,5,FALSE) -> 10.38 | H94: =VLOOKUP(B94,'Preus Unitaris'!$B$2:$G$1058,6,FALSE) -> 65 | I94: =ROUND(E94*H94,2) -> 520
B95: ='Preus Unitaris'!B95 -> F-007 | C95: =VLOOKUP(B95,'Preus Unitaris'!$B$2:$G$1058,2,FALSE) -> UT | D95: =VLOOKUP(B95,'Preus Unitaris'!$B$2:$G$1058,3,FALSE) -> MESURES DE FIBRA ÒPTICA. FINS A 4 FUSIONS | E95: ='Amidaments Generals'!E92 -> 2 | F95: =VLOOKUP(B95,'Preus Unitaris'!$B$2:$G$1058,4,FALSE) -> 163.866 | G95: =VLOOKUP(B95,'Preus Unitaris'!$B$2:$G$1058,5,FALSE) -> 31.13 | H95: =VLOOKUP(B95,'Preus Unitaris'!$B$2:$G$1058,6,FALSE) -> 195 | I95: =ROUND(E95*H95,2) -> 390
B96: ='Preus Unitaris'!B96 -> F-008 | C96: =VLOOKUP(B96,'Preus Unitaris'!$B$2:$G$1058,2,FALSE) -> UT | D96: =VLOOKUP(B96,'Preus Unitaris'!$B$2:$G$1058,3,FALSE) -> SUBMINISTRAMENT I INSTAL·LACIÓ DE CAIXA REPARTIDORA ÒPTICA DE 6 CONNECTORS, INCLOSOS PIG-TAILS | E96: ='Amidaments Generals'!E93 -> 2 | F96: =VLOOKUP(B96,'Preus Unitaris'!$B$2:$G$1058,4,FALSE) -> 294.118 | G96: =VLOOKUP(B96,'Preus Unitaris'!$B$2:$G$1058,5,FALSE) -> 55.88 | H96: =VLOOKUP(B96,'Preus Unitaris'!$B$2:$G$1058,6,FALSE) -> 350 | I96: =ROUND(E96*H96,2) -> 700
B97: ='Preus Unitaris'!B97 -> F-009 | C97: =VLOOKUP(B97,'Preus Unitaris'!$B$2:$G$1058,2,FALSE) -> UT | D97: =VLOOKUP(B97,'Preus Unitaris'!$B$2:$G$1058,3,FALSE) -> SUBMINISTRAMENT I INSTAL·LACIÓ DE PIGTAIL DE FO MONOMODE FINS A 2 m, INCLÚS FUSIÓ I CONNECTOR. SEGONS ESPECIFICACIONS AJUNTMENT. | E97: ='Amidaments Generals'!E94 -> 0 | F97: =VLOOKUP(B97,'Preus Unitaris'!$B$2:$G$1058,4,FALSE) -> 12.605 | G97: =VLOOKUP(B97,'Preus Unitaris'!$B$2:$G$1058,5,FALSE) -> 2.39 | H97: =VLOOKUP(B97,'Preus Unitaris'!$B$2:$G$1058,6,FALSE) -> 15 | I97: =ROUND(E97*H97,2) -> 0
B98: ='Preus Unitaris'!B98 -> F-010 | C98: =VLOOKUP(B98,'Preus Unitaris'!$B$2:$G$1058,2,FALSE) -> UT | D98: =VLOOKUP(B98,'Preus Unitaris'!$B$2:$G$1058,3,FALSE) -> SUBMINISTRAMENT I INSTAL·LACIÓ DE FUETÓ DE FO MONOMODE FINS A 2 m, INCLÚS CONNECTORS. SEGONS ESPECIFICACIONS AJUNTAMENT. | E98: ='Amidaments Generals'!E95 -> 2 | F98: =VLOOKUP(B98,'Preus Unitaris'!$B$2:$G$1058,4,FALSE) -> 21.849 | G98: =VLOOKUP(B98,'Preus Unitaris'!$B$2:$G$1058,5,FALSE) -> 4.15 | H98: =VLOOKUP(B98,'Preus Unitaris'!$B$2:$G$1058,6,FALSE) -> 26 | I98: =ROUND(E98*H98,2) -> 52
B99: ='Preus Unitaris'!B99 -> F-011 | C99: =VLOOKUP(B99,'Preus Unitaris'!$B$2:$G$1058,2,FALSE) -> ML | D99: =VLOOKUP(B99,'Preus Unitaris'!$B$2:$G$1058,3,FALSE) -> SUBMINISTRAMENT I INSTAL·LACIÓ DE CABLATGE ESTRUCTURAT STP CAT 6A PER EXTERIORS, INCLÚS CONNECTORS I CERTIFICACIÓ DEL PUNTS. | E99: ='Amidaments Generals'!E96 -> 0 | F99: =VLOOKUP(B99,'Preus Unitaris'!$B$2:$G$1058,4,FALSE) -> 1.933 | G99: =VLOOKUP(B99,'Preus Unitaris'!$B$2:$G$1058,5,FALSE) -> 0.37 | H99: =VLOOKUP(B99,'Preus Unitaris'!$B$2:$G$1058,6,FALSE) -> 2.3 | I99: =ROUND(E99*H99,2) -> 0
B100: ='Preus Unitaris'!B100 -> F-012 | C100: =VLOOKUP(B100,'Preus Unitaris'!$B$2:$G$1058,2,FALSE) -> UT | D100: =VLOOKUP(B100,'Preus Unitaris'!$B$2:$G$1058,3,FALSE) -> SUBMINISTRAMENT I INSTAL·LACIÓ DE CAIXA D'EMPIULAMENT FO FINS A 288 FUSIONS | E100: ='Amidaments Generals'!E97 -> 0 | F100: =VLOOKUP(B100,'Preus Unitaris'!$B$2:$G$1058,4,FALSE) -> 315.126 | G100: =VLOOKUP(B100,'Preus Unitaris'!$B$2:$G$1058,5,FALSE) -> 59.87 | H100: =VLOOKUP(B100,'Preus Unitaris'!$B$2:$G$1058,6,FALSE) -> 375 | I100: =ROUND(E100*H100,2) -> 0
B101: ='Preus Unitaris'!B101 -> F-013 | C101: =VLOOKUP(B101,'Preus Unitaris'!$B$2:$G$1058,2,FALSE) -> UT | D101: =VLOOKUP(B101,'Preus Unitaris'!$B$2:$G$1058,3,FALSE) -> SUBMINISTRAMENT I INSTAL·LACIÓ DE TRANSCEPTOR SFP MONOMODE, CISCO GLC-LH-SMD, INCLOSA LLICÈNCIA, O 100% EQUIVALENT I COMPATIBLE AMB LA XARXA DE L'AJUNTAMENT | E101: ='Amidaments Generals'!E98 -> 2 | F101: =VLOOKUP(B101,'Preus Unitaris'!$B$2:$G$1058,4,FALSE) -> 273.109 | G101: =VLOOKUP(B101,'Preus Unitaris'!$B$2:$G$1058,5,FALSE) -> 51.89 | H101: =VLOOKUP(B101,'Preus Unitaris'!$B$2:$G$1058,6,FALSE) -> 325 | I101: =ROUND(E101*H101,2) -> 650
D102: Subtotal Comunicacions | I102: =SUM(I89:I101) -> 2924
B104: SENYALITZACIÓ
B105: ='Preus Unitaris'!B105 -> S-001 | C105: =VLOOKUP(B105,'Preus Unitaris'!$B$2:$G$1058,2,FALSE) -> UT | D105: =VLOOKUP(B105,'Preus Unitaris'!$B$2:$G$1058,3,FALSE) -> SUBMINISTRAMENT DE SENYAL DE "CONTROL FOTOGRÀFIC". SENYAL D´ACER GALVANITZAT REFLECTANT DE NIVELL 2 DE 1,8 MM DE GRUIX, DE DIÀMETRE 60 CM SEGONS NORMES. INCLÒS ELEMENTS DE SUSTENTACIÓ I FIXACIÓ. | E105: ='Amidaments Generals'!E101 -> 1 | F105: =VLOOKUP(B105,'Preus Unitaris'!$B$2:$G$1058,4,FALSE) -> 63.025 | G105: =VLOOKUP(B105,'Preus Unitaris'!$B$2:$G$1058,5,FALSE) -> 11.97 | H105: =VLOOKUP(B105,'Preus Unitaris'!$B$2:$G$1058,6,FALSE) -> 75 | I105: =ROUND(E105*H105,2) -> 75
B106: ='Preus Unitaris'!B106 -> S-002 | C106: =VLOOKUP(B106,'Preus Unitaris'!$B$2:$G$1058,2,FALSE) -> UT | D106: =VLOOKUP(B106,'Preus Unitaris'!$B$2:$G$1058,3,FALSE) -> SUBMINISTRAMENT DE SENYAL INFORMATIU DE ZONA VIDEOVIGILADA. SENYAL D´ACER GALVANITZAT REFLECTANT DE NIVELL 2 DE 1,8 MM DE GRUIX, DE DIMENSIONS 90x60 CM SEGONS NORMES. INCLÒS ELEMENTS DE SUSTENTACIÓ I FIXACIÓ. | E106: ='Amidaments Generals'!E102 -> 2 | F106: =VLOOKUP(B106,'Preus Unitaris'!$B$2:$G$1058,4,FALSE) -> 100.84 | G106: =VLOOKUP(B106,'Preus Unitaris'!$B$2:$G$1058,5,FALSE) -> 19.16 | H106: =VLOOKUP(B106,'Preus Unitaris'!$B$2:$G$1058,6,FALSE) -> 120 | I106: =ROUND(E106*H106,2) -> 240
B107: ='Preus Unitaris'!B107 -> S-003 | C107: =VLOOKUP(B107,'Preus Unitaris'!$B$2:$G$1058,2,FALSE) -> UT | D107: =VLOOKUP(B107,'Preus Unitaris'!$B$2:$G$1058,3,FALSE) -> INSTAL·LACIÓ DE SENYAL VERTICAL. INCLÒS ELEMENTS DE SUSTENTACIÓ I FIXACIÓ. | E107: ='Amidaments Generals'!E103 -> 3 | F107: =VLOOKUP(B107,'Preus Unitaris'!$B$2:$G$1058,4,FALSE) -> 33.613 | G107: =VLOOKUP(B107,'Preus Unitaris'!$B$2:$G$1058,5,FALSE) -> 6.39 | H107: =VLOOKUP(B107,'Preus Unitaris'!$B$2:$G$1058,6,FALSE) -> 40 | I107: =ROUND(E107*H107,2) -> 120
B108: ='Preus Unitaris'!B108 -> S-004 | C108: =VLOOKUP(B108,'Preus Unitaris'!$B$2:$G$1058,2,FALSE) -> UT | D108: =VLOOKUP(B108,'Preus Unitaris'!$B$2:$G$1058,3,FALSE) -> SUBMINISTRAMENT DE PAL METÀL·LIC PER SUPORTACIÓ DE SENYALITZACIÓ VERTICAL, SEGONS NORMATIVA AJUNTAMENT. | E108: ='Amidaments Generals'!E104 -> 0 | F108: =VLOOKUP(B108,'Preus Unitaris'!$B$2:$G$1058,4,FALSE) -> 44.118 | G108: =VLOOKUP(B108,'Preus Unitaris'!$B$2:$G$1058,5,FALSE) -> 8.38 | H108: =VLOOKUP(B108,'Preus Unitaris'!$B$2:$G$1058,6,FALSE) -> 52.5 | I108: =ROUND(E108*H108,2) -> 0
B109: ='Preus Unitaris'!B109 -> S-005 | C109: =VLOOKUP(B109,'Preus Unitaris'!$B$2:$G$1058,2,FALSE) -> UT | D109: =VLOOKUP(B109,'Preus Unitaris'!$B$2:$G$1058,3,FALSE) -> INSTAL·LACIÓ DE PAL METÀL·LIC PER SUPORTACIÓ DE SENYALITZACIÓ VERTICAL, SEGONS NORMATIVA AJUNTAMENT, INCLOSOS TREBALLS D'OBRA CIVIL NECESSARIS. | E109: ='Amidaments Generals'!E105 -> 0 | F109: =VLOOKUP(B109,'Preus Unitaris'!$B$2:$G$1058,4,FALSE) -> 39.13 | G109: =VLOOKUP(B109,'Preus Unitaris'!$B$2:$G$1058,5,FALSE) -> 7.43 | H109: =VLOOKUP(B109,'Preus Unitaris'!$B$2:$G$1058,6,FALSE) -> 46.565 | I109: =ROUND(E109*H109,2) -> 0
B110: ='Preus Unitaris'!B110 -> S-006 | C110: =VLOOKUP(B110,'Preus Unitaris'!$B$2:$G$1058,2,FALSE) -> UT | D110: =VLOOKUP(B110,'Preus Unitaris'!$B$2:$G$1058,3,FALSE) -> SUBMINISTRAMENT I INSTAL·LACIÓ DE FITÓ FLEXIBLE DE SENYALITZACIÓ. | E110: ='Amidaments Generals'!E106 -> 0 | F110: =VLOOKUP(B110,'Preus Unitaris'!$B$2:$G$1058,4,FALSE) -> 50.42 | G110: =VLOOKUP(B110,'Preus Unitaris'!$B$2:$G$1058,5,FALSE) -> 9.58 | H110: =VLOOKUP(B110,'Preus Unitaris'!$B$2:$G$1058,6,FALSE) -> 60 | I110: =ROUND(E110*H110,2) -> 0
D111: Subtotal Senyalització | I111: =SUM(I105:I110) -> 435
D114: =CONCATENATE("TOTAL PRESSUPOST EXECUCIÓ ",B2) -> TOTAL PRESSUPOST EXECUCIÓ PdC-02 | I114: =SUM(I6:I111)/2 -> 25247.5
D117: =CONCATENATE("RESUM PRESSUPOST ",B2) -> RESUM PRESSUPOST PdC-02
D118: =B6 -> EQUIPAMENT PUNT DE CONTROL | I118: =I45 -> 16854
D119: =B47 -> OBRA CIVIL | I119: =I72 -> 3171.5
D120: INSTAL·LACIÓ ELÈCTRICA | I120: =I87 -> 1863
D121: COMUNICACIONS | I121: =I102 -> 2924
D122: =B104 -> SENYALITZACIÓ | I122: =I111 -> 435
D123: =D114 -> TOTAL PRESSUPOST EXECUCIÓ PdC-02 | I123: =SUM(I118:I122) -> 25247.5
D124: IVA | E124: 0.21 | I124: =ROUND(I123*E124,2) -> 5301.98
D125: =CONCATENATE(D114, " IVA inclòs") -> TOTAL PRESSUPOST EXECUCIÓ PdC-02 IVA inclòs | I125: =SUM(I123:I124) -> 30549.48
A128: NOTA: | B128: Els preus unitaris duen incorporats les parts proporcionals Despeses Generals, Benefici Industrial
B129: i qualsevol altre que sigui necessari per a la correcte execució de les unitats d'obra.

Sheet ZBE-03
F1: ocultar | G1: ocultar
B2: ='Amidaments Generals'!F5 -> PdC-03 | D2: ='[1]RESUM PPOST GRAL'!L10 -> C/ Pare Sallares – Rda. Ponent
B4: CODI | C4: UNITAT MESURA | D4: CONCEPTE / DENOMINACIÓ | E4: AMIDAMENT | F4: PREU UNITARI PEM | G4: BI+DG | H4: PREU UNITARI PEC | I4: PREU TOTAL
B6: EQUIPAMENT PUNT DE CONTROL
B7: ='Preus Unitaris'!B7 -> E-001 | C7: =VLOOKUP(B7,'Preus Unitaris'!$B$2:$G$1058,2,FALSE) -> UT | D7: =VLOOKUP(B7,'Preus Unitaris'!$B$2:$G$1058,3,FALSE) -> SUBMINISTRAMENT D'EQUIP COMPACTE DE RECONEIXEMENT DE MATRÍCULES, FORMAT PER CONJUNT DE CÀMERA LPR 2 CARRILS HD, CÀMERA DE CONTEXT A COLOR I IL·LUMINADOR IR PER A ZONA D’INFRACCIONS. INCLOU LLICÈNCIA OCR, CARCASSA, BRAÇ I ADAPTACIÓ A SUPORT. | E7: ='Amidaments Generals'!F7 -> 1 | F7: =VLOOKUP(B7,'Preus Unitaris'!$B$2:$G$1058,4,FALSE) -> 6369.748 | G7: =VLOOKUP(B7,'Preus Unitaris'!$B$2:$G$1058,5,FALSE) -> 1210.25 | H7: =VLOOKUP(B7,'Preus Unitaris'!$B$2:$G$1058,6,FALSE) -> 7580 | I7: =ROUND(E7*H7,2) -> 7580
B8: ='Preus Unitaris'!B8 -> E-002 | C8: =VLOOKUP(B8,'Preus Unitaris'!$B$2:$G$1058,2,FALSE) -> UT | D8: =VLOOKUP(B8,'Preus Unitaris'!$B$2:$G$1058,3,FALSE) -> INSTAL·LACIÓ D'EQUIP COMPACTE DE RECONEIXEMENT DE MATRÍCULES, FORMAT PER CONJUNT DE CÀMERA LPR 2 CARRILS HD, CÀMERA DE CONTEXT A COLOR I IL·LUMINADOR IR PER A ZONA D’INFRACCIONS. INCLOU LLICÈNCIA OCR, CARCASSA, BRAÇ I ADAPTACIÓ A SUPORT. | E8: ='Amidaments Generals'!F8 -> 1 | F8: =VLOOKUP(B8,'Preus Unitaris'!$B$2:$G$1058,4,FALSE) -> 315.126 | G8: =VLOOKUP(B8,'Preus Unitaris'!$B$2:$G$1058,5,FALSE) -> 59.87 | H8: =VLOOKUP(B8,'Preus Unitaris'!$B$2:$G$1058,6,FALSE) -> 375 | I8: =ROUND(E8*H8,2) -> 375
B9: ='Preus Unitaris'!B9 -> E-003 | C9: =VLOOKUP(B9,'Preus Unitaris'!$B$2:$G$1058,2,FALSE) -> UT | D9: =VLOOKUP(B9,'Preus Unitaris'!$B$2:$G$1058,3,FALSE) -> SUBMINISTRAMENT DE FONT D'ALIMENTACIÓ 48V TIPUS INDUSTRIAL, PER MUNTATGE EN CARRIL DIN, PER ALIMENTAR FINS A 4 CÀMERES PUNT DE CONTROL. | E9: ='Amidaments Generals'!F9 -> 1 | F9: =VLOOKUP(B9,'Preus Unitaris'!$B$2:$G$1058,4,FALSE) -> 134.454 | G9: =VLOOKUP(B9,'Preus Unitaris'!$B$2:$G$1058,5,FALSE) -> 25.55 | H9: =VLOOKUP(B9,'Preus Unitaris'!$B$2:$G$1058,6,FALSE) -> 160 | I9: =ROUND(E9*H9,2) -> 160
B10: ='Preus Unitaris'!B10 -> E-004 | C10: =VLOOKUP(B10,'Preus Unitaris'!$B$2:$G$1058,2,FALSE) -> UT | D10: =VLOOKUP(B10,'Preus Unitaris'!$B$2:$G$1058,3,FALSE) -> INSTAL·LACIÓ DE FONT D'ALIMENTACIÓ 48V TIPUS INDUSTRIAL, PER MUNTATGE EN CARRIL DIN, PER ALIMENTAR FINS A 4 CÀMERES PUNT DE CONTROL. | E10: ='Amidaments Generals'!F10 -> 1 | F10: =VLOOKUP(B10,'Preus Unitaris'!$B$2:$G$1058,4,FALSE) -> 29.412 | G10: =VLOOKUP(B10,'Preus Unitaris'!$B$2:$G$1058,5,FALSE) -> 5.59 | H10: =VLOOKUP(B10,'Preus Unitaris'!$B$2:$G$1058,6,FALSE) -> 35 | I10: =ROUND(E10*H10,2) -> 35
B11: ='Preus Unitaris'!B11 -> E-005 | C11: =VLOOKUP(B11,'Preus Unitaris'!$B$2:$G$1058,2,FALSE) -> UT | D11: =VLOOKUP(B11,'Preus Unitaris'!$B$2:$G$1058,3,FALSE) -> SUBMINISTRAMENT DE FONT D'ALIMENTACIÓ 24V TIPUS INDUSTRIAL, PER MUNTATGE EN CARRIL DIN. | E11: ='Amidaments Generals'!F11 -> 0 | F11: =VLOOKUP(B11,'Preus Unitaris'!$B$2:$G$1058,4,FALSE) -> 45.378 | G11: =VLOOKUP(B11,'Preus Unitaris'!$B$2:$G$1058,5,FALSE) -> 8.62 | H11: =VLOOKUP(B11,'Preus Unitaris'!$B$2:$G$1058,6,FALSE) -> 54 | I11: =ROUND(E11*H11,2) -> 0
B12: ='Preus Unitaris'!B12 -> E-006 | C12: =VLOOKUP(B12,'Preus Unitaris'!$B$2:$G$1058,2,FALSE) -> UT | D12: =VLOOKUP(B12,'Preus Unitaris'!$B$2:$G$1058,3,FALSE) -> INSTAL·LACIÓ DE FONT D'ALIMENTACIÓ 24V TIPUS INDUSTRIAL, PER MUNTATGE EN CARRIL DIN. | E12: ='Amidaments Generals'!F12 -> 0 | F12: =VLOOKUP(B12,'Preus Unitaris'!$B$2:$G$1058,4,FALSE) -> 11.765 | G12: =VLOOKUP(B12,'Preus Unitaris'!$B$2:$G$1058,5,FALSE) -> 2.24 | H12: =VLOOKUP(B12,'Preus Unitaris'!$B$2:$G$1058,6,FALSE) -> 14 | I12: =ROUND(E12*H12,2) -> 0
B13: ='Preus Unitaris'!B13 -> E-007 | C13: =VLOOKUP(B13,'Preus Unitaris'!$B$2:$G$1058,2,FALSE) -> UT | D13: =VLOOKUP(B13,'Preus Unitaris'!$B$2:$G$1058,3,FALSE) -> SUBMINISTRAMENT DE SWITCH DE COMUNICACIÓ PER SISTEMA DE VISIÓ ARTIFICIAL, TIPUS INDUSTRIAL, GESTIONABLE, AMB 8 PORTS PoE (802.3at i 802.3bt), INCLOSOS FUETONS DE CONNEXIÓ, COMPATIBLE AMB EL SISTEMA DE COMUNICACIONS DE L'AJUNTAMENT. | E13: ='Amidaments Generals'!F13 -> 0 | F13: =VLOOKUP(B13,'Preus Unitaris'!$B$2:$G$1058,4,FALSE) -> 987.395 | G13: =VLOOKUP(B13,'Preus Unitaris'!$B$2:$G$1058,5,FALSE) -> 187.61 | H13: =VLOOKUP(B13,'Preus Unitaris'!$B$2:$G$1058,6,FALSE) -> 1175 | I13: =ROUND(E13*H13,2) -> 0
B14: ='Preus Unitaris'!B14 -> E-008 | C14: =VLOOKUP(B14,'Preus Unitaris'!$B$2:$G$1058,2,FALSE) -> UT | D14: =VLOOKUP(B14,'Preus Unitaris'!$B$2:$G$1058,3,FALSE) -> INSTAL·LACIÓ I CONFIGURACIÓ DE SWITCH DE COMUNICACIÓ PER SISTEMA DE VISIÓ ARTIFICIAL, TIPUS INDUSTRIAL, GESTIONABLE, AMB 8 PORTS PoE (802.3at i 802.3bt), INCLOSOS FUETONS DE CONNEXIÓ, COMPATIBLE AMB EL SISTEMA DE COMUNICACIONS DE L'AJUNTAMENT. | E14: ='Amidaments Generals'!F14 -> 0 | F14: =VLOOKUP(B14,'Preus Unitaris'!$B$2:$G$1058,4,FALSE) -> 75.63 | G14: =VLOOKUP(B14,'Preus Unitaris'!$B$2:$G$1058,5,FALSE) -> 14.37 | H14: =VLOOKUP(B14,'Preus Unitaris'!$B$2:$G$1058,6,FALSE) -> 90 | I14: =ROUND(E14*H14,2) -> 0
B15: ='Preus Unitaris'!B15 -> E-009 | C15: =VLOOKUP(B15,'Preus Unitaris'!$B$2:$G$1058,2,FALSE) -> UT | D15: =VLOOKUP(B15,'Preus Unitaris'!$B$2:$G$1058,3,FALSE) -> SUBMINISTRAMENT DE SWITCH DE COMUNICACIÓ PER SISTEMA DE VISIÓ ARTIFICIAL, TIPUS INDUSTRIAL, PoE, AMB 10 PORTS MODEL CISCO IE-3400-8P2S-E O 100% EQUIPAVENT, INCLOSOS FUETONS DE CONNEXIÓ, COMPATIBLE AMB EL SISTEMA DE COMUNICACIONS DE L'AJUNTAMENT. | E15: ='Amidaments Generals'!F15 -> 1 | F15: =VLOOKUP(B15,'Preus Unitaris'!$B$2:$G$1058,4,FALSE) -> 3298.319 | G15: =VLOOKUP(B15,'Preus Unitaris'!$B$2:$G$1058,5,FALSE) -> 626.68 | H15: =VLOOKUP(B15,'Preus Unitaris'!$B$2:$G$1058,6,FALSE) -> 3925 | I15: =ROUND(E15*H15,2) -> 3925
B16: ='Preus Unitaris'!B16 -> E-010 | C16: =VLOOKUP(B16,'Preus Unitaris'!$B$2:$G$1058,2,FALSE) -> UT | D16: =VLOOKUP(B16,'Preus Unitaris'!$B$2:$G$1058,3,FALSE) -> INSTAL·LACIÓ I CONFIGURACIÓ DE SWITCH DE COMUNICACIÓ PER SISTEMA DE VISIÓ ARTIFICIAL, TIPUS INDUSTRIAL, PoE, AMB 10 PORTS MODEL CISCO IE-3400-8P2S-E O 100% EQUIPAVENT, INCLOSOS FUETONS DE CONNEXIÓ, COMPATIBLE AMB EL SISTEMA DE COMUNICACIONS DE L'AJUNTAMENT. | E16: ='Amidaments Generals'!F16 -> 1 | F16: =VLOOKUP(B16,'Preus Unitaris'!$B$2:$G$1058,4,FALSE) -> 92.437 | G16: =VLOOKUP(B16,'Preus Unitaris'!$B$2:$G$1058,5,FALSE) -> 17.56 | H16: =VLOOKUP(B16,'Preus Unitaris'!$B$2:$G$1058,6,FALSE) -> 110 | I16: =ROUND(E16*H16,2) -> 110
B17: ='Preus Unitaris'!B17 -> E-011 | C17: =VLOOKUP(B17,'Preus Unitaris'!$B$2:$G$1058,2,FALSE) -> UT | D17: =VLOOKUP(B17,'Preus Unitaris'!$B$2:$G$1058,3,FALSE) -> SUBMINISTRAMENT DE PC INDUSTRIAL RUGORITZAT DE 20 GB DE CAPACITAT EMAGATZEMATGE, PROCESSADOR ÚLTIMA GENERACIÓ, SEGONS ESPECIFICCIONS TÈCNIQUES. | E17: ='Amidaments Generals'!F17 -> 1 | F17: =VLOOKUP(B17,'Preus Unitaris'!$B$2:$G$1058,4,FALSE) -> 903.361 | G17: =VLOOKUP(B17,'Preus Unitaris'!$B$2:$G$1058,5,FALSE) -> 171.64 | H17: =VLOOKUP(B17,'Preus Unitaris'!$B$2:$G$1058,6,FALSE) -> 1075 | I17: =ROUND(E17*H17,2) -> 1075
B18: ='Preus Unitaris'!B18 -> E-012 | C18: =VLOOKUP(B18,'Preus Unitaris'!$B$2:$G$1058,2,FALSE) -> UT | D18: =VLOOKUP(B18,'Preus Unitaris'!$B$2:$G$1058,3,FALSE) -> INSTAL·LACIÓ I CONFIGURACIÓ DE PC INDUSTRIAL RUGORITZAT DE 20 GB DE CAPACITAT EMAGATZEMATGE, PROCESSADOR ÚLTIMA GENERACIÓ, SEGONS ESPECIFICCIONS TÈCNIQUES. | E18: ='Amidaments Generals'!F18 -> 1 | F18: =VLOOKUP(B18,'Preus Unitaris'!$B$2:$G$1058,4,FALSE) -> 100.84 | G18: =VLOOKUP(B18,'Preus Unitaris'!$B$2:$G$1058,5,FALSE) -> 19.16 | H18: =VLOOKUP(B18,'Preus Unitaris'!$B$2:$G$1058,6,FALSE) -> 120 | I18: =ROUND(E18*H18,2) -> 120
... B44: ='Preus Unitaris'!B44 -> E-038 | C44: =VLOOKUP(B44,'Preus Unitaris'!$B$2:$G$1058,2,FALSE) -> UT | D44: =VLOOKUP(B44,'Preus Unitaris'!$B$2:$G$1058,3,FALSE) -> PRECINTAT DE CÀMERES I DEL PC DE CONTROL DEL PUNT DE CONTROL. INCLOU TOTS ELS MATERIALS (PRECINTES), MITJANS I RECURSOS NECESSARIS. PREU PER PUNT DE CONTROL | E44: ='Amidaments Generals'!F44 -> 0 | F44: =VLOOKUP(B44,'Preus Unitaris'!$B$2:$G$1058,4,FALSE) -> 126.05 | G44: =VLOOKUP(B44,'Preus Unitaris'!$B$2:$G$1058,5,FALSE) -> 23.95 | H44: =VLOOKUP(B44,'Preus Unitaris'!$B$2:$G$1058,6,FALSE) -> 150 | I44: =ROUND(E44*H44,2) -> 0
D45: Subtotal Equipament PdC | I45: =SUM(I7:I44) -> 16854
B47: OBRA CIVIL
B48: ='Preus Unitaris'!B47 -> O-001 | C48: =VLOOKUP(B48,'Preus Unitaris'!$B$2:$G$1058,2,FALSE) -> UT | D48: =VLOOKUP(B48,'Preus Unitaris'!$B$2:$G$1058,3,FALSE) -> FONAMENT DE FORMIGÓ PER A ARMARI DE CONTROL O ESCOMESA ELÈCTRICA, AMB DOSIFICACIÓ DE 250 KG/m3 I ENCOFRAT CARA VISTA, DE DIMENSIONS APROX. 800 x 800 x 500 mm AMB UN ENCASTAMENT DE 20 cm I 4 FORATS DE 110 mm. DE DIÀMETRE. INCLOU DEMOLICIÓ PAVIMENT, EXCAVACIÓ I POSTERIOR REPOSICIÓ. TOTALMENT EXECUTAT. | E48: ='Amidaments Generals'!F46 -> 1 | F48: =VLOOKUP(B48,'Preus Unitaris'!$B$2:$G$1058,4,FALSE) -> 197.479 | G48: =VLOOKUP(B48,'Preus Unitaris'!$B$2:$G$1058,5,FALSE) -> 37.52 | H48: =VLOOKUP(B48,'Preus Unitaris'!$B$2:$G$1058,6,FALSE) -> 235 | I48: =ROUND(E48*H48,2) -> 235
B49: ='Preus Unitaris'!B48 -> O-002 | C49: =VLOOKUP(B49,'Preus Unitaris'!$B$2:$G$1058,2,FALSE) -> UT | D49: =VLOOKUP(B49,'Preus Unitaris'!$B$2:$G$1058,3,FALSE) -> FONAMENT DE FORMIGÓ PER A COLUMNA 4000, AMB DOSIFICACIÓ DE 250 KG/m3, MITJANÇANT UN DAU DE 50 cm. DE COSTAT I 60 cm. DE PROFUNDITAT, INCLÒS COLZE DE CONNEXIÓ AMB TUBULAR. INCLOU DEMOLICIÓ PAVIMENT, EXCAVACIÓ I POSTERIOR REPOSICIÓ. TOTALMENT EXECUTAT. | E49: ='Amidaments Generals'!F47 -> 1 | F49: =VLOOKUP(B49,'Preus Unitaris'!$B$2:$G$1058,4,FALSE) -> 92.437 | G49: =VLOOKUP(B49,'Preus Unitaris'!$B$2:$G$1058,5,FALSE) -> 17.56 | H49: =VLOOKUP(B49,'Preus Unitaris'!$B$2:$G$1058,6,FALSE) -> 110 | I49: =ROUND(E49*H49,2) -> 110
B50: ='Preus Unitaris'!B49 -> O-003 | C50: =VLOOKUP(B50,'Preus Unitaris'!$B$2:$G$1058,2,FALSE) -> UT | D50: =VLOOKUP(B50,'Preus Unitaris'!$B$2:$G$1058,3,FALSE) -> FONAMENT DE FORMIGÓ PER A BÀCUL DE SEMÀFORS 6025 m, AMB DOSIFICACIÓ DE 250 KG/m3, MITJANÇANT UN DAU DE 80 cm. DE COSTAT I 100 cm. DE PROFUNDITAT, INCLÒS PERNS ANCORATGE, COLZE DE CONNEXIÓ AMB TUBULAR. INCLOU DEMOLICIÓ PAVIMENT, EXCAVACIÓ I POSTERIOR REPOSICIÓ. TOTALMENT EXECUTAT. | E50: ='Amidaments Generals'!F48 -> 0 | F50: =VLOOKUP(B50,'Preus Unitaris'!$B$2:$G$1058,4,FALSE) -> 415.966 | G50: =VLOOKUP(B50,'Preus Unitaris'!$B$2:$G$1058,5,FALSE) -> 79.03 | H50: =VLOOKUP(B50,'Preus Unitaris'!$B$2:$G$1058,6,FALSE) -> 495 | I50: =ROUND(E50*H50,2) -> 0
B51: ='Preus Unitaris'!B50 -> O-004 | C51: =VLOOKUP(B51,'Preus Unitaris'!$B$2:$G$1058,2,FALSE) -> UT | D51: =VLOOKUP(B51,'Preus Unitaris'!$B$2:$G$1058,3,FALSE) -> PERICÓ DE 60 x 60 cm. PREFABRICAT DE FORMIGÓ O CONSTRUÏT AMB MAONS GERO I FONS DEL MATEIX MATERIAL REBENT EL MARC I LA TAPA CORRESPONENT, SENSE INCLOURE AQUESTS. INCLOU DEMOLICIÓ PAVIMENT, EXCAVACIÓ I POSTERIOR REPOSICIÓ. TOTALMENT EXECUTAT. | E51: ='Amidaments Generals'!F49 -> 2 | F51: =VLOOKUP(B51,'Preus Unitaris'!$B$2:$G$1058,4,FALSE) -> 126.05 | G51: =VLOOKUP(B51,'Preus Unitaris'!$B$2:$G$1058,5,FALSE) -> 23.95 | H51: =VLOOKUP(B51,'Preus Unitaris'!$B$2:$G$1058,6,FALSE) -> 150 | I51: =ROUND(E51*H51,2) -> 300
B52: ='Preus Unitaris'!B51 -> O-005 | C52: =VLOOKUP(B52,'Preus Unitaris'!$B$2:$G$1058,2,FALSE) -> UT | D52: =VLOOKUP(B52,'Preus Unitaris'!$B$2:$G$1058,3,FALSE) -> SUBMINISTRAMENT MARC DE FERRO FOS DE 60 x 60 cm PER INSTAL·LACIÓ EN VORERA, AMB INSCRIPCIÓ. | E52: ='Amidaments Generals'!F50 -> 2 | F52: =VLOOKUP(B52,'Preus Unitaris'!$B$2:$G$1058,4,FALSE) -> 33.613 | G52: =VLOOKUP(B52,'Preus Unitaris'!$B$2:$G$1058,5,FALSE) -> 6.39 | H52: =VLOOKUP(B52,'Preus Unitaris'!$B$2:$G$1058,6,FALSE) -> 40 | I52: =ROUND(E52*H52,2) -> 80
B53: ='Preus Unitaris'!B52 -> O-006 | C53: =VLOOKUP(B53,'Preus Unitaris'!$B$2:$G$1058,2,FALSE) -> UT | D53: =VLOOKUP(B53,'Preus Unitaris'!$B$2:$G$1058,3,FALSE) -> SUBMINISTRAMENT TAPA DE FERRO FOS DE 60 x 60 cm PER INSTAL·LACIÓ EN VORERA, AMB INSCRIPCIÓ. | E53: ='Amidaments Generals'!F51 -> 2 | F53: =VLOOKUP(B53,'Preus Unitaris'!$B$2:$G$1058,4,FALSE) -> 67.227 | G53: =VLOOKUP(B53,'Preus Unitaris'!$B$2:$G$1058,5,FALSE) -> 12.77 | H53: =VLOOKUP(B53,'Preus Unitaris'!$B$2:$G$1058,6,FALSE) -> 80 | I53: =ROUND(E53*H53,2) -> 160
B54: ='Preus Unitaris'!B53 -> O-007 | C54: =VLOOKUP(B54,'Preus Unitaris'!$B$2:$G$1058,2,FALSE) -> UT | D54: =VLOOKUP(B54,'Preus Unitaris'!$B$2:$G$1058,3,FALSE) -> REPARACIÓ D'ESTRUCTURA INTERIOR DE PERICÓ EXISTENT DE 60 x 60 cm, AMB ADEQUACIÓ DE PARETS I LLISCAT. TOTALMENT EXECUTAT. | E54: ='Amidaments Generals'!F52 -> 0 | F54: =VLOOKUP(B54,'Preus Unitaris'!$B$2:$G$1058,4,FALSE) -> 68.908 | G54: =VLOOKUP(B54,'Preus Unitaris'!$B$2:$G$1058,5,FALSE) -> 13.09 | H54: =VLOOKUP(B54,'Preus Unitaris'!$B$2:$G$1058,6,FALSE) -> 82 | I54: =ROUND(E54*H54,2) -> 0
B55: ='Preus Unitaris'!B54 -> O-008 | C55: =VLOOKUP(B55,'Preus Unitaris'!$B$2:$G$1058,2,FALSE) -> UT | D55: =VLOOKUP(B55,'Preus Unitaris'!$B$2:$G$1058,3,FALSE) -> INTERCEPTAR CANALITZACIÓ EXISTENT / EMBOCADURA PERICÓ EXISTENT. | E55: ='Amidaments Generals'!F53 -> 0 | F55: =VLOOKUP(B55,'Preus Unitaris'!$B$2:$G$1058,4,FALSE) -> 155.462 | G55: =VLOOKUP(B55,'Preus Unitaris'!$B$2:$G$1058,5,FALSE) -> 29.54 | H55: =VLOOKUP(B55,'Preus Unitaris'!$B$2:$G$1058,6,FALSE) -> 185 | I55: =ROUND(E55*H55,2) -> 0
B56: ='Preus Unitaris'!B55 -> O-009 | C56: =VLOOKUP(B56,'Preus Unitaris'!$B$2:$G$1058,2,FALSE) -> ML | D56: =VLOOKUP(B56,'Preus Unitaris'!$B$2:$G$1058,3,FALSE) -> COMPROVACIÓ I MANDRINATGE DE CANALITZACIÓ EXISTENT DEIXANT PASSAT FIL GUIA. | E56: ='Amidaments Generals'!F54 -> 20 | F56: =VLOOKUP(B56,'Preus Unitaris'!$B$2:$G$1058,4,FALSE) -> 1.261 | G56: =VLOOKUP(B56,'Preus Unitaris'!$B$2:$G$1058,5,FALSE) -> 0.24 | H56: =VLOOKUP(B56,'Preus Unitaris'!$B$2:$G$1058,6,FALSE) -> 1.5 | I56: =ROUND(E56*H56,2) -> 30
B57: ='Preus Unitaris'!B56 -> O-010 | C57: =VLOOKUP(B57,'Preus Unitaris'!$B$2:$G$1058,2,FALSE) -> ML | D57: =VLOOKUP(B57,'Preus Unitaris'!$B$2:$G$1058,3,FALSE) -> CANALITZACIÓ EN VORERA INCLOENT SUBMINISTRAMENT I INSTAL·LACIÓ DE 2 TUBS DE PE ø 11 cm. DE DOBLE CAPA, LLIS A L'INTERIOR I CORRUGAT A L'EXTERIOR, INCLÒS EXCAVACIÓ EN RASA DE 40 x 68 cm. DE PROFUNDITAT, BASE I PROTECCIÓ DE FORMIGÓ HM20, EN VORERES DE PANOT INCLÒS LA SEVA REPOSICIÓ. TOTALMENT EXECUTADA D'ACORD AMB LES ORDENANCES MUNICIPALS I INDICACIONS PARTICULARS. | E57: ='Amidaments Generals'!F55 -> 0 | F57: =VLOOKUP(B57,'Preus Unitaris'!$B$2:$G$1058,4,FALSE) -> 71.429 | G57: =VLOOKUP(B57,'Preus Unitaris'!$B$2:$G$1058,5,FALSE) -> 13.57 | H57: =VLOOKUP(B57,'Preus Unitaris'!$B$2:$G$1058,6,FALSE) -> 85 | I57: =ROUND(E57*H57,2) -> 0
B58: ='Preus Unitaris'!B57 -> O-011 | C58: =VLOOKUP(B58,'Preus Unitaris'!$B$2:$G$1058,2,FALSE) -> ML | D58: =VLOOKUP(B58,'Preus Unitaris'!$B$2:$G$1058,3,FALSE) -> CANALITZACIÓ EN CALÇADA INCLÒS SUBMINISTRAMENT I INSTAL·LACIÓ DE 2 TUBS DE PE ø 11 cm. DE DOBLE CAPA, LLIS A L'INTERIOR I CORRUGAT A L'EXTERIOR, INCLÒS EXCAVACIÓ EN RASA DE 68 x 80 cm. DE PROFUNDITAT, BASE I PROTECCIÓ DE FORMIGÓ HM20, EN CALÇADES. INCLOSA REPOSICIÓ PAVIMENT AGLOMERAT ASFÀLTIC SEGONS ELS PLÀNOLS DEL PROJECTE. TOTALMENT EXECUTADA D'ACORD AMB LES ORDENANCES MUNICIPALS I PLEC DE CONDICIONS. | E58: ='Amidaments Generals'!F56 -> 0 | F58: =VLOOKUP(B58,'Preus Unitaris'!$B$2:$G$1058,4,FALSE) -> 149.58 | G58: =VLOOKUP(B58,'Preus Unitaris'!$B$2:$G$1058,5,FALSE) -> 28.42 | H58: =VLOOKUP(B58,'Preus Unitaris'!$B$2:$G$1058,6,FALSE) -> 178 | I58: =ROUND(E58*H58,2) -> 0
B59: ='Preus Unitaris'!B58 -> O-012 | C59: =VLOOKUP(B59,'Preus Unitaris'!$B$2:$G$1058,2,FALSE) -> ML | D59: =VLOOKUP(B59,'Preus Unitaris'!$B$2:$G$1058,3,FALSE) -> CANALITZACIÓ EN CALÇADA INCLÒS SUBMINISTRAMENT I INSTAL·LACIÓ DE 4 TUBS DE PE ø 11 cm. DE DOBLE CAPA, LLIS A L'INTERIOR I CORRUGAT A L'EXTERIOR, INCLÒS EXCAVACIÓ EN RASA DE 68 x 80 cm. DE PROFUNDITAT, BASE I PROTECCIÓ DE FORMIGÓ HM20, EN CALÇADES. INCLOSA REPOSICIÓ PAVIMENT AGLOMERAT ASFÀLTIC, SEGONS PLÀNOLS DEL PROJECTE. TOTALMENT EXECUTADA D'ACORD AMB LES ORDENANCES MUNICIPALS I PLEC DE CONDICIONS. | E59: ='Amidaments Generals'!F57 -> 0 | F59: =VLOOKUP(B59,'Preus Unitaris'!$B$2:$G$1058,4,FALSE) -> 155.462 | G59: =VLOOKUP(B59,'Preus Unitaris'!$B$2:$G$1058,5,FALSE) -> 29.54 | H59: =VLOOKUP(B59,'Preus Unitaris'!$B$2:$G$1058,6,FALSE) -> 185 | I59: =ROUND(E59*H59,2) -> 0
... B71: ='Preus Unitaris'!B70 -> O-024 | C71: =VLOOKUP(B71,'Preus Unitaris'!$B$2:$G$1058,2,FALSE) -> UT | D71: =VLOOKUP(B71,'Preus Unitaris'!$B$2:$G$1058,3,FALSE) -> RETIRADA, TRASLLAT I INSTAL·LACIÓ DE PAPERERA, INCLOSOS MITJANS I MATERIALS NECESSARIS. | E71: ='Amidaments Generals'!F69 -> 0 | F71: =VLOOKUP(B71,'Preus Unitaris'!$B$2:$G$1058,4,FALSE) -> 75.63 | G71: =VLOOKUP(B71,'Preus Unitaris'!$B$2:$G$1058,5,FALSE) -> 14.37 | H71: =VLOOKUP(B71,'Preus Unitaris'!$B$2:$G$1058,6,FALSE) -> 90 | I71: =ROUND(E71*H71,2) -> 0
D72: Subtotal Obra Civil | I72: =SUM(I48:I71) -> 1185
B74: INSTAL·LACIÓ ELÈCTRICA
B75: ='Preus Unitaris'!B73 -> I-001 | C75: =VLOOKUP(B75,'Preus Unitaris'!$B$2:$G$1058,2,FALSE) -> UT | D75: =VLOOKUP(B75,'Preus Unitaris'!$B$2:$G$1058,3,FALSE) -> SUBMINISTRAMENT D'EQUIPAMENTS ESPECÍFICS PER LA DISTRIBUCIÓ D'ENERGIA DEL PUNT DE CONTROL, CONSISTENTS EN PROTECCIONS ELÈCTRIQUES CONTRA SOBRETENSIONS TRANSITÒRIES (1 UT) I PERMANENTS (1 UT), DIFERENCIALS (FINS A 2 UT), MAGNETOTÈRMICS (FINS A 3 UT) I PRESA DE CORRENT TIPUS SCHUKO (1 UT). | E75: ='Amidaments Generals'!F71 -> 1 | F75: =VLOOKUP(B75,'Preus Unitaris'!$B$2:$G$1058,4,FALSE) -> 268.908 | G75: =VLOOKUP(B75,'Preus Unitaris'!$B$2:$G$1058,5,FALSE) -> 51.09 | H75: =VLOOKUP(B75,'Preus Unitaris'!$B$2:$G$1058,6,FALSE) -> 320 | I75: =ROUND(E75*H75,2) -> 320
B76: ='Preus Unitaris'!B74 -> I-002 | C76: =VLOOKUP(B76,'Preus Unitaris'!$B$2:$G$1058,2,FALSE) -> UT | D76: =VLOOKUP(B76,'Preus Unitaris'!$B$2:$G$1058,3,FALSE) -> INSTAL·LACIÓ D'EQUIPAMENTS ESPECÍFICS PER LA DISTRIBUCIÓ D'ENERGIA DEL PUNT DE CONTROL. | E76: ='Amidaments Generals'!F72 -> 1 | F76: =VLOOKUP(B76,'Preus Unitaris'!$B$2:$G$1058,4,FALSE) -> 68.067 | G76: =VLOOKUP(B76,'Preus Unitaris'!$B$2:$G$1058,5,FALSE) -> 12.93 | H76: =VLOOKUP(B76,'Preus Unitaris'!$B$2:$G$1058,6,FALSE) -> 81 | I76: =ROUND(E76*H76,2) -> 81
B77: ='Preus Unitaris'!B75 -> I-003 | C77: =VLOOKUP(B77,'Preus Unitaris'!$B$2:$G$1058,2,FALSE) -> ML | D77: =VLOOKUP(B77,'Preus Unitaris'!$B$2:$G$1058,3,FALSE) -> SUBMINISTRAMENT DE CABLE DE CONDUCTOR DE COURE AMB AÏLLAMENT DE PLÀSTIC, DE SECCIÓ 1x6 mm2 PER PRESES DE TERRA. | E77: ='Amidaments Generals'!F73 -> 30 | F77: =VLOOKUP(B77,'Preus Unitaris'!$B$2:$G$1058,4,FALSE) -> 0.924 | G77: =VLOOKUP(B77,'Preus Unitaris'!$B$2:$G$1058,5,FALSE) -> 0.18 | H77: =VLOOKUP(B77,'Preus Unitaris'!$B$2:$G$1058,6,FALSE) -> 1.1 | I77: =ROUND(E77*H77,2) -> 33
B78: ='Preus Unitaris'!B76 -> I-004 | C78: =VLOOKUP(B78,'Preus Unitaris'!$B$2:$G$1058,2,FALSE) -> ML | D78: =VLOOKUP(B78,'Preus Unitaris'!$B$2:$G$1058,3,FALSE) -> INSTAL·LACIÓ DE CABLE DE CONDUCTOR DE COURE AMB AÏLLAMENT DE PLÀSTIC, DE SECCIÓ 1x6 mm2 PER PRESES DE TERRA. | E78: ='Amidaments Generals'!F74 -> 30 | F78: =VLOOKUP(B78,'Preus Unitaris'!$B$2:$G$1058,4,FALSE) -> 0.756 | G78: =VLOOKUP(B78,'Preus Unitaris'!$B$2:$G$1058,5,FALSE) -> 0.14 | H78: =VLOOKUP(B78,'Preus Unitaris'!$B$2:$G$1058,6,FALSE) -> 0.9 | I78: =ROUND(E78*H78,2) -> 27
B79: ='Preus Unitaris'!B77 -> I-005 | C79: =VLOOKUP(B79,'Preus Unitaris'!$B$2:$G$1058,2,FALSE) -> ML | D79: =VLOOKUP(B79,'Preus Unitaris'!$B$2:$G$1058,3,FALSE) -> SUBMINISTRAMENT DE CABLE DE CONDUCTOR DE COURE EPTAFILAR NU, DE SECCIÓ 1x35 mm2. | E79: ='Amidaments Generals'!F75 -> 5 | F79: =VLOOKUP(B79,'Preus Unitaris'!$B$2:$G$1058,4,FALSE) -> 3.782 | G79: =VLOOKUP(B79,'Preus Unitaris'!$B$2:$G$1058,5,FALSE) -> 0.72 | H79: =VLOOKUP(B79,'Preus Unitaris'!$B$2:$G$1058,6,FALSE) -> 4.5 | I79: =ROUND(E79*H79,2) -> 22.5
B80: ='Preus Unitaris'!B78 -> I-006 | C80: =VLOOKUP(B80,'Preus Unitaris'!$B$2:$G$1058,2,FALSE) -> ML | D80: =VLOOKUP(B80,'Preus Unitaris'!$B$2:$G$1058,3,FALSE) -> INSTAL·LACIÓ DE CABLE DE CONDUCTOR DE COURE EPTAFILAR NU, DE SECCIÓ 1x35 mm2. | E80: ='Amidaments Generals'!F76 -> 5 | F80: =VLOOKUP(B80,'Preus Unitaris'!$B$2:$G$1058,4,FALSE) -> 0.756 | G80: =VLOOKUP(B80,'Preus Unitaris'!$B$2:$G$1058,5,FALSE) -> 0.14 | H80: =VLOOKUP(B80,'Preus Unitaris'!$B$2:$G$1058,6,FALSE) -> 0.9 | I80: =ROUND(E80*H80,2) -> 4.5
B81: ='Preus Unitaris'!B79 -> I-007 | C81: =VLOOKUP(B81,'Preus Unitaris'!$B$2:$G$1058,2,FALSE) -> ML | D81: =VLOOKUP(B81,'Preus Unitaris'!$B$2:$G$1058,3,FALSE) -> SUBMINISTRAMENT DE CABLE DE COURE RV-K 0,6/1KV DE 3X6 MM2. | E81: ='Amidaments Generals'!F77 -> 20 | F81: =VLOOKUP(B81,'Preus Unitaris'!$B$2:$G$1058,4,FALSE) -> 2.395 | G81: =VLOOKUP(B81,'Preus Unitaris'!$B$2:$G$1058,5,FALSE) -> 0.46 | H81: =VLOOKUP(B81,'Preus Unitaris'!$B$2:$G$1058,6,FALSE) -> 2.85 | I81: =ROUND(E81*H81,2) -> 57
B82: ='Preus Unitaris'!B80 -> I-008 | C82: =VLOOKUP(B82,'Preus Unitaris'!$B$2:$G$1058,2,FALSE) -> ML | D82: =VLOOKUP(B82,'Preus Unitaris'!$B$2:$G$1058,3,FALSE) -> INSTAL·LACIÓ DE CABLE DE COURE RV-K 0,6/1KV DE 3X6 MM2. | E82: ='Amidaments Generals'!F78 -> 20 | F82: =VLOOKUP(B82,'Preus Unitaris'!$B$2:$G$1058,4,FALSE) -> 0.756 | G82: =VLOOKUP(B82,'Preus Unitaris'!$B$2:$G$1058,5,FALSE) -> 0.14 | H82: =VLOOKUP(B82,'Preus Unitaris'!$B$2:$G$1058,6,FALSE) -> 0.9 | I82: =ROUND(E82*H82,2) -> 18
B83: ='Preus Unitaris'!B81 -> I-009 | C83: =VLOOKUP(B83,'Preus Unitaris'!$B$2:$G$1058,2,FALSE) -> ML | D83: =VLOOKUP(B83,'Preus Unitaris'!$B$2:$G$1058,3,FALSE) -> SUBMINISTRAMENT DE CABLE DE COURE RV-K 0,6/1KV DE 3X10 MM2. | E83: ='Amidaments Generals'!F79 -> 0 | F83: =VLOOKUP(B83,'Preus Unitaris'!$B$2:$G$1058,4,FALSE) -> 3.025 | G83: =VLOOKUP(B83,'Preus Unitaris'!$B$2:$G$1058,5,FALSE) -> 0.57 | H83: =VLOOKUP(B83,'Preus Unitaris'!$B$2:$G$1058,6,FALSE) -> 3.6 | I83: =ROUND(E83*H83,2) -> 0
B84: ='Preus Unitaris'!B82 -> I-010 | C84: =VLOOKUP(B84,'Preus Unitaris'!$B$2:$G$1058,2,FALSE) -> ML | D84: =VLOOKUP(B84,'Preus Unitaris'!$B$2:$G$1058,3,FALSE) -> INSTAL·LACIÓ DE CABLE DE COURE RV-K 0,6/1KV DE 3X10 MM2. | E84: ='Amidaments Generals'!F80 -> 0 | F84: =VLOOKUP(B84,'Preus Unitaris'!$B$2:$G$1058,4,FALSE) -> 0.756 | G84: =VLOOKUP(B84,'Preus Unitaris'!$B$2:$G$1058,5,FALSE) -> 0.14 | H84: =VLOOKUP(B84,'Preus Unitaris'!$B$2:$G$1058,6,FALSE) -> 0.9 | I84: =ROUND(E84*H84,2) -> 0
B85: ='Preus Unitaris'!B83 -> I-011 | C85: =VLOOKUP(B85,'Preus Unitaris'!$B$2:$G$1058,2,FALSE) -> UT | D85: =VLOOKUP(B85,'Preus Unitaris'!$B$2:$G$1058,3,FALSE) -> TREBALLS PER A LA REALITZACIÓ DE L'ALIMENTACIÓ DEL PUNT DE CONTROL, D'ACORD AMB EL QUE INDICA EL PLEC. | E85: ='Amidaments Generals'!F81 -> 1 | F85: =VLOOKUP(B85,'Preus Unitaris'!$B$2:$G$1058,4,FALSE) -> 605.042 | G85: =VLOOKUP(B85,'Preus Unitaris'!$B$2:$G$1058,5,FALSE) -> 114.96 | H85: =VLOOKUP(B85,'Preus Unitaris'!$B$2:$G$1058,6,FALSE) -> 720 | I85: =ROUND(E85*H85,2) -> 720
B86: ='Preus Unitaris'!B84 -> I-012 | C86: =VLOOKUP(B86,'Preus Unitaris'!$B$2:$G$1058,2,FALSE) -> UT | D86: =VLOOKUP(B86,'Preus Unitaris'!$B$2:$G$1058,3,FALSE) -> ESCOMESA ELÈCTRICA. REALITZACIÓ DE NOVA ESCOMESA EN ENTORN URBÀ. INCLOU: ARMARI PER ESCOMESA COMPANYIA, PREFABRICAT DSPD-CDU/PEANA I PINTAT, AMB CAIXA DE DISTRIBUCIÓ CDU 400, CANALERA DE 630A I FUSIBLE CUCHILLA BT F CU2/400 A ETU-6303B Gg, AMB CAIXA MÒDUL COMPTADOR PNZ-C2727. ARMARI PER SORTIDES A CONSUMS, PER INTEMPÈRIE, EN PLANXA D'ACER GALVANITZAT EN CALENT I PINTAT, DE DIMENSIONS APROX. 1200x600x320 mm I DE 1,2 mm DE GRUIX, AMB PLACA DE MUNTATGE, PANY AMB CLAU I ACCESSORIS NECESSARIS (CANALETES, CARRIL DIN, PREMSAESTOPES, FIXACIONS, ...) I PETIT MATERIAL NECESSARI PER A LA CORRECTE EXECUCIÓ. INCLOU TOTS ELS TREBALLS (COM FORAT ARMARI CDU, ...) EXCEPTE OBRA CIVIL, RECURSOS (TRANSPORTS CAMIÓ GRUA I MA D'OBRA, ...) I FEINES NECESSÀRIES PER A LA CORRECTE EXECUCIÓ. | E86: ='Amidaments Generals'!F82 -> 0 | F86: =VLOOKUP(B86,'Preus Unitaris'!$B$2:$G$1058,4,FALSE) -> 4159.664 | G86: =VLOOKUP(B86,'Preus Unitaris'!$B$2:$G$1058,5,FALSE) -> 790.34 | H86: =VLOOKUP(B86,'Preus Unitaris'!$B$2:$G$1058,6,FALSE) -> 4950 | I86: =ROUND(E86*H86,2) -> 0
D87: Subtotal Instal·lació Elèctrica | I87: =SUM(I75:I86) -> 1283
B88: ='Preus Unitaris'!B88 -> COMUNICACIONS
B89: ='Preus Unitaris'!B89 -> F-001 | C89: =VLOOKUP(B89,'Preus Unitaris'!$B$2:$G$1058,2,FALSE) -> ML | D89: =VLOOKUP(B89,'Preus Unitaris'!$B$2:$G$1058,3,FALSE) -> SUBMINISTRAMENT I INSTAL·LACIÓ DE CABLE DE 8 FO MONOMODE B1.1, SEGONS EN 186000. ARMAT. AMB PROTECCIÓ D'ARAMIDA, ARMADURA METÀL·LICA I COBERTA EXTERIOR DE POLIETILÈ, SEGONS ESPECIFICACIONS DE L'AJUNTAMENT. | E89: ='Amidaments Generals'!F86 -> 0 | F89: =VLOOKUP(B89,'Preus Unitaris'!$B$2:$G$1058,4,FALSE) -> 2.185 | G89: =VLOOKUP(B89,'Preus Unitaris'!$B$2:$G$1058,5,FALSE) -> 0.42 | H89: =VLOOKUP(B89,'Preus Unitaris'!$B$2:$G$1058,6,FALSE) -> 2.6 | I89: =ROUND(E89*H89,2) -> 0
B90: ='Preus Unitaris'!B90 -> F-002 | C90: =VLOOKUP(B90,'Preus Unitaris'!$B$2:$G$1058,2,FALSE) -> ML | D90: =VLOOKUP(B90,'Preus Unitaris'!$B$2:$G$1058,3,FALSE) -> SUBMINISTRAMENT I INSTAL·LACIÓ DE CABLE DE 16 FO MONOMODE B1.1, SEGONS EN 186000. ARMAT. AMB PROTECCIÓ D'ARAMIDA, ARMADURA METÀL·LICA I COBERTA EXTERIOR DE POLIETILÈ, SEGONS ESPECIFICACIONS DE L'AJUNTAMENT. | E90: ='Amidaments Generals'!F87 -> 0 | F90: =VLOOKUP(B90,'Preus Unitaris'!$B$2:$G$1058,4,FALSE) -> 2.437 | G90: =VLOOKUP(B90,'Preus Unitaris'!$B$2:$G$1058,5,FALSE) -> 0.46 | H90: =VLOOKUP(B90,'Preus Unitaris'!$B$2:$G$1058,6,FALSE) -> 2.9 | I90: =ROUND(E90*H90,2) -> 0
B91: ='Preus Unitaris'!B91 -> F-003 | C91: =VLOOKUP(B91,'Preus Unitaris'!$B$2:$G$1058,2,FALSE) -> ML | D91: =VLOOKUP(B91,'Preus Unitaris'!$B$2:$G$1058,3,FALSE) -> SUBMINISTRAMENT I INSTAL·LACIÓ DE CABLE DE 24 FO MONOMODE B1.1, SEGONS EN 186000. ARMAT. AMB PROTECCIÓ D'ARAMIDA, ARMADURA METÀL·LICA I COBERTA EXTERIOR DE POLIETILÈ, SEGONS ESPECIFICACIONS DE L'AJUNTAMENT. | E91: ='Amidaments Generals'!F88 -> 0 | F91: =VLOOKUP(B91,'Preus Unitaris'!$B$2:$G$1058,4,FALSE) -> 2.857 | G91: =VLOOKUP(B91,'Preus Unitaris'!$B$2:$G$1058,5,FALSE) -> 0.54 | H91: =VLOOKUP(B91,'Preus Unitaris'!$B$2:$G$1058,6,FALSE) -> 3.4 | I91: =ROUND(E91*H91,2) -> 0
B92: ='Preus Unitaris'!B92 -> F-004 | C92: =VLOOKUP(B92,'Preus Unitaris'!$B$2:$G$1058,2,FALSE) -> ML | D92: =VLOOKUP(B92,'Preus Unitaris'!$B$2:$G$1058,3,FALSE) -> SUBMINISTRAMENT I INSTAL·LACIÓ DE CABLE DE 48 FO MONOMODE B1.1, SEGONS EN 186000. ARMAT. AMB PROTECCIÓ D'ARAMIDA, ARMADURA METÀL·LICA I COBERTA EXTERIOR DE POLIETILÈ, SEGONS ESPECIFICACIONS DE L'AJUNTAMENT. | E92: ='Amidaments Generals'!F89 -> 0 | F92: =VLOOKUP(B92,'Preus Unitaris'!$B$2:$G$1058,4,FALSE) -> 4.958 | G92: =VLOOKUP(B92,'Preus Unitaris'!$B$2:$G$1058,5,FALSE) -> 0.94 | H92: =VLOOKUP(B92,'Preus Unitaris'!$B$2:$G$1058,6,FALSE) -> 5.9 | I92: =ROUND(E92*H92,2) -> 0
B93: ='Preus Unitaris'!B93 -> F-005 | C93: =VLOOKUP(B93,'Preus Unitaris'!$B$2:$G$1058,2,FALSE) -> ML | D93: =VLOOKUP(B93,'Preus Unitaris'!$B$2:$G$1058,3,FALSE) -> SUBMINISTRAMENT I INSTAL·LACIÓ DE CABLE DE 96 FO MONOMODE B1.1, SEGONS EN 186000. ARMAT. AMB PROTECCIÓ D'ARAMIDA, ARMADURA METÀL·LICA I COBERTA EXTERIOR DE POLIETILÈ, SEGONS ESPECIFICACIONS DE L'AJUNTAMENT. | E93: ='Amidaments Generals'!F90 -> 0 | F93: =VLOOKUP(B93,'Preus Unitaris'!$B$2:$G$1058,4,FALSE) -> 7.059 | G93: =VLOOKUP(B93,'Preus Unitaris'!$B$2:$G$1058,5,FALSE) -> 1.34 | H93: =VLOOKUP(B93,'Preus Unitaris'!$B$2:$G$1058,6,FALSE) -> 8.4 | I93: =ROUND(E93*H93,2) -> 0
B94: ='Preus Unitaris'!B94 -> F-006 | C94: =VLOOKUP(B94,'Preus Unitaris'!$B$2:$G$1058,2,FALSE) -> UT | D94: =VLOOKUP(B94,'Preus Unitaris'!$B$2:$G$1058,3,FALSE) -> FUSIÓ EN RECTE DE 1 FO MONOMODE. INCLOU PIG·TAIL, CONNECTORS I ADAPTADORS, AIXÍ COM LES MESURES DE RETROESPARCIMENT I POTÈNCIA. SEGONS ESPECIFICACIONS AJUTAMENT. | E94: ='Amidaments Generals'!F91 -> 0 | F94: =VLOOKUP(B94,'Preus Unitaris'!$B$2:$G$1058,4,FALSE) -> 54.622 | G94: =VLOOKUP(B94,'Preus Unitaris'!$B$2:$G$1058,5,FALSE) -> 10.38 | H94: =VLOOKUP(B94,'Preus Unitaris'!$B$2:$G$1058,6,FALSE) -> 65 | I94: =ROUND(E94*H94,2) -> 0
B95: ='Preus Unitaris'!B95 -> F-007 | C95: =VLOOKUP(B95,'Preus Unitaris'!$B$2:$G$1058,2,FALSE) -> UT | D95: =VLOOKUP(B95,'Preus Unitaris'!$B$2:$G$1058,3,FALSE) -> MESURES DE FIBRA ÒPTICA. FINS A 4 FUSIONS | E95: ='Amidaments Generals'!F92 -> 0 | F95: =VLOOKUP(B95,'Preus Unitaris'!$B$2:$G$1058,4,FALSE) -> 163.866 | G95: =VLOOKUP(B95,'Preus Unitaris'!$B$2:$G$1058,5,FALSE) -> 31.13 | H95: =VLOOKUP(B95,'Preus Unitaris'!$B$2:$G$1058,6,FALSE) -> 195 | I95: =ROUND(E95*H95,2) -> 0
B96: ='Preus Unitaris'!B96 -> F-008 | C96: =VLOOKUP(B96,'Preus Unitaris'!$B$2:$G$1058,2,FALSE) -> UT | D96: =VLOOKUP(B96,'Preus Unitaris'!$B$2:$G$1058,3,FALSE) -> SUBMINISTRAMENT I INSTAL·LACIÓ DE CAIXA REPARTIDORA ÒPTICA DE 6 CONNECTORS, INCLOSOS PIG-TAILS | E96: ='Amidaments Generals'!F93 -> 0 | F96: =VLOOKUP(B96,'Preus Unitaris'!$B$2:$G$1058,4,FALSE) -> 294.118 | G96: =VLOOKUP(B96,'Preus Unitaris'!$B$2:$G$1058,5,FALSE) -> 55.88 | H96: =VLOOKUP(B96,'Preus Unitaris'!$B$2:$G$1058,6,FALSE) -> 350 | I96: =ROUND(E96*H96,2) -> 0
B97: ='Preus Unitaris'!B97 -> F-009 | C97: =VLOOKUP(B97,'Preus Unitaris'!$B$2:$G$1058,2,FALSE) -> UT | D97: =VLOOKUP(B97,'Preus Unitaris'!$B$2:$G$1058,3,FALSE) -> SUBMINISTRAMENT I INSTAL·LACIÓ DE PIGTAIL DE FO MONOMODE FINS A 2 m, INCLÚS FUSIÓ I CONNECTOR. SEGONS ESPECIFICACIONS AJUNTMENT. | E97: ='Amidaments Generals'!F94 -> 0 | F97: =VLOOKUP(B97,'Preus Unitaris'!$B$2:$G$1058,4,FALSE) -> 12.605 | G97: =VLOOKUP(B97,'Preus Unitaris'!$B$2:$G$1058,5,FALSE) -> 2.39 | H97: =VLOOKUP(B97,'Preus Unitaris'!$B$2:$G$1058,6,FALSE) -> 15 | I97: =ROUND(E97*H97,2) -> 0
B98: ='Preus Unitaris'!B98 -> F-010 | C98: =VLOOKUP(B98,'Preus Unitaris'!$B$2:$G$1058,2,FALSE) -> UT | D98: =VLOOKUP(B98,'Preus Unitaris'!$B$2:$G$1058,3,FALSE) -> SUBMINISTRAMENT I INSTAL·LACIÓ DE FUETÓ DE FO MONOMODE FINS A 2 m, INCLÚS CONNECTORS. SEGONS ESPECIFICACIONS AJUNTAMENT. | E98: ='Amidaments Generals'!F95 -> 0 | F98: =VLOOKUP(B98,'Preus Unitaris'!$B$2:$G$1058,4,FALSE) -> 21.849 | G98: =VLOOKUP(B98,'Preus Unitaris'!$B$2:$G$1058,5,FALSE) -> 4.15 | H98: =VLOOKUP(B98,'Preus Unitaris'!$B$2:$G$1058,6,FALSE) -> 26 | I98: =ROUND(E98*H98,2) -> 0
B99: ='Preus Unitaris'!B99 -> F-011 | C99: =VLOOKUP(B99,'Preus Unitaris'!$B$2:$G$1058,2,FALSE) -> ML | D99: =VLOOKUP(B99,'Preus Unitaris'!$B$2:$G$1058,3,FALSE) -> SUBMINISTRAMENT I INSTAL·LACIÓ DE CABLATGE ESTRUCTURAT STP CAT 6A PER EXTERIORS, INCLÚS CONNECTORS I CERTIFICACIÓ DEL PUNTS. | E99: ='Amidaments Generals'!F96 -> 30 | F99: =VLOOKUP(B99,'Preus Unitaris'!$B$2:$G$1058,4,FALSE) -> 1.933 | G99: =VLOOKUP(B99,'Preus Unitaris'!$B$2:$G$1058,5,FALSE) -> 0.37 | H99: =VLOOKUP(B99,'Preus Unitaris'!$B$2:$G$1058,6,FALSE) -> 2.3 | I99: =ROUND(E99*H99,2) -> 69
B100: ='Preus Unitaris'!B100 -> F-012 | C100: =VLOOKUP(B100,'Preus Unitaris'!$B$2:$G$1058,2,FALSE) -> UT | D100: =VLOOKUP(B100,'Preus Unitaris'!$B$2:$G$1058,3,FALSE) -> SUBMINISTRAMENT I INSTAL·LACIÓ DE CAIXA D'EMPIULAMENT FO FINS A 288 FUSIONS | E100: ='Amidaments Generals'!F97 -> 0 | F100: =VLOOKUP(B100,'Preus Unitaris'!$B$2:$G$1058,4,FALSE) -> 315.126 | G100: =VLOOKUP(B100,'Preus Unitaris'!$B$2:$G$1058,5,FALSE) -> 59.87 | H100: =VLOOKUP(B100,'Preus Unitaris'!$B$2:$G$1058,6,FALSE) -> 375 | I100: =ROUND(E100*H100,2) -> 0
B101: ='Preus Unitaris'!B101 -> F-013 | C101: =VLOOKUP(B101,'Preus Unitaris'!$B$2:$G$1058,2,FALSE) -> UT | D101: =VLOOKUP(B101,'Preus Unitaris'!$B$2:$G$1058,3,FALSE) -> SUBMINISTRAMENT I INSTAL·LACIÓ DE TRANSCEPTOR SFP MONOMODE, CISCO GLC-LH-SMD, INCLOSA LLICÈNCIA, O 100% EQUIVALENT I COMPATIBLE AMB LA XARXA DE L'AJUNTAMENT | E101: ='Amidaments Generals'!F98 -> 2 | F101: =VLOOKUP(B101,'Preus Unitaris'!$B$2:$G$1058,4,FALSE) -> 273.109 | G101: =VLOOKUP(B101,'Preus Unitaris'!$B$2:$G$1058,5,FALSE) -> 51.89 | H101: =VLOOKUP(B101,'Preus Unitaris'!$B$2:$G$1058,6,FALSE) -> 325 | I101: =ROUND(E101*H101,2) -> 650
D102: Subtotal Comunicacions | I102: =SUM(I89:I101) -> 719
B104: SENYALITZACIÓ
B105: ='Preus Unitaris'!B105 -> S-001 | C105: =VLOOKUP(B105,'Preus Unitaris'!$B$2:$G$1058,2,FALSE) -> UT | D105: =VLOOKUP(B105,'Preus Unitaris'!$B$2:$G$1058,3,FALSE) -> SUBMINISTRAMENT DE SENYAL DE "CONTROL FOTOGRÀFIC". SENYAL D´ACER GALVANITZAT REFLECTANT DE NIVELL 2 DE 1,8 MM DE GRUIX, DE DIÀMETRE 60 CM SEGONS NORMES. INCLÒS ELEMENTS DE SUSTENTACIÓ I FIXACIÓ. | E105: ='Amidaments Generals'!F101 -> 1 | F105: =VLOOKUP(B105,'Preus Unitaris'!$B$2:$G$1058,4,FALSE) -> 63.025 | G105: =VLOOKUP(B105,'Preus Unitaris'!$B$2:$G$1058,5,FALSE) -> 11.97 | H105: =VLOOKUP(B105,'Preus Unitaris'!$B$2:$G$1058,6,FALSE) -> 75 | I105: =ROUND(E105*H105,2) -> 75
B106: ='Preus Unitaris'!B106 -> S-002 | C106: =VLOOKUP(B106,'Preus Unitaris'!$B$2:$G$1058,2,FALSE) -> UT | D106: =VLOOKUP(B106,'Preus Unitaris'!$B$2:$G$1058,3,FALSE) -> SUBMINISTRAMENT DE SENYAL INFORMATIU DE ZONA VIDEOVIGILADA. SENYAL D´ACER GALVANITZAT REFLECTANT DE NIVELL 2 DE 1,8 MM DE GRUIX, DE DIMENSIONS 90x60 CM SEGONS NORMES. INCLÒS ELEMENTS DE SUSTENTACIÓ I FIXACIÓ. | E106: ='Amidaments Generals'!F102 -> 3 | F106: =VLOOKUP(B106,'Preus Unitaris'!$B$2:$G$1058,4,FALSE) -> 100.84 | G106: =VLOOKUP(B106,'Preus Unitaris'!$B$2:$G$1058,5,FALSE) -> 19.16 | H106: =VLOOKUP(B106,'Preus Unitaris'!$B$2:$G$1058,6,FALSE) -> 120 | I106: =ROUND(E106*H106,2) -> 360
B107: ='Preus Unitaris'!B107 -> S-003 | C107: =VLOOKUP(B107,'Preus Unitaris'!$B$2:$G$1058,2,FALSE) -> UT | D107: =VLOOKUP(B107,'Preus Unitaris'!$B$2:$G$1058,3,FALSE) -> INSTAL·LACIÓ DE SENYAL VERTICAL. INCLÒS ELEMENTS DE SUSTENTACIÓ I FIXACIÓ. | E107: ='Amidaments Generals'!F103 -> 4 | F107: =VLOOKUP(B107,'Preus Unitaris'!$B$2:$G$1058,4,FALSE) -> 33.613 | G107: =VLOOKUP(B107,'Preus Unitaris'!$B$2:$G$1058,5,FALSE) -> 6.39 | H107: =VLOOKUP(B107,'Preus Unitaris'!$B$2:$G$1058,6,FALSE) -> 40 | I107: =ROUND(E107*H107,2) -> 160
B108: ='Preus Unitaris'!B108 -> S-004 | C108: =VLOOKUP(B108,'Preus Unitaris'!$B$2:$G$1058,2,FALSE) -> UT | D108: =VLOOKUP(B108,'Preus Unitaris'!$B$2:$G$1058,3,FALSE) -> SUBMINISTRAMENT DE PAL METÀL·LIC PER SUPORTACIÓ DE SENYALITZACIÓ VERTICAL, SEGONS NORMATIVA AJUNTAMENT. | E108: ='Amidaments Generals'!F104 -> 0 | F108: =VLOOKUP(B108,'Preus Unitaris'!$B$2:$G$1058,4,FALSE) -> 44.118 | G108: =VLOOKUP(B108,'Preus Unitaris'!$B$2:$G$1058,5,FALSE) -> 8.38 | H108: =VLOOKUP(B108,'Preus Unitaris'!$B$2:$G$1058,6,FALSE) -> 52.5 | I108: =ROUND(E108*H108,2) -> 0
B109: ='Preus Unitaris'!B109 -> S-005 | C109: =VLOOKUP(B109,'Preus Unitaris'!$B$2:$G$1058,2,FALSE) -> UT | D109: =VLOOKUP(B109,'Preus Unitaris'!$B$2:$G$1058,3,FALSE) -> INSTAL·LACIÓ DE PAL METÀL·LIC PER SUPORTACIÓ DE SENYALITZACIÓ VERTICAL, SEGONS NORMATIVA AJUNTAMENT, INCLOSOS TREBALLS D'OBRA CIVIL NECESSARIS. | E109: ='Amidaments Generals'!F105 -> 0 | F109: =VLOOKUP(B109,'Preus Unitaris'!$B$2:$G$1058,4,FALSE) -> 39.13 | G109: =VLOOKUP(B109,'Preus Unitaris'!$B$2:$G$1058,5,FALSE) -> 7.43 | H109: =VLOOKUP(B109,'Preus Unitaris'!$B$2:$G$1058,6,FALSE) -> 46.565 | I109: =ROUND(E109*H109,2) -> 0
B110: ='Preus Unitaris'!B110 -> S-006 | C110: =VLOOKUP(B110,'Preus Unitaris'!$B$2:$G$1058,2,FALSE) -> UT | D110: =VLOOKUP(B110,'Preus Unitaris'!$B$2:$G$1058,3,FALSE) -> SUBMINISTRAMENT I INSTAL·LACIÓ DE FITÓ FLEXIBLE DE SENYALITZACIÓ. | E110: ='Amidaments Generals'!F106 -> 0 | F110: =VLOOKUP(B110,'Preus Unitaris'!$B$2:$G$1058,4,FALSE) -> 50.42 | G110: =VLOOKUP(B110,'Preus Unitaris'!$B$2:$G$1058,5,FALSE) -> 9.58 | H110: =VLOOKUP(B110,'Preus Unitaris'!$B$2:$G$1058,6,FALSE) -> 60 | I110: =ROUND(E110*H110,2) -> 0
D111: Subtotal Senyalització | I111: =SUM(I105:I110) -> 595
D114: =CONCATENATE("TOTAL PRESSUPOST EXECUCIÓ ",B2) -> TOTAL PRESSUPOST EXECUCIÓ PdC-03 | I114: =SUM(I6:I111)/2 -> 20636
D117: =CONCATENATE("RESUM PRESSUPOST ",B2) -> RESUM PRESSUPOST PdC-03
D118: =B6 -> EQUIPAMENT PUNT DE CONTROL | I118: =I45 -> 16854
D119: =B47 -> OBRA CIVIL | I119: =I72 -> 1185
D120: INSTAL·LACIÓ ELÈCTRICA | I120: =I87 -> 1283
D121: COMUNICACIONS | I121: =I102 -> 719
D122: =B104 -> SENYALITZACIÓ | I122: =I111 -> 595
D123: =D114 -> TOTAL PRESSUPOST EXECUCIÓ PdC-03 | I123: =SUM(I118:I122) -> 20636
D124: IVA | E124: 0.21 | I124: =ROUND(I123*E124,2) -> 4333.56
D125: =CONCATENATE(D114, " IVA inclòs") -> TOTAL PRESSUPOST EXECUCIÓ PdC-03 IVA inclòs | I125: =SUM(I123:I124) -> 24969.56
A128: NOTA: | B128: Els preus unitaris duen incorporats les parts proporcionals Despeses Generals, Benefici Industrial
B129: i qualsevol altre que sigui necessari per a la correcte execució de les unitats d'obra.

Sheet ZBE-04
F1: ocultar | G1: ocultar
B2: ='Amidaments Generals'!G5 -> PdC-04 | D2: ='[1]RESUM PPOST GRAL'!L11 -> C/ Garcilaso – Rda. Ponent
B4: CODI | C4: UNITAT MESURA | D4: CONCEPTE / DENOMINACIÓ | E4: AMIDAMENT | F4: PREU UNITARI PEM | G4: BI+DG | H4: PREU UNITARI PEC | I4: PREU TOTAL
B6: EQUIPAMENT PUNT DE CONTROL
B7: ='Preus Unitaris'!B7 -> E-001 | C7: =VLOOKUP(B7,'Preus Unitaris'!$B$2:$G$1058,2,FALSE) -> UT | D7: =VLOOKUP(B7,'Preus Unitaris'!$B$2:$G$1058,3,FALSE) -> SUBMINISTRAMENT D'EQUIP COMPACTE DE RECONEIXEMENT DE MATRÍCULES, FORMAT PER CONJUNT DE CÀMERA LPR 2 CARRILS HD, CÀMERA DE CONTEXT A COLOR I IL·LUMINADOR IR PER A ZONA D’INFRACCIONS. INCLOU LLICÈNCIA OCR, CARCASSA, BRAÇ I ADAPTACIÓ A SUPORT. | E7: ='Amidaments Generals'!G7 -> 1 | F7: =VLOOKUP(B7,'Preus Unitaris'!$B$2:$G$1058,4,FALSE) -> 6369.748 | G7: =VLOOKUP(B7,'Preus Unitaris'!$B$2:$G$1058,5,FALSE) -> 1210.25 | H7: =VLOOKUP(B7,'Preus Unitaris'!$B$2:$G$1058,6,FALSE) -> 7580 | I7: =ROUND(E7*H7,2) -> 7580
B8: ='Preus Unitaris'!B8 -> E-002 | C8: =VLOOKUP(B8,'Preus Unitaris'!$B$2:$G$1058,2,FALSE) -> UT | D8: =VLOOKUP(B8,'Preus Unitaris'!$B$2:$G$1058,3,FALSE) -> INSTAL·LACIÓ D'EQUIP COMPACTE DE RECONEIXEMENT DE MATRÍCULES, FORMAT PER CONJUNT DE CÀMERA LPR 2 CARRILS HD, CÀMERA DE CONTEXT A COLOR I IL·LUMINADOR IR PER A ZONA D’INFRACCIONS. INCLOU LLICÈNCIA OCR, CARCASSA, BRAÇ I ADAPTACIÓ A SUPORT. | E8: ='Amidaments Generals'!G8 -> 1 | F8: =VLOOKUP(B8,'Preus Unitaris'!$B$2:$G$1058,4,FALSE) -> 315.126 | G8: =VLOOKUP(B8,'Preus Unitaris'!$B$2:$G$1058,5,FALSE) -> 59.87 | H8: =VLOOKUP(B8,'Preus Unitaris'!$B$2:$G$1058,6,FALSE) -> 375 | I8: =ROUND(E8*H8,2) -> 375
B9: ='Preus Unitaris'!B9 -> E-003 | C9: =VLOOKUP(B9,'Preus Unitaris'!$B$2:$G$1058,2,FALSE) -> UT | D9: =VLOOKUP(B9,'Preus Unitaris'!$B$2:$G$1058,3,FALSE) -> SUBMINISTRAMENT DE FONT D'ALIMENTACIÓ 48V TIPUS INDUSTRIAL, PER MUNTATGE EN CARRIL DIN, PER ALIMENTAR FINS A 4 CÀMERES PUNT DE CONTROL. | E9: ='Amidaments Generals'!G9 -> 1 | F9: =VLOOKUP(B9,'Preus Unitaris'!$B$2:$G$1058,4,FALSE) -> 134.454 | G9: =VLOOKUP(B9,'Preus Unitaris'!$B$2:$G$1058,5,FALSE) -> 25.55 | H9: =VLOOKUP(B9,'Preus Unitaris'!$B$2:$G$1058,6,FALSE) -> 160 | I9: =ROUND(E9*H9,2) -> 160
B10: ='Preus Unitaris'!B10 -> E-004 | C10: =VLOOKUP(B10,'Preus Unitaris'!$B$2:$G$1058,2,FALSE) -> UT | D10: =VLOOKUP(B10,'Preus Unitaris'!$B$2:$G$1058,3,FALSE) -> INSTAL·LACIÓ DE FONT D'ALIMENTACIÓ 48V TIPUS INDUSTRIAL, PER MUNTATGE EN CARRIL DIN, PER ALIMENTAR FINS A 4 CÀMERES PUNT DE CONTROL. | E10: ='Amidaments Generals'!G10 -> 1 | F10: =VLOOKUP(B10,'Preus Unitaris'!$B$2:$G$1058,4,FALSE) -> 29.412 | G10: =VLOOKUP(B10,'Preus Unitaris'!$B$2:$G$1058,5,FALSE) -> 5.59 | H10: =VLOOKUP(B10,'Preus Unitaris'!$B$2:$G$1058,6,FALSE) -> 35 | I10: =ROUND(E10*H10,2) -> 35
B11: ='Preus Unitaris'!B11 -> E-005 | C11: =VLOOKUP(B11,'Preus Unitaris'!$B$2:$G$1058,2,FALSE) -> UT | D11: =VLOOKUP(B11,'Preus Unitaris'!$B$2:$G$1058,3,FALSE) -> SUBMINISTRAMENT DE FONT D'ALIMENTACIÓ 24V TIPUS INDUSTRIAL, PER MUNTATGE EN CARRIL DIN. | E11: ='Amidaments Generals'!G11 -> 0 | F11: =VLOOKUP(B11,'Preus Unitaris'!$B$2:$G$1058,4,FALSE) -> 45.378 | G11: =VLOOKUP(B11,'Preus Unitaris'!$B$2:$G$1058,5,FALSE) -> 8.62 | H11: =VLOOKUP(B11,'Preus Unitaris'!$B$2:$G$1058,6,FALSE) -> 54 | I11: =ROUND(E11*H11,2) -> 0
B12: ='Preus Unitaris'!B12 -> E-006 | C12: =VLOOKUP(B12,'Preus Unitaris'!$B$2:$G$1058,2,FALSE) -> UT | D12: =VLOOKUP(B12,'Preus Unitaris'!$B$2:$G$1058,3,FALSE) -> INSTAL·LACIÓ DE FONT D'ALIMENTACIÓ 24V TIPUS INDUSTRIAL, PER MUNTATGE EN CARRIL DIN. | E12: ='Amidaments Generals'!G12 -> 0 | F12: =VLOOKUP(B12,'Preus Unitaris'!$B$2:$G$1058,4,FALSE) -> 11.765 | G12: =VLOOKUP(B12,'Preus Unitaris'!$B$2:$G$1058,5,FALSE) -> 2.24 | H12: =VLOOKUP(B12,'Preus Unitaris'!$B$2:$G$1058,6,FALSE) -> 14 | I12: =ROUND(E12*H12,2) -> 0
B13: ='Preus Unitaris'!B13 -> E-007 | C13: =VLOOKUP(B13,'Preus Unitaris'!$B$2:$G$1058,2,FALSE) -> UT | D13: =VLOOKUP(B13,'Preus Unitaris'!$B$2:$G$1058,3,FALSE) -> SUBMINISTRAMENT DE SWITCH DE COMUNICACIÓ PER SISTEMA DE VISIÓ ARTIFICIAL, TIPUS INDUSTRIAL, GESTIONABLE, AMB 8 PORTS PoE (802.3at i 802.3bt), INCLOSOS FUETONS DE CONNEXIÓ, COMPATIBLE AMB EL SISTEMA DE COMUNICACIONS DE L'AJUNTAMENT. | E13: ='Amidaments Generals'!G13 -> 0 | F13: =VLOOKUP(B13,'Preus Unitaris'!$B$2:$G$1058,4,FALSE) -> 987.395 | G13: =VLOOKUP(B13,'Preus Unitaris'!$B$2:$G$1058,5,FALSE) -> 187.61 | H13: =VLOOKUP(B13,'Preus Unitaris'!$B$2:$G$1058,6,FALSE) -> 1175 | I13: =ROUND(E13*H13,2) -> 0
B14: ='Preus Unitaris'!B14 -> E-008 | C14: =VLOOKUP(B14,'Preus Unitaris'!$B$2:$G$1058,2,FALSE) -> UT | D14: =VLOOKUP(B14,'Preus Unitaris'!$B$2:$G$1058,3,FALSE) -> INSTAL·LACIÓ I CONFIGURACIÓ DE SWITCH DE COMUNICACIÓ PER SISTEMA DE VISIÓ ARTIFICIAL, TIPUS INDUSTRIAL, GESTIONABLE, AMB 8 PORTS PoE (802.3at i 802.3bt), INCLOSOS FUETONS DE CONNEXIÓ, COMPATIBLE AMB EL SISTEMA DE COMUNICACIONS DE L'AJUNTAMENT. | E14: ='Amidaments Generals'!G14 -> 0 | F14: =VLOOKUP(B14,'Preus Unitaris'!$B$2:$G$1058,4,FALSE) -> 75.63 | G14: =VLOOKUP(B14,'Preus Unitaris'!$B$2:$G$1058,5,FALSE) -> 14.37 | H14: =VLOOKUP(B14,'Preus Unitaris'!$B$2:$G$1058,6,FALSE) -> 90 | I14: =ROUND(E14*H14,2) -> 0
B15: ='Preus Unitaris'!B15 -> E-009 | C15: =VLOOKUP(B15,'Preus Unitaris'!$B$2:$G$1058,2,FALSE) -> UT | D15: =VLOOKUP(B15,'Preus Unitaris'!$B$2:$G$1058,3,FALSE) -> SUBMINISTRAMENT DE SWITCH DE COMUNICACIÓ PER SISTEMA DE VISIÓ ARTIFICIAL, TIPUS INDUSTRIAL, PoE, AMB 10 PORTS MODEL CISCO IE-3400-8P2S-E O 100% EQUIPAVENT, INCLOSOS FUETONS DE CONNEXIÓ, COMPATIBLE AMB EL SISTEMA DE COMUNICACIONS DE L'AJUNTAMENT. | E15: ='Amidaments Generals'!G15 -> 1 | F15: =VLOOKUP(B15,'Preus Unitaris'!$B$2:$G$1058,4,FALSE) -> 3298.319 | G15: =VLOOKUP(B15,'Preus Unitaris'!$B$2:$G$1058,5,FALSE) -> 626.68 | H15: =VLOOKUP(B15,'Preus Unitaris'!$B$2:$G$1058,6,FALSE) -> 3925 | I15: =ROUND(E15*H15,2) -> 3925
B16: ='Preus Unitaris'!B16 -> E-010 | C16: =VLOOKUP(B16,'Preus Unitaris'!$B$2:$G$1058,2,FALSE) -> UT | D16: =VLOOKUP(B16,'Preus Unitaris'!$B$2:$G$1058,3,FALSE) -> INSTAL·LACIÓ I CONFIGURACIÓ DE SWITCH DE COMUNICACIÓ PER SISTEMA DE VISIÓ ARTIFICIAL, TIPUS INDUSTRIAL, PoE, AMB 10 PORTS MODEL CISCO IE-3400-8P2S-E O 100% EQUIPAVENT, INCLOSOS FUETONS DE CONNEXIÓ, COMPATIBLE AMB EL SISTEMA DE COMUNICACIONS DE L'AJUNTAMENT. | E16: ='Amidaments Generals'!G16 -> 1 | F16: =VLOOKUP(B16,'Preus Unitaris'!$B$2:$G$1058,4,FALSE) -> 92.437 | G16: =VLOOKUP(B16,'Preus Unitaris'!$B$2:$G$1058,5,FALSE) -> 17.56 | H16: =VLOOKUP(B16,'Preus Unitaris'!$B$2:$G$1058,6,FALSE) -> 110 | I16: =ROUND(E16*H16,2) -> 110
B17: ='Preus Unitaris'!B17 -> E-011 | C17: =VLOOKUP(B17,'Preus Unitaris'!$B$2:$G$1058,2,FALSE) -> UT | D17: =VLOOKUP(B17,'Preus Unitaris'!$B$2:$G$1058,3,FALSE) -> SUBMINISTRAMENT DE PC INDUSTRIAL RUGORITZAT DE 20 GB DE CAPACITAT EMAGATZEMATGE, PROCESSADOR ÚLTIMA GENERACIÓ, SEGONS ESPECIFICCIONS TÈCNIQUES. | E17: ='Amidaments Generals'!G17 -> 1 | F17: =VLOOKUP(B17,'Preus Unitaris'!$B$2:$G$1058,4,FALSE) -> 903.361 | G17: =VLOOKUP(B17,'Preus Unitaris'!$B$2:$G$1058,5,FALSE) -> 171.64 | H17: =VLOOKUP(B17,'Preus Unitaris'!$B$2:$G$1058,6,FALSE) -> 1075 | I17: =ROUND(E17*H17,2) -> 1075
B18: ='Preus Unitaris'!B18 -> E-012 | C18: =VLOOKUP(B18,'Preus Unitaris'!$B$2:$G$1058,2,FALSE) -> UT | D18: =VLOOKUP(B18,'Preus Unitaris'!$B$2:$G$1058,3,FALSE) -> INSTAL·LACIÓ I CONFIGURACIÓ DE PC INDUSTRIAL RUGORITZAT DE 20 GB DE CAPACITAT EMAGATZEMATGE, PROCESSADOR ÚLTIMA GENERACIÓ, SEGONS ESPECIFICCIONS TÈCNIQUES. | E18: ='Amidaments Generals'!G18 -> 1 | F18: =VLOOKUP(B18,'Preus Unitaris'!$B$2:$G$1058,4,FALSE) -> 100.84 | G18: =VLOOKUP(B18,'Preus Unitaris'!$B$2:$G$1058,5,FALSE) -> 19.16 | H18: =VLOOKUP(B18,'Preus Unitaris'!$B$2:$G$1058,6,FALSE) -> 120 | I18: =ROUND(E18*H18,2) -> 120
... B44: ='Preus Unitaris'!B44 -> E-038 | C44: =VLOOKUP(B44,'Preus Unitaris'!$B$2:$G$1058,2,FALSE) -> UT | D44: =VLOOKUP(B44,'Preus Unitaris'!$B$2:$G$1058,3,FALSE) -> PRECINTAT DE CÀMERES I DEL PC DE CONTROL DEL PUNT DE CONTROL. INCLOU TOTS ELS MATERIALS (PRECINTES), MITJANS I RECURSOS NECESSARIS. PREU PER PUNT DE CONTROL | E44: ='Amidaments Generals'!G44 -> 0 | F44: =VLOOKUP(B44,'Preus Unitaris'!$B$2:$G$1058,4,FALSE) -> 126.05 | G44: =VLOOKUP(B44,'Preus Unitaris'!$B$2:$G$1058,5,FALSE) -> 23.95 | H44: =VLOOKUP(B44,'Preus Unitaris'!$B$2:$G$1058,6,FALSE) -> 150 | I44: =ROUND(E44*H44,2) -> 0
D45: Subtotal Equipament PdC | I45: =SUM(I7:I44) -> 16854
B47: OBRA CIVIL
B48: ='Preus Unitaris'!B47 -> O-001 | C48: =VLOOKUP(B48,'Preus Unitaris'!$B$2:$G$1058,2,FALSE) -> UT | D48: =VLOOKUP(B48,'Preus Unitaris'!$B$2:$G$1058,3,FALSE) -> FONAMENT DE FORMIGÓ PER A ARMARI DE CONTROL O ESCOMESA ELÈCTRICA, AMB DOSIFICACIÓ DE 250 KG/m3 I ENCOFRAT CARA VISTA, DE DIMENSIONS APROX. 800 x 800 x 500 mm AMB UN ENCASTAMENT DE 20 cm I 4 FORATS DE 110 mm. DE DIÀMETRE. INCLOU DEMOLICIÓ PAVIMENT, EXCAVACIÓ I POSTERIOR REPOSICIÓ. TOTALMENT EXECUTAT. | E48: ='Amidaments Generals'!G46 -> 1 | F48: =VLOOKUP(B48,'Preus Unitaris'!$B$2:$G$1058,4,FALSE) -> 197.479 | G48: =VLOOKUP(B48,'Preus Unitaris'!$B$2:$G$1058,5,FALSE) -> 37.52 | H48: =VLOOKUP(B48,'Preus Unitaris'!$B$2:$G$1058,6,FALSE) -> 235 | I48: =ROUND(E48*H48,2) -> 235
B49: ='Preus Unitaris'!B48 -> O-002 | C49: =VLOOKUP(B49,'Preus Unitaris'!$B$2:$G$1058,2,FALSE) -> UT | D49: =VLOOKUP(B49,'Preus Unitaris'!$B$2:$G$1058,3,FALSE) -> FONAMENT DE FORMIGÓ PER A COLUMNA 4000, AMB DOSIFICACIÓ DE 250 KG/m3, MITJANÇANT UN DAU DE 50 cm. DE COSTAT I 60 cm. DE PROFUNDITAT, INCLÒS COLZE DE CONNEXIÓ AMB TUBULAR. INCLOU DEMOLICIÓ PAVIMENT, EXCAVACIÓ I POSTERIOR REPOSICIÓ. TOTALMENT EXECUTAT. | E49: ='Amidaments Generals'!G47 -> 1 | F49: =VLOOKUP(B49,'Preus Unitaris'!$B$2:$G$1058,4,FALSE) -> 92.437 | G49: =VLOOKUP(B49,'Preus Unitaris'!$B$2:$G$1058,5,FALSE) -> 17.56 | H49: =VLOOKUP(B49,'Preus Unitaris'!$B$2:$G$1058,6,FALSE) -> 110 | I49: =ROUND(E49*H49,2) -> 110
B50: ='Preus Unitaris'!B49 -> O-003 | C50: =VLOOKUP(B50,'Preus Unitaris'!$B$2:$G$1058,2,FALSE) -> UT | D50: =VLOOKUP(B50,'Preus Unitaris'!$B$2:$G$1058,3,FALSE) -> FONAMENT DE FORMIGÓ PER A BÀCUL DE SEMÀFORS 6025 m, AMB DOSIFICACIÓ DE 250 KG/m3, MITJANÇANT UN DAU DE 80 cm. DE COSTAT I 100 cm. DE PROFUNDITAT, INCLÒS PERNS ANCORATGE, COLZE DE CONNEXIÓ AMB TUBULAR. INCLOU DEMOLICIÓ PAVIMENT, EXCAVACIÓ I POSTERIOR REPOSICIÓ. TOTALMENT EXECUTAT. | E50: ='Amidaments Generals'!G48 -> 0 | F50: =VLOOKUP(B50,'Preus Unitaris'!$B$2:$G$1058,4,FALSE) -> 415.966 | G50: =VLOOKUP(B50,'Preus Unitaris'!$B$2:$G$1058,5,FALSE) -> 79.03 | H50: =VLOOKUP(B50,'Preus Unitaris'!$B$2:$G$1058,6,FALSE) -> 495 | I50: =ROUND(E50*H50,2) -> 0
B51: ='Preus Unitaris'!B50 -> O-004 | C51: =VLOOKUP(B51,'Preus Unitaris'!$B$2:$G$1058,2,FALSE) -> UT | D51: =VLOOKUP(B51,'Preus Unitaris'!$B$2:$G$1058,3,FALSE) -> PERICÓ DE 60 x 60 cm. PREFABRICAT DE FORMIGÓ O CONSTRUÏT AMB MAONS GERO I FONS DEL MATEIX MATERIAL REBENT EL MARC I LA TAPA CORRESPONENT, SENSE INCLOURE AQUESTS. INCLOU DEMOLICIÓ PAVIMENT, EXCAVACIÓ I POSTERIOR REPOSICIÓ. TOTALMENT EXECUTAT. | E51: ='Amidaments Generals'!G49 -> 2 | F51: =VLOOKUP(B51,'Preus Unitaris'!$B$2:$G$1058,4,FALSE) -> 126.05 | G51: =VLOOKUP(B51,'Preus Unitaris'!$B$2:$G$1058,5,FALSE) -> 23.95 | H51: =VLOOKUP(B51,'Preus Unitaris'!$B$2:$G$1058,6,FALSE) -> 150 | I51: =ROUND(E51*H51,2) -> 300
B52: ='Preus Unitaris'!B51 -> O-005 | C52: =VLOOKUP(B52,'Preus Unitaris'!$B$2:$G$1058,2,FALSE) -> UT | D52: =VLOOKUP(B52,'Preus Unitaris'!$B$2:$G$1058,3,FALSE) -> SUBMINISTRAMENT MARC DE FERRO FOS DE 60 x 60 cm PER INSTAL·LACIÓ EN VORERA, AMB INSCRIPCIÓ. | E52: ='Amidaments Generals'!G50 -> 2 | F52: =VLOOKUP(B52,'Preus Unitaris'!$B$2:$G$1058,4,FALSE) -> 33.613 | G52: =VLOOKUP(B52,'Preus Unitaris'!$B$2:$G$1058,5,FALSE) -> 6.39 | H52: =VLOOKUP(B52,'Preus Unitaris'!$B$2:$G$1058,6,FALSE) -> 40 | I52: =ROUND(E52*H52,2) -> 80
B53: ='Preus Unitaris'!B52 -> O-006 | C53: =VLOOKUP(B53,'Preus Unitaris'!$B$2:$G$1058,2,FALSE) -> UT | D53: =VLOOKUP(B53,'Preus Unitaris'!$B$2:$G$1058,3,FALSE) -> SUBMINISTRAMENT TAPA DE FERRO FOS DE 60 x 60 cm PER INSTAL·LACIÓ EN VORERA, AMB INSCRIPCIÓ. | E53: ='Amidaments Generals'!G51 -> 2 | F53: =VLOOKUP(B53,'Preus Unitaris'!$B$2:$G$1058,4,FALSE) -> 67.227 | G53: =VLOOKUP(B53,'Preus Unitaris'!$B$2:$G$1058,5,FALSE) -> 12.77 | H53: =VLOOKUP(B53,'Preus Unitaris'!$B$2:$G$1058,6,FALSE) -> 80 | I53: =ROUND(E53*H53,2) -> 160
B54: ='Preus Unitaris'!B53 -> O-007 | C54: =VLOOKUP(B54,'Preus Unitaris'!$B$2:$G$1058,2,FALSE) -> UT | D54: =VLOOKUP(B54,'Preus Unitaris'!$B$2:$G$1058,3,FALSE) -> REPARACIÓ D'ESTRUCTURA INTERIOR DE PERICÓ EXISTENT DE 60 x 60 cm, AMB ADEQUACIÓ DE PARETS I LLISCAT. TOTALMENT EXECUTAT. | E54: ='Amidaments Generals'!G52 -> 0 | F54: =VLOOKUP(B54,'Preus Unitaris'!$B$2:$G$1058,4,FALSE) -> 68.908 | G54: =VLOOKUP(B54,'Preus Unitaris'!$B$2:$G$1058,5,FALSE) -> 13.09 | H54: =VLOOKUP(B54,'Preus Unitaris'!$B$2:$G$1058,6,FALSE) -> 82 | I54: =ROUND(E54*H54,2) -> 0
B55: ='Preus Unitaris'!B54 -> O-008 | C55: =VLOOKUP(B55,'Preus Unitaris'!$B$2:$G$1058,2,FALSE) -> UT | D55: =VLOOKUP(B55,'Preus Unitaris'!$B$2:$G$1058,3,FALSE) -> INTERCEPTAR CANALITZACIÓ EXISTENT / EMBOCADURA PERICÓ EXISTENT. | E55: ='Amidaments Generals'!G53 -> 2 | F55: =VLOOKUP(B55,'Preus Unitaris'!$B$2:$G$1058,4,FALSE) -> 155.462 | G55: =VLOOKUP(B55,'Preus Unitaris'!$B$2:$G$1058,5,FALSE) -> 29.54 | H55: =VLOOKUP(B55,'Preus Unitaris'!$B$2:$G$1058,6,FALSE) -> 185 | I55: =ROUND(E55*H55,2) -> 370
B56: ='Preus Unitaris'!B55 -> O-009 | C56: =VLOOKUP(B56,'Preus Unitaris'!$B$2:$G$1058,2,FALSE) -> ML | D56: =VLOOKUP(B56,'Preus Unitaris'!$B$2:$G$1058,3,FALSE) -> COMPROVACIÓ I MANDRINATGE DE CANALITZACIÓ EXISTENT DEIXANT PASSAT FIL GUIA. | E56: ='Amidaments Generals'!G54 -> 20 | F56: =VLOOKUP(B56,'Preus Unitaris'!$B$2:$G$1058,4,FALSE) -> 1.261 | G56: =VLOOKUP(B56,'Preus Unitaris'!$B$2:$G$1058,5,FALSE) -> 0.24 | H56: =VLOOKUP(B56,'Preus Unitaris'!$B$2:$G$1058,6,FALSE) -> 1.5 | I56: =ROUND(E56*H56,2) -> 30
B57: ='Preus Unitaris'!B56 -> O-010 | C57: =VLOOKUP(B57,'Preus Unitaris'!$B$2:$G$1058,2,FALSE) -> ML | D57: =VLOOKUP(B57,'Preus Unitaris'!$B$2:$G$1058,3,FALSE) -> CANALITZACIÓ EN VORERA INCLOENT SUBMINISTRAMENT I INSTAL·LACIÓ DE 2 TUBS DE PE ø 11 cm. DE DOBLE CAPA, LLIS A L'INTERIOR I CORRUGAT A L'EXTERIOR, INCLÒS EXCAVACIÓ EN RASA DE 40 x 68 cm. DE PROFUNDITAT, BASE I PROTECCIÓ DE FORMIGÓ HM20, EN VORERES DE PANOT INCLÒS LA SEVA REPOSICIÓ. TOTALMENT EXECUTADA D'ACORD AMB LES ORDENANCES MUNICIPALS I INDICACIONS PARTICULARS. | E57: ='Amidaments Generals'!G55 -> 0 | F57: =VLOOKUP(B57,'Preus Unitaris'!$B$2:$G$1058,4,FALSE) -> 71.429 | G57: =VLOOKUP(B57,'Preus Unitaris'!$B$2:$G$1058,5,FALSE) -> 13.57 | H57: =VLOOKUP(B57,'Preus Unitaris'!$B$2:$G$1058,6,FALSE) -> 85 | I57: =ROUND(E57*H57,2) -> 0
B58: ='Preus Unitaris'!B57 -> O-011 | C58: =VLOOKUP(B58,'Preus Unitaris'!$B$2:$G$1058,2,FALSE) -> ML | D58: =VLOOKUP(B58,'Preus Unitaris'!$B$2:$G$1058,3,FALSE) -> CANALITZACIÓ EN CALÇADA INCLÒS SUBMINISTRAMENT I INSTAL·LACIÓ DE 2 TUBS DE PE ø 11 cm. DE DOBLE CAPA, LLIS A L'INTERIOR I CORRUGAT A L'EXTERIOR, INCLÒS EXCAVACIÓ EN RASA DE 68 x 80 cm. DE PROFUNDITAT, BASE I PROTECCIÓ DE FORMIGÓ HM20, EN CALÇADES. INCLOSA REPOSICIÓ PAVIMENT AGLOMERAT ASFÀLTIC SEGONS ELS PLÀNOLS DEL PROJECTE. TOTALMENT EXECUTADA D'ACORD AMB LES ORDENANCES MUNICIPALS I PLEC DE CONDICIONS. | E58: ='Amidaments Generals'!G56 -> 0 | F58: =VLOOKUP(B58,'Preus Unitaris'!$B$2:$G$1058,4,FALSE) -> 149.58 | G58: =VLOOKUP(B58,'Preus Unitaris'!$B$2:$G$1058,5,FALSE) -> 28.42 | H58: =VLOOKUP(B58,'Preus Unitaris'!$B$2:$G$1058,6,FALSE) -> 178 | I58: =ROUND(E58*H58,2) -> 0
B59: ='Preus Unitaris'!B58 -> O-012 | C59: =VLOOKUP(B59,'Preus Unitaris'!$B$2:$G$1058,2,FALSE) -> ML | D59: =VLOOKUP(B59,'Preus Unitaris'!$B$2:$G$1058,3,FALSE) -> CANALITZACIÓ EN CALÇADA INCLÒS SUBMINISTRAMENT I INSTAL·LACIÓ DE 4 TUBS DE PE ø 11 cm. DE DOBLE CAPA, LLIS A L'INTERIOR I CORRUGAT A L'EXTERIOR, INCLÒS EXCAVACIÓ EN RASA DE 68 x 80 cm. DE PROFUNDITAT, BASE I PROTECCIÓ DE FORMIGÓ HM20, EN CALÇADES. INCLOSA REPOSICIÓ PAVIMENT AGLOMERAT ASFÀLTIC, SEGONS PLÀNOLS DEL PROJECTE. TOTALMENT EXECUTADA D'ACORD AMB LES ORDENANCES MUNICIPALS I PLEC DE CONDICIONS. | E59: ='Amidaments Generals'!G57 -> 0 | F59: =VLOOKUP(B59,'Preus Unitaris'!$B$2:$G$1058,4,FALSE) -> 155.462 | G59: =VLOOKUP(B59,'Preus Unitaris'!$B$2:$G$1058,5,FALSE) -> 29.54 | H59: =VLOOKUP(B59,'Preus Unitaris'!$B$2:$G$1058,6,FALSE) -> 185 | I59: =ROUND(E59*H59,2) -> 0
... B71: ='Preus Unitaris'!B70 -> O-024 | C71: =VLOOKUP(B71,'Preus Unitaris'!$B$2:$G$1058,2,FALSE) -> UT | D71: =VLOOKUP(B71,'Preus Unitaris'!$B$2:$G$1058,3,FALSE) -> RETIRADA, TRASLLAT I INSTAL·LACIÓ DE PAPERERA, INCLOSOS MITJANS I MATERIALS NECESSARIS. | E71: ='Amidaments Generals'!G69 -> 0 | F71: =VLOOKUP(B71,'Preus Unitaris'!$B$2:$G$1058,4,FALSE) -> 75.63 | G71: =VLOOKUP(B71,'Preus Unitaris'!$B$2:$G$1058,5,FALSE) -> 14.37 | H71: =VLOOKUP(B71,'Preus Unitaris'!$B$2:$G$1058,6,FALSE) -> 90 | I71: =ROUND(E71*H71,2) -> 0
D72: Subtotal Obra Civil | I72: =SUM(I48:I71) -> 1555
B74: INSTAL·LACIÓ ELÈCTRICA
B75: ='Preus Unitaris'!B73 -> I-001 | C75: =VLOOKUP(B75,'Preus Unitaris'!$B$2:$G$1058,2,FALSE) -> UT | D75: =VLOOKUP(B75,'Preus Unitaris'!$B$2:$G$1058,3,FALSE) -> SUBMINISTRAMENT D'EQUIPAMENTS ESPECÍFICS PER LA DISTRIBUCIÓ D'ENERGIA DEL PUNT DE CONTROL, CONSISTENTS EN PROTECCIONS ELÈCTRIQUES CONTRA SOBRETENSIONS TRANSITÒRIES (1 UT) I PERMANENTS (1 UT), DIFERENCIALS (FINS A 2 UT), MAGNETOTÈRMICS (FINS A 3 UT) I PRESA DE CORRENT TIPUS SCHUKO (1 UT). | E75: ='Amidaments Generals'!G71 -> 1 | F75: =VLOOKUP(B75,'Preus Unitaris'!$B$2:$G$1058,4,FALSE) -> 268.908 | G75: =VLOOKUP(B75,'Preus Unitaris'!$B$2:$G$1058,5,FALSE) -> 51.09 | H75: =VLOOKUP(B75,'Preus Unitaris'!$B$2:$G$1058,6,FALSE) -> 320 | I75: =ROUND(E75*H75,2) -> 320
B76: ='Preus Unitaris'!B74 -> I-002 | C76: =VLOOKUP(B76,'Preus Unitaris'!$B$2:$G$1058,2,FALSE) -> UT | D76: =VLOOKUP(B76,'Preus Unitaris'!$B$2:$G$1058,3,FALSE) -> INSTAL·LACIÓ D'EQUIPAMENTS ESPECÍFICS PER LA DISTRIBUCIÓ D'ENERGIA DEL PUNT DE CONTROL. | E76: ='Amidaments Generals'!G72 -> 1 | F76: =VLOOKUP(B76,'Preus Unitaris'!$B$2:$G$1058,4,FALSE) -> 68.067 | G76: =VLOOKUP(B76,'Preus Unitaris'!$B$2:$G$1058,5,FALSE) -> 12.93 | H76: =VLOOKUP(B76,'Preus Unitaris'!$B$2:$G$1058,6,FALSE) -> 81 | I76: =ROUND(E76*H76,2) -> 81
